BEGIN:VCALENDAR
VERSION:2.0
PRODID:-//Fundación Caja Rural del Sur - ECPv6.15.17//NONSGML v1.0//EN
CALSCALE:GREGORIAN
METHOD:PUBLISH
X-ORIGINAL-URL:https://fundacioncajaruraldelsur.com/pt
X-WR-CALDESC:Eventos para Fundación Caja Rural del Sur
REFRESH-INTERVAL;VALUE=DURATION:PT1H
X-Robots-Tag:noindex
X-PUBLISHED-TTL:PT1H
BEGIN:VTIMEZONE
TZID:Europe/Helsinki
BEGIN:DAYLIGHT
TZOFFSETFROM:+0200
TZOFFSETTO:+0300
TZNAME:EEST
DTSTART:20190331T010000
END:DAYLIGHT
BEGIN:STANDARD
TZOFFSETFROM:+0300
TZOFFSETTO:+0200
TZNAME:EET
DTSTART:20191027T010000
END:STANDARD
BEGIN:DAYLIGHT
TZOFFSETFROM:+0200
TZOFFSETTO:+0300
TZNAME:EEST
DTSTART:20200329T010000
END:DAYLIGHT
BEGIN:STANDARD
TZOFFSETFROM:+0300
TZOFFSETTO:+0200
TZNAME:EET
DTSTART:20201025T010000
END:STANDARD
BEGIN:DAYLIGHT
TZOFFSETFROM:+0200
TZOFFSETTO:+0300
TZNAME:EEST
DTSTART:20210328T010000
END:DAYLIGHT
BEGIN:STANDARD
TZOFFSETFROM:+0300
TZOFFSETTO:+0200
TZNAME:EET
DTSTART:20211031T010000
END:STANDARD
END:VTIMEZONE
BEGIN:VEVENT
DTSTART;TZID=Europe/Helsinki:20200121T190000
DTEND;TZID=Europe/Helsinki:20200121T200000
DTSTAMP:20260425T152618
CREATED:20200117T150226Z
LAST-MODIFIED:20200117T150226Z
UID:10000503-1579633200-1579636800@fundacioncajaruraldelsur.com
SUMMARY:Presentación del libro: "Atreverse"
DESCRIPTION:El próximo 21 de enero acogemos en nuestro centro cultural de Sevilla la presentación del libro Atreverse\, de Victoria Elisabeth Nowak Hrádek y José Carlos Arellano Ramos. \nDe la mano de Antonio Tristancho\, y acompañados de la música de Rosa María Contrera López\, ofrecerán una presentación centrada en su filosofía de vida: «Se necesita más que el cerebro para cambiar». \nLa obra\, en opinión de los dos poetas\, “desafía a ver y no mirar\, a comprobar qué cambios tendrás que hacer en tu vida para lograr lo que realmente tienes que lograr. Abordado de una manera distinta\, completa\, hasta el punto de desafiarte a entender que el amor no sólo está compuesto por las emociones efímeras que envuelven al enamoramiento”. \nEn este libro\, Arellano y Nowak proponen “atreverse\, resetear tu presente\, desaprender lo que no te construye\, aprender lo que te construye como persona\, atreverse a cambiar\, a dejar en el camino lo que te hace mal\, a escalar la montaña más grande de todas\, que es tu interior\, a ver las cosas pequeñas de la vida que pasan desapercibidas por la velocidad que llevamos”.
URL:https://fundacioncajaruraldelsur.com/pt/evento/presentacion-del-libro-atreverse/
LOCATION:Fundación Caja Rural del Sur Sevilla\, C/ Murillo\, 2\, Sevilla\, Sevilla\, 41001\, España
CATEGORIES:Presentaciones
ATTACH;FMTTYPE=image/jpeg:https://fundacioncajaruraldelsur.com/wp-content/uploads/2019/09/Exposicion_foto.jpg
GEO:37.2583599;-6.9535303
X-APPLE-STRUCTURED-LOCATION;VALUE=URI;X-ADDRESS=Fundación Caja Rural del Sur Sevilla C/ Murillo 2 Sevilla Sevilla 41001 España;X-APPLE-RADIUS=500;X-TITLE=C/ Murillo\, 2:geo:-6.9535303,37.2583599
END:VEVENT
END:VCALENDAR