BEGIN:VCALENDAR
VERSION:2.0
PRODID:-//Fundación Caja Rural del Sur - ECPv6.15.17//NONSGML v1.0//EN
CALSCALE:GREGORIAN
METHOD:PUBLISH
X-ORIGINAL-URL:https://fundacioncajaruraldelsur.com/pt
X-WR-CALDESC:Eventos para Fundación Caja Rural del Sur
REFRESH-INTERVAL;VALUE=DURATION:PT1H
X-Robots-Tag:noindex
X-PUBLISHED-TTL:PT1H
BEGIN:VTIMEZONE
TZID:Europe/Helsinki
BEGIN:DAYLIGHT
TZOFFSETFROM:+0200
TZOFFSETTO:+0300
TZNAME:EEST
DTSTART:20180325T010000
END:DAYLIGHT
BEGIN:STANDARD
TZOFFSETFROM:+0300
TZOFFSETTO:+0200
TZNAME:EET
DTSTART:20181028T010000
END:STANDARD
BEGIN:DAYLIGHT
TZOFFSETFROM:+0200
TZOFFSETTO:+0300
TZNAME:EEST
DTSTART:20190331T010000
END:DAYLIGHT
BEGIN:STANDARD
TZOFFSETFROM:+0300
TZOFFSETTO:+0200
TZNAME:EET
DTSTART:20191027T010000
END:STANDARD
BEGIN:DAYLIGHT
TZOFFSETFROM:+0200
TZOFFSETTO:+0300
TZNAME:EEST
DTSTART:20200329T010000
END:DAYLIGHT
BEGIN:STANDARD
TZOFFSETFROM:+0300
TZOFFSETTO:+0200
TZNAME:EET
DTSTART:20201025T010000
END:STANDARD
END:VTIMEZONE
BEGIN:VEVENT
DTSTART;TZID=Europe/Helsinki:20191202T190000
DTEND;TZID=Europe/Helsinki:20191202T210000
DTSTAMP:20260426T015837
CREATED:20191115T223301Z
LAST-MODIFIED:20191129T191741Z
UID:10000637-1575313200-1575320400@fundacioncajaruraldelsur.com
SUMMARY:Presentación del libro: 'Coma inefable'\, de Serafín Correa
DESCRIPTION:Natural de Huelva\, cursó primaria en el colegio Giner de los Ríos de su ciudad. Luego estudiaría automoción en el instituto de Los Salesianos\, también en Huelva. \nEn el año 2013 sufrió un ICTUS que lo motivó a indagar en el mundo de la Neuropsicología\, al que le dedica su esfuerzo y trabajo sin pretensiones económicas\, ya que escribir e investigar sobre el cerebro y comportamiento humano son sus debilidades. \n \nLA VOZ DEL EDITOR\nEsta no es una sinopsis\, es la voz de un editor que aprende: \nEste no es un libro de superación. Esta es la historia de vida de una persona que comprende la realidad que le rodea mejor que ella misma\, con más lucidez y honestidad que cuando caminaba en una libertad llena de ataduras. Y con esto no trata de negar su voluntad y lucha para volver a erguir en plenitud su cuerpo y correr\, nadar o montar en bicicleta. No lo niega y grita que amaría el volver a hacerlo\, con una voz silenciosa y clara\, con la que da forma a un mensaje que nos enseña a comprender no únicamente cómo un ser humano afronta una etapa de su vida\, también nos muestra los mecanismos y protocolos que llevan a cabo las instituciones sanitarias en nuestro país en estos casos\, para que reflexionemos\, para que debatamos\, para que todos\, aunque parezca que queda fuera de nuestras atribuciones o papel en la sociedad\, aportemos ideas y humanidad\, ambas en un mismo grado.
URL:https://fundacioncajaruraldelsur.com/pt/evento/presentacion-del-libro-coma-inefable-de-serafin-correa/
LOCATION:Fundación Caja Rural del Sur Huelva\, C/ Alcalde Mora Claros 6-8\, Huelva\, Huelva\, 21001\, España
CATEGORIES:Presentaciones
ATTACH;FMTTYPE=image/jpeg:https://fundacioncajaruraldelsur.com/wp-content/uploads/2019/09/Cerebro_EM.jpg
GEO:37.2583599;-6.9535303
X-APPLE-STRUCTURED-LOCATION;VALUE=URI;X-ADDRESS=Fundación Caja Rural del Sur Huelva C/ Alcalde Mora Claros 6-8 Huelva Huelva 21001 España;X-APPLE-RADIUS=500;X-TITLE=C/ Alcalde Mora Claros 6-8:geo:-6.9535303,37.2583599
END:VEVENT
END:VCALENDAR