BEGIN:VCALENDAR
VERSION:2.0
PRODID:-//Fundación Caja Rural del Sur - ECPv6.15.17//NONSGML v1.0//EN
CALSCALE:GREGORIAN
METHOD:PUBLISH
X-ORIGINAL-URL:https://fundacioncajaruraldelsur.com/pt
X-WR-CALDESC:Eventos para Fundación Caja Rural del Sur
REFRESH-INTERVAL;VALUE=DURATION:PT1H
X-Robots-Tag:noindex
X-PUBLISHED-TTL:PT1H
BEGIN:VTIMEZONE
TZID:Europe/Helsinki
BEGIN:DAYLIGHT
TZOFFSETFROM:+0200
TZOFFSETTO:+0300
TZNAME:EEST
DTSTART:20190331T010000
END:DAYLIGHT
BEGIN:STANDARD
TZOFFSETFROM:+0300
TZOFFSETTO:+0200
TZNAME:EET
DTSTART:20191027T010000
END:STANDARD
BEGIN:DAYLIGHT
TZOFFSETFROM:+0200
TZOFFSETTO:+0300
TZNAME:EEST
DTSTART:20200329T010000
END:DAYLIGHT
BEGIN:STANDARD
TZOFFSETFROM:+0300
TZOFFSETTO:+0200
TZNAME:EET
DTSTART:20201025T010000
END:STANDARD
BEGIN:DAYLIGHT
TZOFFSETFROM:+0200
TZOFFSETTO:+0300
TZNAME:EEST
DTSTART:20210328T010000
END:DAYLIGHT
BEGIN:STANDARD
TZOFFSETFROM:+0300
TZOFFSETTO:+0200
TZNAME:EET
DTSTART:20211031T010000
END:STANDARD
END:VTIMEZONE
BEGIN:VEVENT
DTSTART;TZID=Europe/Helsinki:20201118T173000
DTEND;TZID=Europe/Helsinki:20201118T173000
DTSTAMP:20260421T035847
CREATED:20201103T125138Z
LAST-MODIFIED:20201103T125138Z
UID:10000692-1605720600-1605720600@fundacioncajaruraldelsur.com
SUMMARY:Jornadas virtuales: Cooperativas agroalimentarias frente al Covid-19
DESCRIPTION:El próximo miércoles 18 de noviembre\, tendrá lugar el inicio de las jornadas virtuales de formación específica para las cooperativas agroalimentarias frente al COVID-19. San Telmo Business School consciente de la preocupación por parte de los Consejos Rectores para gobernar las Cooperativas en las circunstancias que nos rodean\, lanza junto a Caja Rural del Sur\, cuatro sesiones gratuitas imprescindibles para afrontar esta crisis. \nEsta alianza aúna el profundo conocimiento que la escuela de negocios tiene del entorno y tejido empresarial\, así como en formación especializada; con la experiencia en asesoramiento y planificación financiera en el sector agro de Caja Rural del Sur. Ambas entidades\, comprometidas con la actividad empresarial\, han apostado por ofrecer estas jornadas frente al COVID-19 de forma gratuita. \nLos participantes adquirirán las habilidades necesarias para interpretar el mercado y el negocio\, supervisar la evolución de la Cooperativa\, asegurar la solvencia y la liquidez\, así como a gobernar y liderar con eficacia. \nLa escuela de negocios\, que se mantiene a la vanguardia tecnológica\, emitirá las jornadas orientadas a afrontar las consecuencias del COVID-19 mediante sesiones virtuales para mayor seguridad de los participantes\, especialmente aquellos que están en zonas preventivas o confinadas. \nLas jornadas contarán con la presencia del Director General de AGRO Sevilla\, Julio Roda; Eduardo José Fernández\, Director General Carnes y Vegetales\, SL y Enrique de los Ríos\, Gerente de Unica Group. Asimismo\, impartirán sesiones los profesores de San Telmo Business School: Bartolomé Alarcón Cuenca\, Josep Mor Figueras\, Miguel Ángel Llano Irusta y Raúl Adrián Ibañez Trianteno. \nDesde el principio\, el objetivo de San Telmo es dar respuesta a los directivos y empresarios que necesiten anticiparse a los cambios y prever escenarios futuros. Por ello\, estas jornadas virtuales están dirigidas a miembros del Consejo Rector de Cooperativas Agroalimentarias y Cooperativas de todos los eslabones de la Cadena Agroalimentaria (agrícola\, ganadera\, suministros\, industria\, distribución y servicios). \nSan Telmo Business School\nLa Fundación San Telmo es una institución sin ánimo de lucro\, cuyo fin es el desarrollo económico y empresarial de la sociedad. En 1982\, con el apoyo académico de IESE Business School\, creó un Centro Internacional de Formación y Perfeccionamiento para la Alta Dirección de Empresas e Instituciones privadas y públicas: San Telmo Business School. Desde su inicio\, más de 11.000 empresarios y altos directivos han realizado un programa de formación o perfeccionamiento en San Telmo. Cuenta con dos sedes permanentes en Sevilla y Málaga. \nCaja Rural del Sur\nCaja Rural del Sur y su Fundación vienen apoyando desde hace años todas las iniciativas que en el campo de la formación puedan ser beneficiosas para la actualización de la gestión del sector agroalimentario\, sobre todo las cooperativas\, especialmente en Córdoba\, Sevilla\, Huelva\, Cádiz y Málaga\, provincias de Andalucía donde se desarrolla nuestra actividad. Caja Rural del Sur considera que ésta es la mejor manera de lograr el avance de esta actividad productiva\, tan importante en la economía andaluza\, en unos mercados cada vez más competitivos y globalizados. Por tal motivo\, esta entidad está al lado de la Fundación San Telmo en esta tarea de favorecer todas sus iniciativas académicas\, que vayan dirigidas a alcanzar estos objetivos\, que no son otros que la modernización y progreso del mundo rural y cooperativo. \n  \n*Más información:\nhttps://cooperativas.santelmo.org \n*Inscripción:\nhttps://alumni.santelmo.org/formulario-registro-evento/?id=85 \n 
URL:https://fundacioncajaruraldelsur.com/pt/evento/jornadas-virtuales-cooperativas-agroalimentarias-frente-al-covid-19/
LOCATION:Fundación Caja Rural del Sur Sevilla\, C/ Murillo\, 2\, Sevilla\, Sevilla\, 41001\, España
CATEGORIES:conferencias
ATTACH;FMTTYPE=image/jpeg:https://fundacioncajaruraldelsur.com/wp-content/uploads/2020/11/Campo_Jornadas.jpg
GEO:37.2583599;-6.9535303
X-APPLE-STRUCTURED-LOCATION;VALUE=URI;X-ADDRESS=Fundación Caja Rural del Sur Sevilla C/ Murillo 2 Sevilla Sevilla 41001 España;X-APPLE-RADIUS=500;X-TITLE=C/ Murillo\, 2:geo:-6.9535303,37.2583599
END:VEVENT
END:VCALENDAR