BEGIN:VCALENDAR
VERSION:2.0
PRODID:-//Fundación Caja Rural del Sur - ECPv6.15.17//NONSGML v1.0//EN
CALSCALE:GREGORIAN
METHOD:PUBLISH
X-ORIGINAL-URL:https://fundacioncajaruraldelsur.com/pt
X-WR-CALDESC:Eventos para Fundación Caja Rural del Sur
REFRESH-INTERVAL;VALUE=DURATION:PT1H
X-Robots-Tag:noindex
X-PUBLISHED-TTL:PT1H
BEGIN:VTIMEZONE
TZID:Europe/Helsinki
BEGIN:DAYLIGHT
TZOFFSETFROM:+0200
TZOFFSETTO:+0300
TZNAME:EEST
DTSTART:20180325T010000
END:DAYLIGHT
BEGIN:STANDARD
TZOFFSETFROM:+0300
TZOFFSETTO:+0200
TZNAME:EET
DTSTART:20181028T010000
END:STANDARD
BEGIN:DAYLIGHT
TZOFFSETFROM:+0200
TZOFFSETTO:+0300
TZNAME:EEST
DTSTART:20190331T010000
END:DAYLIGHT
BEGIN:STANDARD
TZOFFSETFROM:+0300
TZOFFSETTO:+0200
TZNAME:EET
DTSTART:20191027T010000
END:STANDARD
BEGIN:DAYLIGHT
TZOFFSETFROM:+0200
TZOFFSETTO:+0300
TZNAME:EEST
DTSTART:20200329T010000
END:DAYLIGHT
BEGIN:STANDARD
TZOFFSETFROM:+0300
TZOFFSETTO:+0200
TZNAME:EET
DTSTART:20201025T010000
END:STANDARD
END:VTIMEZONE
BEGIN:VEVENT
DTSTART;TZID=Europe/Helsinki:20190513T200000
DTEND;TZID=Europe/Helsinki:20190524T210000
DTSTAMP:20260423T222145
CREATED:20190510T151639Z
LAST-MODIFIED:20190513T135828Z
UID:10000532-1557777600-1558731600@fundacioncajaruraldelsur.com
SUMMARY:Exposición: 'Tradiciones'
DESCRIPTION:El próximo 13 de mayo inauguramos en el Centro Cultural José Luis García Palacios\, la Exposición Mixta del Patrimonio cultural de El Cerro de Andévalo y su Romería a San Benito Abad.  \nLa charla de Presentación eón correrá a cargo de D. Pedro J. Pérez. \nEsta singular romería\, que finaliza el 9 de mayo\, es la más antigua de la provincia de Huelva\, es considerada de interés turístico nacional de Andalucía. Este año además\, es especial puesto que se celebra el 425 aniversario de la constitución de la Hermandad San Benito Abad. \n 
URL:https://fundacioncajaruraldelsur.com/pt/evento/exposicion-tradiciones-huelva/
LOCATION:Fundación Caja Rural del Sur Huelva\, C/ Alcalde Mora Claros 6-8\, Huelva\, Huelva\, 21001\, España
CATEGORIES:Exposición
ATTACH;FMTTYPE=image/jpeg:https://fundacioncajaruraldelsur.com/wp-content/uploads/2019/05/Romeria_San_Benito.jpg
GEO:37.2583599;-6.9535303
X-APPLE-STRUCTURED-LOCATION;VALUE=URI;X-ADDRESS=Fundación Caja Rural del Sur Huelva C/ Alcalde Mora Claros 6-8 Huelva Huelva 21001 España;X-APPLE-RADIUS=500;X-TITLE=C/ Alcalde Mora Claros 6-8:geo:-6.9535303,37.2583599
END:VEVENT
BEGIN:VEVENT
DTSTART;TZID=Europe/Helsinki:20190515T190000
DTEND;TZID=Europe/Helsinki:20190515T190000
DTSTAMP:20260423T222145
CREATED:20190513T164944Z
LAST-MODIFIED:20190513T164944Z
UID:10000535-1557946800-1557946800@fundacioncajaruraldelsur.com
SUMMARY:Entrevista al psicólogo Manuel Salgado F.
DESCRIPTION:El próximo 15 de mayo a las 19 horas organizamos en el salón de actos de Caja Rural del Sur de Sevilla\, la entrevista al psicólogo Manuel Salgado F. por parte de la periodista Nuria del Saz G.  \nEl tema central del acto será: Ser psicólogo más allá de la Universidad. \nMANUEL SALGADO F.\n\nDirector de CAIRYS. Psicología y Bienestar.\nPsicólogo Clínico.\nFormación variada en Psicología realizada en diversas universidades.\nDilatado bagaje en el mundo de la Psicoterapia y Mejora del Rendimiento (25 años).\nProfesor del Aula de la Experiencia de la US y de la UPO.\nAmplia participación en medios de comunicación\, destacando Telecable Andalucía\, Correo TV\, COPE Radio\, Estadio Deportivo y Canal Sur.\nAutor y Compilador de diferentes obras literarias.\n\n  \n \n 
URL:https://fundacioncajaruraldelsur.com/pt/evento/entrevista-al-psicologo-manuel-salgado-f/
LOCATION:Fundación Caja Rural del Sur Sevilla\, C/ Murillo\, 2\, Sevilla\, Sevilla\, 41001\, España
CATEGORIES:conferencias
ATTACH;FMTTYPE=image/jpeg:https://fundacioncajaruraldelsur.com/wp-content/uploads/2019/05/Psicology.jpg
GEO:37.2583599;-6.9535303
X-APPLE-STRUCTURED-LOCATION;VALUE=URI;X-ADDRESS=Fundación Caja Rural del Sur Sevilla C/ Murillo 2 Sevilla Sevilla 41001 España;X-APPLE-RADIUS=500;X-TITLE=C/ Murillo\, 2:geo:-6.9535303,37.2583599
END:VEVENT
END:VCALENDAR