BEGIN:VCALENDAR
VERSION:2.0
PRODID:-//Fundación Caja Rural del Sur - ECPv6.15.17//NONSGML v1.0//EN
CALSCALE:GREGORIAN
METHOD:PUBLISH
X-ORIGINAL-URL:https://fundacioncajaruraldelsur.com
X-WR-CALDESC:Eventos para Fundación Caja Rural del Sur
REFRESH-INTERVAL;VALUE=DURATION:PT1H
X-Robots-Tag:noindex
X-PUBLISHED-TTL:PT1H
BEGIN:VTIMEZONE
TZID:Europe/Helsinki
BEGIN:DAYLIGHT
TZOFFSETFROM:+0200
TZOFFSETTO:+0300
TZNAME:EEST
DTSTART:20190331T010000
END:DAYLIGHT
BEGIN:STANDARD
TZOFFSETFROM:+0300
TZOFFSETTO:+0200
TZNAME:EET
DTSTART:20191027T010000
END:STANDARD
BEGIN:DAYLIGHT
TZOFFSETFROM:+0200
TZOFFSETTO:+0300
TZNAME:EEST
DTSTART:20200329T010000
END:DAYLIGHT
BEGIN:STANDARD
TZOFFSETFROM:+0300
TZOFFSETTO:+0200
TZNAME:EET
DTSTART:20201025T010000
END:STANDARD
BEGIN:DAYLIGHT
TZOFFSETFROM:+0200
TZOFFSETTO:+0300
TZNAME:EEST
DTSTART:20210328T010000
END:DAYLIGHT
BEGIN:STANDARD
TZOFFSETFROM:+0300
TZOFFSETTO:+0200
TZNAME:EET
DTSTART:20211031T010000
END:STANDARD
END:VTIMEZONE
BEGIN:VEVENT
DTSTART;TZID=Europe/Helsinki:20200727T213000
DTEND;TZID=Europe/Helsinki:20200727T213000
DTSTAMP:20260424T012013
CREATED:20200721T155752Z
LAST-MODIFIED:20200721T155752Z
UID:10000678-1595885400-1595885400@fundacioncajaruraldelsur.com
SUMMARY:Concierto homenaje a los sanitarios\, fuerzas y cuerpos de seguridad de Córdoba por su lucha contra el COVID19
DESCRIPTION:LOS EMPRESARIOS DICEN: GRACIAS CÓRDOBA\nConcierto en reconocimiento de los empresarios a los sanitarios y las fuerzas y cuerpos de seguridad \nLa Confederación de Empresarios de Córdoba\, en colaboración con el Ayuntamiento de Córdoba\, la Diputación\, la Junta de Andalucía\, la Subdelegación del Gobierno y el Cabildo Catedral de Córdoba\, junto a SADECO\, el IMTUR\, la Orquesta de Córdoba\, Bankia\, la Fundación Caja Rural\, Cemento Cosmos\, ENRESA\, Cervezas Alhambra y el Grupo PACC Seguros\, y en nombre de las empresas de Córdoba\, quieren reconocer el extraordinario trabajo que los sanitarios y las fuerzas y cuerpos de seguridad están realizando en la lucha contra la COVID-19. \nLOS EMPRESARIOS DICEN: “GRACIAS CÓRDOBA” es el homenaje del tejido empresarial de nuestra provincia a los sanitarios y las fuerzas y cuerpos de seguridad\, agradeciendo su buen hacer y el esfuerzo que están realizado en este tiempo. Este acto de reconocimiento\, que contará con una representación de la Orquesta de Córdoba\, tendrá lugar el próximo lunes 27 de Julio\, en el Patio de los Naranjos de la Mezquita-Catedral de Córdoba\, a partir de las 21.30 horas. \nLa asistencia al acto es por invitación.
URL:https://fundacioncajaruraldelsur.com/evento/concierto-homenaje-a-los-sanitarios-fuerzas-y-cuerpos-de-seguridad-de-cordoba-por-su-lucha-contra-el-covid19/
LOCATION:Patio de los naranjos\, Mezquita-Catedral de Córdoba\, Calle Cardenal Herrero\, 1\, Córdoba\, Córdoba\, 14003
CATEGORIES:Conciertos
ATTACH;FMTTYPE=image/jpeg:https://fundacioncajaruraldelsur.com/wp-content/uploads/2019/07/Córdoba.jpg
END:VEVENT
END:VCALENDAR