BEGIN:VCALENDAR
VERSION:2.0
PRODID:-//Fundación Caja Rural del Sur - ECPv6.15.17//NONSGML v1.0//EN
CALSCALE:GREGORIAN
METHOD:PUBLISH
X-WR-CALNAME:Fundación Caja Rural del Sur
X-ORIGINAL-URL:https://fundacioncajaruraldelsur.com
X-WR-CALDESC:Eventos para Fundación Caja Rural del Sur
REFRESH-INTERVAL;VALUE=DURATION:PT1H
X-Robots-Tag:noindex
X-PUBLISHED-TTL:PT1H
BEGIN:VTIMEZONE
TZID:Europe/Helsinki
BEGIN:DAYLIGHT
TZOFFSETFROM:+0200
TZOFFSETTO:+0300
TZNAME:EEST
DTSTART:20170326T010000
END:DAYLIGHT
BEGIN:STANDARD
TZOFFSETFROM:+0300
TZOFFSETTO:+0200
TZNAME:EET
DTSTART:20171029T010000
END:STANDARD
BEGIN:DAYLIGHT
TZOFFSETFROM:+0200
TZOFFSETTO:+0300
TZNAME:EEST
DTSTART:20180325T010000
END:DAYLIGHT
BEGIN:STANDARD
TZOFFSETFROM:+0300
TZOFFSETTO:+0200
TZNAME:EET
DTSTART:20181028T010000
END:STANDARD
BEGIN:DAYLIGHT
TZOFFSETFROM:+0200
TZOFFSETTO:+0300
TZNAME:EEST
DTSTART:20190331T010000
END:DAYLIGHT
BEGIN:STANDARD
TZOFFSETFROM:+0300
TZOFFSETTO:+0200
TZNAME:EET
DTSTART:20191027T010000
END:STANDARD
BEGIN:DAYLIGHT
TZOFFSETFROM:+0200
TZOFFSETTO:+0300
TZNAME:EEST
DTSTART:20200329T010000
END:DAYLIGHT
BEGIN:STANDARD
TZOFFSETFROM:+0300
TZOFFSETTO:+0200
TZNAME:EET
DTSTART:20201025T010000
END:STANDARD
BEGIN:DAYLIGHT
TZOFFSETFROM:+0200
TZOFFSETTO:+0300
TZNAME:EEST
DTSTART:20210328T010000
END:DAYLIGHT
BEGIN:STANDARD
TZOFFSETFROM:+0300
TZOFFSETTO:+0200
TZNAME:EET
DTSTART:20211031T010000
END:STANDARD
END:VTIMEZONE
BEGIN:VEVENT
DTSTART;TZID=Europe/Helsinki:20201020T190000
DTEND;TZID=Europe/Helsinki:20201120T190000
DTSTAMP:20260425T140621
CREATED:20201019T114554Z
LAST-MODIFIED:20201019T114635Z
UID:10000689-1603220400-1605898800@fundacioncajaruraldelsur.com
SUMMARY:Exposición de fotografía: 'Alma de teatro'\, de María Clauss
DESCRIPTION:El próximo 20 de octubre inauguramos la exposición de fotografía Alma de Teatro\, de María Clauss\, en el Museo de Huelva\, Sala Cero.  \nCon motivo del Otoño Cultural Iberoamericano los asistentes podrán disfrutar hasta el 20 de noviembre de la magnífica obra de la artista con el arte escénico transformado en imágenes. \nMaría Clauss capta con su objetivo la esencia del teatro\, la vida de las tablas y acerca el arte a su arte. \n 
URL:https://fundacioncajaruraldelsur.com/evento/exposicion-de-fotografia-alma-de-teatro-de-maria-clauss/
LOCATION:Museo de Huelva\, Avda. Alameda Sundheim\, 13\, Huelva\, España
CATEGORIES:Exposiciones
ATTACH;FMTTYPE=image/jpeg:https://fundacioncajaruraldelsur.com/wp-content/uploads/2019/01/Exposicion_Fotografia.jpg
GEO:37.2548033;-6.9435581
X-APPLE-STRUCTURED-LOCATION;VALUE=URI;X-ADDRESS=Museo de Huelva Avda. Alameda Sundheim 13 Huelva España;X-APPLE-RADIUS=500;X-TITLE=Avda. Alameda Sundheim\, 13:geo:-6.9435581,37.2548033
END:VEVENT
BEGIN:VEVENT
DTSTART;TZID=Europe/Helsinki:20201020T190000
DTEND;TZID=Europe/Helsinki:20201020T190000
DTSTAMP:20260425T140621
CREATED:20201019T113609Z
LAST-MODIFIED:20201019T113609Z
UID:10000688-1603220400-1603220400@fundacioncajaruraldelsur.com
SUMMARY:Exposición: 'Venus Petróleo'\, de Adolfo Morales
DESCRIPTION:El próximo 20 de octubre inauguramos en Huelva la exposición Venus Petróleo\, del artista Adolfo Morales. El lugar elegido es el Museo de Huelva\, la Sala Siglo XXI\, hasta el 20 de noviembre. \nHabrá visitas guiadas los días 24 y 27 de octubre\, 7 y 10 de noviembre a las 18:45 horas. (Previa inscripción: 639916361) \nLA EXPOSICIÓN\nVenus Petróleo nace a la luz de la idea de conciliar en un tándem entre iguales\, dos artes con especialidades dispares\, la pintura y la fotografía\, rubricando un pacto de sensaciones \nAl mismo tiempo\, de esta fusión y de la mano de la inspiración de los grandes autores clásicos de la pintura de todos los tiempos\, en especial del Barroco\, surgen nuevas propuestas\, nuevas lecturas\, tal vez desmitificando\, tal vez reinterpretando\, la iconografía y sus espantos.
URL:https://fundacioncajaruraldelsur.com/evento/exposicion-venus-petroleo-de-adolfo-morales/
LOCATION:Museo de Huelva\, Avda. Alameda Sundheim\, 13\, Huelva\, España
CATEGORIES:Exposición
ATTACH;FMTTYPE=image/jpeg:https://fundacioncajaruraldelsur.com/wp-content/uploads/2020/10/Venus_Petroleo.jpg
GEO:37.2548033;-6.9435581
X-APPLE-STRUCTURED-LOCATION;VALUE=URI;X-ADDRESS=Museo de Huelva Avda. Alameda Sundheim 13 Huelva España;X-APPLE-RADIUS=500;X-TITLE=Avda. Alameda Sundheim\, 13:geo:-6.9435581,37.2548033
END:VEVENT
BEGIN:VEVENT
DTSTART;TZID=Europe/Helsinki:20180927T190000
DTEND;TZID=Europe/Helsinki:20180927T190000
DTSTAMP:20260425T140621
CREATED:20180926T141343Z
LAST-MODIFIED:20180926T160011Z
UID:10000442-1538074800-1538074800@fundacioncajaruraldelsur.com
SUMMARY:Exposición de Antonio Gálvez "Mis amigos los cabezones"
DESCRIPTION:Inauguración de la exposición «Antonio Gálvez. Mis amigos los cabezones». Realizada por el comisario Andrés Sánchez Robayna muestra una selección de fotografías y documentos procedentes de la colección del artista. Antonio Gálvez\, nacido en Barcelona en 1928 ha sido galardonado con diversos premios nacionales y internacionales. \nAdemás\, es autor y colaborador de diversas publicaciones y conocido en el mundo artístico sobre todo por sus fotomontajes relacionados con el Surrealismo. Esta muestra se expondrá por primera vez en el Museo de Huelva\, en el marco del Otoño Cultural Iberoamericano. \nLugar: Museo de Huelva. Avd. Alameda Sundheim\, 13. \n\nRECTIFICACIÓN HORA DE INAGURACIÓN: 19:00 horas.
URL:https://fundacioncajaruraldelsur.com/evento/exposicion-de-antonio-galvez-mis-amigos-cabezones/
LOCATION:Museo de Huelva\, Avda. Alameda Sundheim\, 13\, Huelva\, España
CATEGORIES:Exposiciones
ATTACH;FMTTYPE=image/jpeg:https://fundacioncajaruraldelsur.com/wp-content/uploads/2018/09/slider_event.jpg
GEO:37.2548033;-6.9435581
X-APPLE-STRUCTURED-LOCATION;VALUE=URI;X-ADDRESS=Museo de Huelva Avda. Alameda Sundheim 13 Huelva España;X-APPLE-RADIUS=500;X-TITLE=Avda. Alameda Sundheim\, 13:geo:-6.9435581,37.2548033
END:VEVENT
END:VCALENDAR