BEGIN:VCALENDAR
VERSION:2.0
PRODID:-//Fundación Caja Rural del Sur - ECPv6.15.17//NONSGML v1.0//EN
CALSCALE:GREGORIAN
METHOD:PUBLISH
X-ORIGINAL-URL:https://fundacioncajaruraldelsur.com
X-WR-CALDESC:Eventos para Fundación Caja Rural del Sur
REFRESH-INTERVAL;VALUE=DURATION:PT1H
X-Robots-Tag:noindex
X-PUBLISHED-TTL:PT1H
BEGIN:VTIMEZONE
TZID:Europe/Paris
BEGIN:DAYLIGHT
TZOFFSETFROM:+0100
TZOFFSETTO:+0200
TZNAME:CEST
DTSTART:20220327T010000
END:DAYLIGHT
BEGIN:STANDARD
TZOFFSETFROM:+0200
TZOFFSETTO:+0100
TZNAME:CET
DTSTART:20221030T010000
END:STANDARD
BEGIN:DAYLIGHT
TZOFFSETFROM:+0100
TZOFFSETTO:+0200
TZNAME:CEST
DTSTART:20230326T010000
END:DAYLIGHT
BEGIN:STANDARD
TZOFFSETFROM:+0200
TZOFFSETTO:+0100
TZNAME:CET
DTSTART:20231029T010000
END:STANDARD
BEGIN:DAYLIGHT
TZOFFSETFROM:+0100
TZOFFSETTO:+0200
TZNAME:CEST
DTSTART:20240331T010000
END:DAYLIGHT
BEGIN:STANDARD
TZOFFSETFROM:+0200
TZOFFSETTO:+0100
TZNAME:CET
DTSTART:20241027T010000
END:STANDARD
BEGIN:DAYLIGHT
TZOFFSETFROM:+0100
TZOFFSETTO:+0200
TZNAME:CEST
DTSTART:20250330T010000
END:DAYLIGHT
BEGIN:STANDARD
TZOFFSETFROM:+0200
TZOFFSETTO:+0100
TZNAME:CET
DTSTART:20251026T010000
END:STANDARD
BEGIN:DAYLIGHT
TZOFFSETFROM:+0100
TZOFFSETTO:+0200
TZNAME:CEST
DTSTART:20260329T010000
END:DAYLIGHT
BEGIN:STANDARD
TZOFFSETFROM:+0200
TZOFFSETTO:+0100
TZNAME:CET
DTSTART:20261025T010000
END:STANDARD
END:VTIMEZONE
BEGIN:VEVENT
DTSTART;TZID=Europe/Paris:20250614T080000
DTEND;TZID=Europe/Paris:20250614T170000
DTSTAMP:20260423T222415
CREATED:20250611T150614Z
LAST-MODIFIED:20250611T150614Z
UID:10001048-1749888000-1749920400@fundacioncajaruraldelsur.com
SUMMARY:2ª Jornada Intercentros - AMPA El Calvario - AMPA El Regalito - Ampa Navaluenga
DESCRIPTION:
URL:https://fundacioncajaruraldelsur.com/evento/2a-jornada-intercentros-ampa-el-calvario-ampa-el-regalito-ampa-navaluenga/
LOCATION:Fundación Caja Rural del Sur Córdoba\, calle de la Radio 1\, Córdoba\, Córdoba\, 14006\, España
CATEGORIES:Jornadas
ATTACH;FMTTYPE=image/png:https://fundacioncajaruraldelsur.com/wp-content/uploads/2023/10/Diseno-sin-titulo-26.png
END:VEVENT
BEGIN:VEVENT
DTSTART;TZID=Europe/Paris:20250507T080000
DTEND;TZID=Europe/Paris:20250530T170000
DTSTAMP:20260423T222415
CREATED:20250519T130354Z
LAST-MODIFIED:20250519T130354Z
UID:10001043-1746604800-1748624400@fundacioncajaruraldelsur.com
SUMMARY:Exposición: "Entre el cielo y el mar"\, de María Oria
DESCRIPTION:
URL:https://fundacioncajaruraldelsur.com/evento/exposicion-entre-el-cielo-y-el-mar-de-maria-oria/
LOCATION:Fundación Caja Rural del Sur Córdoba\, calle de la Radio 1\, Córdoba\, Córdoba\, 14006\, España
CATEGORIES:Exposiciones
ATTACH;FMTTYPE=image/jpeg:https://fundacioncajaruraldelsur.com/wp-content/uploads/2021/12/pintor.jpg
END:VEVENT
BEGIN:VEVENT
DTSTART;TZID=Europe/Paris:20250212T110000
DTEND;TZID=Europe/Paris:20250312T210000
DTSTAMP:20260423T222415
CREATED:20250131T120928Z
LAST-MODIFIED:20250131T120928Z
UID:10001031-1739358000-1741813200@fundacioncajaruraldelsur.com
SUMMARY:Exposición: "Ebria de carne azul"\, de Ana Martínez
DESCRIPTION:
URL:https://fundacioncajaruraldelsur.com/evento/exposicion-ebria-de-carne-azul-de-ana-martinez/
LOCATION:Fundación Caja Rural del Sur Córdoba\, calle de la Radio 1\, Córdoba\, Córdoba\, 14006\, España
CATEGORIES:Exposición
ATTACH;FMTTYPE=image/jpeg:https://fundacioncajaruraldelsur.com/wp-content/uploads/2021/12/pintor.jpg
END:VEVENT
BEGIN:VEVENT
DTSTART;TZID=Europe/Paris:20250128T080000
DTEND;TZID=Europe/Paris:20250207T170000
DTSTAMP:20260423T222415
CREATED:20250128T140720Z
LAST-MODIFIED:20250128T140720Z
UID:10001029-1738051200-1738947600@fundacioncajaruraldelsur.com
SUMMARY:Exposición de Lola J. Valiente: "Kaze no Ugoki"
DESCRIPTION:
URL:https://fundacioncajaruraldelsur.com/evento/exposicion-de-lola-j-valiente-kaze-no-ugoki/
LOCATION:Fundación Caja Rural del Sur Córdoba\, calle de la Radio 1\, Córdoba\, Córdoba\, 14006\, España
CATEGORIES:Exposiciones
ATTACH;FMTTYPE=image/png:https://fundacioncajaruraldelsur.com/wp-content/uploads/2022/02/pintura.png
END:VEVENT
BEGIN:VEVENT
DTSTART;TZID=Europe/Paris:20241219T193000
DTEND;TZID=Europe/Paris:20241219T200000
DTSTAMP:20260423T222415
CREATED:20241216T093739Z
LAST-MODIFIED:20241216T093739Z
UID:10001024-1734636600-1734638400@fundacioncajaruraldelsur.com
SUMMARY:Presentación novela: "Los pulsos que nos doblegan"\, de Rafael del Campo Vázquez
DESCRIPTION:
URL:https://fundacioncajaruraldelsur.com/evento/presentacion-novela-los-pulsos-que-nos-doblegan-de-rafael-del-campo-vazquez/
LOCATION:Fundación Caja Rural del Sur Córdoba\, calle de la Radio 1\, Córdoba\, Córdoba\, 14006\, España
CATEGORIES:Presentaciones
ATTACH;FMTTYPE=image/png:https://fundacioncajaruraldelsur.com/wp-content/uploads/2023/02/libro.png
END:VEVENT
BEGIN:VEVENT
DTSTART;TZID=Europe/Paris:20241211T080000
DTEND;TZID=Europe/Paris:20250103T170000
DTSTAMP:20260423T222415
CREATED:20241203T141112Z
LAST-MODIFIED:20241203T141238Z
UID:10001021-1733904000-1735923600@fundacioncajaruraldelsur.com
SUMMARY:Belén Monumental en Córdoba
DESCRIPTION:
URL:https://fundacioncajaruraldelsur.com/evento/belen-monumental-2/
LOCATION:Fundación Caja Rural del Sur Córdoba\, calle de la Radio 1\, Córdoba\, Córdoba\, 14006\, España
CATEGORIES:Patrimonio cultural
ATTACH;FMTTYPE=image/jpeg:https://fundacioncajaruraldelsur.com/wp-content/uploads/2018/12/Cuento_Navidad.jpg
END:VEVENT
BEGIN:VEVENT
DTSTART;TZID=Europe/Paris:20241029T090000
DTEND;TZID=Europe/Paris:20241029T170000
DTSTAMP:20260423T222415
CREATED:20241008T194134Z
LAST-MODIFIED:20241008T194134Z
UID:10001009-1730192400-1730221200@fundacioncajaruraldelsur.com
SUMMARY:FAJER: IV Jornadas Día sin juego de Azar
DESCRIPTION:
URL:https://fundacioncajaruraldelsur.com/evento/fajer-iv-jornadas-dia-sin-juego-de-azar/
LOCATION:Fundación Caja Rural del Sur Córdoba\, calle de la Radio 1\, Córdoba\, Córdoba\, 14006\, España
ATTACH;FMTTYPE=image/png:https://fundacioncajaruraldelsur.com/wp-content/uploads/2022/10/Diseno-sin-titulo-5.png
END:VEVENT
BEGIN:VEVENT
DTSTART;TZID=Europe/Paris:20241009T080000
DTEND;TZID=Europe/Paris:20241023T170000
DTSTAMP:20260423T222415
CREATED:20241008T192454Z
LAST-MODIFIED:20241008T192454Z
UID:10001007-1728460800-1729702800@fundacioncajaruraldelsur.com
SUMMARY:Ciclo de conferencias: "Arqueología y sus profesiones. Un engranaje de tres ruedas"
DESCRIPTION:
URL:https://fundacioncajaruraldelsur.com/evento/ciclo-de-conferencias-arqueologia-y-sus-profesiones-un-engranaje-de-tres-ruedas/
LOCATION:Fundación Caja Rural del Sur Córdoba\, calle de la Radio 1\, Córdoba\, Córdoba\, 14006\, España
CATEGORIES:conferencias
END:VEVENT
BEGIN:VEVENT
DTSTART;TZID=Europe/Paris:20241008T080000
DTEND;TZID=Europe/Paris:20241030T170000
DTSTAMP:20260423T222415
CREATED:20241008T190149Z
LAST-MODIFIED:20241008T190149Z
UID:10001004-1728374400-1730307600@fundacioncajaruraldelsur.com
SUMMARY:Retos para la conservación del Patrimonio de las Cofradías
DESCRIPTION:
URL:https://fundacioncajaruraldelsur.com/evento/retos-para-la-conservacion-del-patrimonio-de-las-cofradias/
LOCATION:Fundación Caja Rural del Sur Córdoba\, calle de la Radio 1\, Córdoba\, Córdoba\, 14006\, España
CATEGORIES:Jornadas
END:VEVENT
BEGIN:VEVENT
DTSTART;TZID=Europe/Paris:20241001T160000
DTEND;TZID=Europe/Paris:20241001T170000
DTSTAMP:20260423T222415
CREATED:20240926T194402Z
LAST-MODIFIED:20240926T194402Z
UID:10001002-1727798400-1727802000@fundacioncajaruraldelsur.com
SUMMARY:Jornada - Actualización normativa de Seguridad Social 2024
DESCRIPTION:
URL:https://fundacioncajaruraldelsur.com/evento/jornada-actualizacion-normativa-de-seguridad-social-2024/
LOCATION:Fundación Caja Rural del Sur Córdoba\, calle de la Radio 1\, Córdoba\, Córdoba\, 14006\, España
CATEGORIES:Jornadas
ATTACH;FMTTYPE=image/png:https://fundacioncajaruraldelsur.com/wp-content/uploads/2023/10/Diseno-sin-titulo-26.png
END:VEVENT
BEGIN:VEVENT
DTSTART;TZID=Europe/Paris:20240916T080000
DTEND;TZID=Europe/Paris:20240925T170000
DTSTAMP:20260423T222415
CREATED:20240916T131359Z
LAST-MODIFIED:20240916T131359Z
UID:10000998-1726473600-1727283600@fundacioncajaruraldelsur.com
SUMMARY:Curso protocolo y organización de eventos
DESCRIPTION:
URL:https://fundacioncajaruraldelsur.com/evento/curso-protocolo-y-organizacion-de-eventos/
LOCATION:Fundación Caja Rural del Sur Córdoba\, calle de la Radio 1\, Córdoba\, Córdoba\, 14006\, España
CATEGORIES:Jornadas
ATTACH;FMTTYPE=image/png:https://fundacioncajaruraldelsur.com/wp-content/uploads/2023/10/Diseno-sin-titulo-25.png
END:VEVENT
BEGIN:VEVENT
DTSTART;TZID=Europe/Paris:20240626T093000
DTEND;TZID=Europe/Paris:20240626T170000
DTSTAMP:20260423T222415
CREATED:20240617T100317Z
LAST-MODIFIED:20240617T100317Z
UID:10000987-1719394200-1719421200@fundacioncajaruraldelsur.com
SUMMARY:La Mirada Económica: "Cooperativismo de crédito\, un modelo de éxito"\, José Luis García-Palacios
DESCRIPTION:
URL:https://fundacioncajaruraldelsur.com/evento/la-mirada-economica-cooperativismo-de-credito-un-modelo-de-exito-jose-luis-garcia-palacios/
LOCATION:Fundación Caja Rural del Sur Córdoba\, calle de la Radio 1\, Córdoba\, Córdoba\, 14006\, España
CATEGORIES:conferencias
END:VEVENT
BEGIN:VEVENT
DTSTART;TZID=Europe/Paris:20240614T200000
DTEND;TZID=Europe/Paris:20240614T200000
DTSTAMP:20260423T222415
CREATED:20240523T102226Z
LAST-MODIFIED:20240523T102226Z
UID:10000978-1718395200-1718395200@fundacioncajaruraldelsur.com
SUMMARY:Concierto: "Un tanto para Lorca"
DESCRIPTION:
URL:https://fundacioncajaruraldelsur.com/evento/concierto-un-tanto-para-lorca/
LOCATION:Fundación Caja Rural del Sur Córdoba\, calle de la Radio 1\, Córdoba\, Córdoba\, 14006\, España
ATTACH;FMTTYPE=image/jpeg:https://fundacioncajaruraldelsur.com/wp-content/uploads/2018/10/Concierto_Lirico.jpg
END:VEVENT
BEGIN:VEVENT
DTSTART;TZID=Europe/Paris:20240607T080000
DTEND;TZID=Europe/Paris:20240621T170000
DTSTAMP:20260423T222415
CREATED:20240523T101706Z
LAST-MODIFIED:20240523T101706Z
UID:10000977-1717747200-1718989200@fundacioncajaruraldelsur.com
SUMMARY:Exposición: "25 años bajo palio"
DESCRIPTION:
URL:https://fundacioncajaruraldelsur.com/evento/exposicion-25-anos-bajo-palio/
LOCATION:Fundación Caja Rural del Sur Córdoba\, calle de la Radio 1\, Córdoba\, Córdoba\, 14006\, España
END:VEVENT
BEGIN:VEVENT
DTSTART;TZID=Europe/Paris:20240508T080000
DTEND;TZID=Europe/Paris:20240530T170000
DTSTAMP:20260423T222415
CREATED:20240425T133227Z
LAST-MODIFIED:20240425T133227Z
UID:10000969-1715155200-1717088400@fundacioncajaruraldelsur.com
SUMMARY:Exposición de pintura: "Mayo"\, de Carmen Montero
DESCRIPTION:
URL:https://fundacioncajaruraldelsur.com/evento/exposicion-de-pintura-mayo-de-carmen-montero/
LOCATION:Fundación Caja Rural del Sur Córdoba\, calle de la Radio 1\, Córdoba\, Córdoba\, 14006\, España
CATEGORIES:Exposiciones
ATTACH;FMTTYPE=image/jpeg:https://fundacioncajaruraldelsur.com/wp-content/uploads/2021/12/pintor.jpg
END:VEVENT
BEGIN:VEVENT
DTSTART;TZID=Europe/Paris:20240502T080000
DTEND;TZID=Europe/Paris:20240502T170000
DTSTAMP:20260423T222415
CREATED:20240429T083546Z
LAST-MODIFIED:20240429T083546Z
UID:10000970-1714636800-1714669200@fundacioncajaruraldelsur.com
SUMMARY:Película: "Batman desenmascarado"
DESCRIPTION:
URL:https://fundacioncajaruraldelsur.com/evento/pelicula-batman-desenmascarado/
LOCATION:Fundación Caja Rural del Sur Córdoba\, calle de la Radio 1\, Córdoba\, Córdoba\, 14006\, España
CATEGORIES:Cine
ATTACH;FMTTYPE=image/jpeg:https://fundacioncajaruraldelsur.com/wp-content/uploads/2019/05/Cine.jpg
END:VEVENT
BEGIN:VEVENT
DTSTART;TZID=Europe/Paris:20240417T080000
DTEND;TZID=Europe/Paris:20240418T170000
DTSTAMP:20260423T222415
CREATED:20240409T075852Z
LAST-MODIFIED:20240409T075852Z
UID:10000965-1713340800-1713459600@fundacioncajaruraldelsur.com
SUMMARY:XIII JORNADAS CATÓLICOS Y VIDA PÚBLICA DE CÓRDOBA
DESCRIPTION:
URL:https://fundacioncajaruraldelsur.com/evento/xiii-jornadas-catolicos-y-vida-publica-de-cordoba/
LOCATION:Fundación Caja Rural del Sur Córdoba\, calle de la Radio 1\, Córdoba\, Córdoba\, 14006\, España
CATEGORIES:conferencias
ATTACH;FMTTYPE=image/png:https://fundacioncajaruraldelsur.com/wp-content/uploads/2023/10/Diseno-sin-titulo-25.png
END:VEVENT
BEGIN:VEVENT
DTSTART;TZID=Europe/Paris:20240322T080000
DTEND;TZID=Europe/Paris:20240503T170000
DTSTAMP:20260423T222415
CREATED:20240322T091828Z
LAST-MODIFIED:20240322T091828Z
UID:10000954-1711094400-1714755600@fundacioncajaruraldelsur.com
SUMMARY:Exposición Artespacio - Manuel Lama
DESCRIPTION:
URL:https://fundacioncajaruraldelsur.com/evento/exposicion-artespacio-manuel-lama/
LOCATION:Fundación Caja Rural del Sur Córdoba\, calle de la Radio 1\, Córdoba\, Córdoba\, 14006\, España
CATEGORIES:Exposiciones
ATTACH;FMTTYPE=image/jpeg:https://fundacioncajaruraldelsur.com/wp-content/uploads/2021/12/pintor.jpg
END:VEVENT
BEGIN:VEVENT
DTSTART;TZID=Europe/Paris:20240322T080000
DTEND;TZID=Europe/Paris:20240327T170000
DTSTAMP:20260423T222415
CREATED:20240322T091105Z
LAST-MODIFIED:20240322T091105Z
UID:10000952-1711094400-1711558800@fundacioncajaruraldelsur.com
SUMMARY:De Rittón a CAS: Ochenta años del cartel pictórico de la Semana Santa de Córdoba
DESCRIPTION:
URL:https://fundacioncajaruraldelsur.com/evento/de-ritton-a-cas-ochenta-anos-del-cartel-pictorico-de-la-semana-santa-de-cordoba/
LOCATION:Fundación Caja Rural del Sur Córdoba\, calle de la Radio 1\, Córdoba\, Córdoba\, 14006\, España
CATEGORIES:Patrimonio cultural
ATTACH;FMTTYPE=image/jpeg:https://fundacioncajaruraldelsur.com/wp-content/uploads/2019/01/Semana-Santa.jpg
END:VEVENT
BEGIN:VEVENT
DTSTART;TZID=Europe/Paris:20240320T080000
DTEND;TZID=Europe/Paris:20240320T170000
DTSTAMP:20260423T222415
CREATED:20240307T233957Z
LAST-MODIFIED:20240307T233957Z
UID:10000951-1710921600-1710954000@fundacioncajaruraldelsur.com
SUMMARY:XXXI Ciclo de conferencias 2024: "Arte en la Pasión de Córdoba"
DESCRIPTION:
URL:https://fundacioncajaruraldelsur.com/evento/xxxi-ciclo-de-conferencias-2024-arte-en-la-pasion-de-cordoba/2024-03-20/
LOCATION:Fundación Caja Rural del Sur Córdoba\, calle de la Radio 1\, Córdoba\, Córdoba\, 14006\, España
CATEGORIES:conferencias
ATTACH;FMTTYPE=image/png:https://fundacioncajaruraldelsur.com/wp-content/uploads/2023/10/Diseno-sin-titulo-27.png
END:VEVENT
BEGIN:VEVENT
DTSTART;TZID=Europe/Paris:20240313T190000
DTEND;TZID=Europe/Paris:20240313T190000
DTSTAMP:20260423T222415
CREATED:20240307T233957Z
LAST-MODIFIED:20240307T233957Z
UID:10000950-1710356400-1710356400@fundacioncajaruraldelsur.com
SUMMARY:XXXI Ciclo de conferencias 2024: "Arte en la Pasión de Córdoba"
DESCRIPTION:
URL:https://fundacioncajaruraldelsur.com/evento/xxxi-ciclo-de-conferencias-2024-arte-en-la-pasion-de-cordoba/2024-03-13/
LOCATION:Fundación Caja Rural del Sur Córdoba\, calle de la Radio 1\, Córdoba\, Córdoba\, 14006\, España
CATEGORIES:conferencias
ATTACH;FMTTYPE=image/png:https://fundacioncajaruraldelsur.com/wp-content/uploads/2023/10/Diseno-sin-titulo-27.png
END:VEVENT
BEGIN:VEVENT
DTSTART;TZID=Europe/Paris:20240224T123000
DTEND;TZID=Europe/Paris:20240224T133000
DTSTAMP:20260423T222415
CREATED:20240222T124314Z
LAST-MODIFIED:20240222T225011Z
UID:10000941-1708777800-1708781400@fundacioncajaruraldelsur.com
SUMMARY:Exposición: "De Rittón a Cas. Ochenta años del cartel pictórico de la Semana Santa de Córdoba"
DESCRIPTION:  \n  \n  \n 
URL:https://fundacioncajaruraldelsur.com/evento/exposicion-de-ritton-a-cas-ochenta-anos-del-cartel-pictorico-de-la-semana-santa-de-cordoba/
LOCATION:Fundación Caja Rural del Sur Córdoba\, calle de la Radio 1\, Córdoba\, Córdoba\, 14006\, España
CATEGORIES:Exposición
ATTACH;FMTTYPE=image/jpeg:https://fundacioncajaruraldelsur.com/wp-content/uploads/2019/10/Iglesia.jpg
END:VEVENT
BEGIN:VEVENT
DTSTART;TZID=Europe/Paris:20240215T193000
DTEND;TZID=Europe/Paris:20240215T193000
DTSTAMP:20260423T222415
CREATED:20240213T094143Z
LAST-MODIFIED:20240213T094156Z
UID:10000940-1708025400-1708025400@fundacioncajaruraldelsur.com
SUMMARY:Clausura y visita guiada exposición: "Miguel de Cervantes: Don Quijote"\, de Jose Luis Muñoz
DESCRIPTION:
URL:https://fundacioncajaruraldelsur.com/evento/clausura-y-visita-guiada-miguel-de-cervantes-don-quijote-de-jose-luis-munoz/
LOCATION:Fundación Caja Rural del Sur Córdoba\, calle de la Radio 1\, Córdoba\, Córdoba\, 14006\, España
CATEGORIES:Exposición
ATTACH;FMTTYPE=image/png:https://fundacioncajaruraldelsur.com/wp-content/uploads/2024/01/Captura-de-Pantalla-2024-01-10-a-las-12.04.36.png
END:VEVENT
BEGIN:VEVENT
DTSTART;TZID=Europe/Paris:20240203T190000
DTEND;TZID=Europe/Paris:20240203T190000
DTSTAMP:20260423T222415
CREATED:20240129T114857Z
LAST-MODIFIED:20240129T114857Z
UID:10000936-1706986800-1706986800@fundacioncajaruraldelsur.com
SUMMARY:Conferencia: "Adolescencia - Historias de gusanos\, capullos y mariposas"
DESCRIPTION:
URL:https://fundacioncajaruraldelsur.com/evento/conferencia-adolescencia-historias-de-gusanos-capullos-y-mariposas/
LOCATION:Fundación Caja Rural del Sur Córdoba\, calle de la Radio 1\, Córdoba\, Córdoba\, 14006\, España
CATEGORIES:conferencias
ATTACH;FMTTYPE=image/png:https://fundacioncajaruraldelsur.com/wp-content/uploads/2023/10/Diseno-sin-titulo-26.png
END:VEVENT
BEGIN:VEVENT
DTSTART;TZID=Europe/Paris:20240126T113000
DTEND;TZID=Europe/Paris:20240126T193000
DTSTAMP:20260423T222415
CREATED:20240129T110555Z
LAST-MODIFIED:20240129T110555Z
UID:10000925-1706268600-1706297400@fundacioncajaruraldelsur.com
SUMMARY:Visitas guiadas: "Don Quijote"\, de José Luis Muñoz
DESCRIPTION:
URL:https://fundacioncajaruraldelsur.com/evento/visitas-guiadas-don-quijote-de-jose-luis-munoz/
LOCATION:Fundación Caja Rural del Sur Córdoba\, calle de la Radio 1\, Córdoba\, Córdoba\, 14006\, España
CATEGORIES:Exposición
ATTACH;FMTTYPE=image/png:https://fundacioncajaruraldelsur.com/wp-content/uploads/2024/01/Captura-de-Pantalla-2024-01-10-a-las-12.04.36.png
END:VEVENT
BEGIN:VEVENT
DTSTART;TZID=Europe/Paris:20240118T080000
DTEND;TZID=Europe/Paris:20240215T170000
DTSTAMP:20260423T222415
CREATED:20240110T110526Z
LAST-MODIFIED:20240110T111015Z
UID:10000924-1705564800-1708016400@fundacioncajaruraldelsur.com
SUMMARY:Exposición "Don Quijote"\, de José Luis Muñoz
DESCRIPTION:
URL:https://fundacioncajaruraldelsur.com/evento/exposicion-don-quijote-de-jose-luis-munoz/
LOCATION:Fundación Caja Rural del Sur Córdoba\, calle de la Radio 1\, Córdoba\, Córdoba\, 14006\, España
CATEGORIES:Exposición
ATTACH;FMTTYPE=image/png:https://fundacioncajaruraldelsur.com/wp-content/uploads/2024/01/Captura-de-Pantalla-2024-01-10-a-las-12.04.36.png
END:VEVENT
BEGIN:VEVENT
DTSTART;TZID=Europe/Paris:20231215T200000
DTEND;TZID=Europe/Paris:20231215T200000
DTSTAMP:20260423T222415
CREATED:20231204T111923Z
LAST-MODIFIED:20231204T112042Z
UID:10000918-1702670400-1702670400@fundacioncajaruraldelsur.com
SUMMARY:Concierto navideño "Stelium Ensemble"
DESCRIPTION: 
URL:https://fundacioncajaruraldelsur.com/evento/concierto-navideno-stelium-ensemble/
LOCATION:Fundación Caja Rural del Sur Córdoba\, calle de la Radio 1\, Córdoba\, Córdoba\, 14006\, España
ATTACH;FMTTYPE=image/png:https://fundacioncajaruraldelsur.com/wp-content/uploads/2023/10/Diseno-sin-titulo-34.png
END:VEVENT
BEGIN:VEVENT
DTSTART;TZID=Europe/Paris:20231211T080000
DTEND;TZID=Europe/Paris:20240104T170000
DTSTAMP:20260423T222415
CREATED:20231204T112434Z
LAST-MODIFIED:20231227T093709Z
UID:10000919-1702281600-1704387600@fundacioncajaruraldelsur.com
SUMMARY:Belén monumental
DESCRIPTION:
URL:https://fundacioncajaruraldelsur.com/evento/belen-monumental/
LOCATION:Fundación Caja Rural del Sur Córdoba\, calle de la Radio 1\, Córdoba\, Córdoba\, 14006\, España
ATTACH;FMTTYPE=image/jpeg:https://fundacioncajaruraldelsur.com/wp-content/uploads/2018/12/Cuento_Navidad.jpg
END:VEVENT
BEGIN:VEVENT
DTSTART;TZID=Europe/Paris:20231108T080000
DTEND;TZID=Europe/Paris:20231109T170000
DTSTAMP:20260423T222415
CREATED:20231019T091543Z
LAST-MODIFIED:20231019T091600Z
UID:10000896-1699430400-1699549200@fundacioncajaruraldelsur.com
SUMMARY:III Jornadas en Andalucía sobre Salud Laboral: "El trabajo es seguro o no es trabajo"
DESCRIPTION:
URL:https://fundacioncajaruraldelsur.com/evento/iii-jornadas-en-andalucia-sobre-salud-laboral-el-trabajo-es-seguro-o-no-es-trabajo/
LOCATION:Fundación Caja Rural del Sur Córdoba\, calle de la Radio 1\, Córdoba\, Córdoba\, 14006\, España
CATEGORIES:Jornadas
ATTACH;FMTTYPE=image/png:https://fundacioncajaruraldelsur.com/wp-content/uploads/2023/10/Diseno-sin-titulo-25.png
END:VEVENT
BEGIN:VEVENT
DTSTART;TZID=Europe/Paris:20231031T100000
DTEND;TZID=Europe/Paris:20231031T130000
DTSTAMP:20260423T222415
CREATED:20231027T092355Z
LAST-MODIFIED:20231027T092355Z
UID:10000899-1698746400-1698757200@fundacioncajaruraldelsur.com
SUMMARY:Jornada formativa voluntariado de Cruz Roja en Córdoba
DESCRIPTION:
URL:https://fundacioncajaruraldelsur.com/evento/jornada-formativa-voluntariado-de-cruz-roja-en-cordoba/
LOCATION:Fundación Caja Rural del Sur Córdoba\, calle de la Radio 1\, Córdoba\, Córdoba\, 14006\, España
CATEGORIES:Jornadas
ATTACH;FMTTYPE=image/png:https://fundacioncajaruraldelsur.com/wp-content/uploads/2022/10/Diseno-sin-titulo-5.png
END:VEVENT
END:VCALENDAR