BEGIN:VCALENDAR
VERSION:2.0
PRODID:-//Fundación Caja Rural del Sur - ECPv6.15.17//NONSGML v1.0//EN
CALSCALE:GREGORIAN
METHOD:PUBLISH
X-WR-CALNAME:Fundación Caja Rural del Sur
X-ORIGINAL-URL:https://fundacioncajaruraldelsur.com
X-WR-CALDESC:Eventos para Fundación Caja Rural del Sur
REFRESH-INTERVAL;VALUE=DURATION:PT1H
X-Robots-Tag:noindex
X-PUBLISHED-TTL:PT1H
BEGIN:VTIMEZONE
TZID:Europe/Paris
BEGIN:DAYLIGHT
TZOFFSETFROM:+0100
TZOFFSETTO:+0200
TZNAME:CEST
DTSTART:20240331T010000
END:DAYLIGHT
BEGIN:STANDARD
TZOFFSETFROM:+0200
TZOFFSETTO:+0100
TZNAME:CET
DTSTART:20241027T010000
END:STANDARD
BEGIN:DAYLIGHT
TZOFFSETFROM:+0100
TZOFFSETTO:+0200
TZNAME:CEST
DTSTART:20250330T010000
END:DAYLIGHT
BEGIN:STANDARD
TZOFFSETFROM:+0200
TZOFFSETTO:+0100
TZNAME:CET
DTSTART:20251026T010000
END:STANDARD
BEGIN:DAYLIGHT
TZOFFSETFROM:+0100
TZOFFSETTO:+0200
TZNAME:CEST
DTSTART:20260329T010000
END:DAYLIGHT
BEGIN:STANDARD
TZOFFSETFROM:+0200
TZOFFSETTO:+0100
TZNAME:CET
DTSTART:20261025T010000
END:STANDARD
END:VTIMEZONE
BEGIN:VTIMEZONE
TZID:Europe/Helsinki
BEGIN:DAYLIGHT
TZOFFSETFROM:+0200
TZOFFSETTO:+0300
TZNAME:EEST
DTSTART:20200329T010000
END:DAYLIGHT
BEGIN:STANDARD
TZOFFSETFROM:+0300
TZOFFSETTO:+0200
TZNAME:EET
DTSTART:20201025T010000
END:STANDARD
BEGIN:DAYLIGHT
TZOFFSETFROM:+0200
TZOFFSETTO:+0300
TZNAME:EEST
DTSTART:20210328T010000
END:DAYLIGHT
BEGIN:STANDARD
TZOFFSETFROM:+0300
TZOFFSETTO:+0200
TZNAME:EET
DTSTART:20211031T010000
END:STANDARD
BEGIN:DAYLIGHT
TZOFFSETFROM:+0200
TZOFFSETTO:+0300
TZNAME:EEST
DTSTART:20220327T010000
END:DAYLIGHT
BEGIN:STANDARD
TZOFFSETFROM:+0300
TZOFFSETTO:+0200
TZNAME:EET
DTSTART:20221030T010000
END:STANDARD
END:VTIMEZONE
BEGIN:VEVENT
DTSTART;TZID=Europe/Paris:20250503T100000
DTEND;TZID=Europe/Paris:20250504T170000
DTSTAMP:20260426T064208
CREATED:20250429T115739Z
LAST-MODIFIED:20250429T115739Z
UID:10001042-1746266400-1746378000@fundacioncajaruraldelsur.com
SUMMARY:Circuito de Torneo - Tirachinas deportivo
DESCRIPTION:
URL:https://fundacioncajaruraldelsur.com/evento/circuito-de-torneo-tirachinas-deportivo/
LOCATION:Córdoba\, Córdoba\, Córdoba\, España
CATEGORIES:Deportes
ATTACH;FMTTYPE=image/jpeg:https://fundacioncajaruraldelsur.com/wp-content/uploads/2019/07/Córdoba.jpg
END:VEVENT
BEGIN:VEVENT
DTSTART;TZID=Europe/Helsinki:20210929T080000
DTEND;TZID=Europe/Helsinki:20211009T170000
DTSTAMP:20260426T064208
CREATED:20210922T200021Z
LAST-MODIFIED:20210922T200021Z
UID:10000556-1632902400-1633798800@fundacioncajaruraldelsur.com
SUMMARY:Programa de actos por la Patrona de la Guardia Civil
DESCRIPTION:Córdoba será el epicentro de los actos nacionales de la celebración de la patrona de la Guardia Civil\, la Virgen de Pilar. Una cita que se desarrollará en la capital cordobesa desde el 29 de septiembre hasta el 9 de octubre y que contará con la participación de más de 500 agentes del Instituto Armado. \nEl acto central tendrá lugar el próximo 3 de octubre y será una parada y desfile militar en la avenida República Argentina\, en el que participarán efectivos y vehículos de diferentes unidades\, tal y como se ha puesto de manifiesto en la presentación del programa de actos organizados. El desfile contará con la participación de diferentes unidades de la Guardia Civil\, vehículos\, así como el Escuadrón de Caballería. \n  \n 
URL:https://fundacioncajaruraldelsur.com/evento/programa-de-actos-por-la-patrona-de-la-guardia-civil/
LOCATION:Córdoba\, Córdoba\, Córdoba\, España
CATEGORIES:Patrimonio cultural
ATTACH;FMTTYPE=image/png:https://fundacioncajaruraldelsur.com/wp-content/uploads/2021/09/banner_guardia_civil_cordoba.png
END:VEVENT
END:VCALENDAR