BEGIN:VCALENDAR
VERSION:2.0
PRODID:-//Fundación Caja Rural del Sur - ECPv6.15.17//NONSGML v1.0//EN
CALSCALE:GREGORIAN
METHOD:PUBLISH
X-ORIGINAL-URL:https://fundacioncajaruraldelsur.com
X-WR-CALDESC:Eventos para Fundación Caja Rural del Sur
REFRESH-INTERVAL;VALUE=DURATION:PT1H
X-Robots-Tag:noindex
X-PUBLISHED-TTL:PT1H
BEGIN:VTIMEZONE
TZID:Europe/Helsinki
BEGIN:DAYLIGHT
TZOFFSETFROM:+0200
TZOFFSETTO:+0300
TZNAME:EEST
DTSTART:20180325T010000
END:DAYLIGHT
BEGIN:STANDARD
TZOFFSETFROM:+0300
TZOFFSETTO:+0200
TZNAME:EET
DTSTART:20181028T010000
END:STANDARD
BEGIN:DAYLIGHT
TZOFFSETFROM:+0200
TZOFFSETTO:+0300
TZNAME:EEST
DTSTART:20190331T010000
END:DAYLIGHT
BEGIN:STANDARD
TZOFFSETFROM:+0300
TZOFFSETTO:+0200
TZNAME:EET
DTSTART:20191027T010000
END:STANDARD
BEGIN:DAYLIGHT
TZOFFSETFROM:+0200
TZOFFSETTO:+0300
TZNAME:EEST
DTSTART:20200329T010000
END:DAYLIGHT
BEGIN:STANDARD
TZOFFSETFROM:+0300
TZOFFSETTO:+0200
TZNAME:EET
DTSTART:20201025T010000
END:STANDARD
END:VTIMEZONE
BEGIN:VEVENT
DTSTART;TZID=Europe/Helsinki:20191211T183000
DTEND;TZID=Europe/Helsinki:20191211T183000
DTSTAMP:20260421T130551
CREATED:20191204T212727Z
LAST-MODIFIED:20191204T212727Z
UID:10000647-1576089000-1576089000@fundacioncajaruraldelsur.com
SUMMARY:Conferencia: "Desactivando al monstruo de las cloacas"
DESCRIPTION:El próximo miércoles 11 de diciembre participamos en la conferencia Desactivando al monstruo de las cloacas.. (y otras historias de terror en el saneamiento). \nEste es el título con el que Rafael Marín\, el responsable de calidad de Empresa Municipal de Aguas de Córdoba S. A. – Emacsa\, abordará la próxima conferencia sobre el grave problema de las ‘toallitas’ y el coste que tiene para las redes de saneamiento de cualquier ciudad de España.
URL:https://fundacioncajaruraldelsur.com/evento/conferencia-desactivando-al-monstruo-de-las-cloacas/
LOCATION:Caja Rural del Sur\, Córdoba\, Avda. Ronda de Tejares\, 36\, Córdoba\, Córdoba\, 14008\, España
CATEGORIES:conferencias
ATTACH;FMTTYPE=image/jpeg:https://fundacioncajaruraldelsur.com/wp-content/uploads/2019/12/Banner_cloacas.jpg
END:VEVENT
BEGIN:VEVENT
DTSTART;TZID=Europe/Helsinki:20191108T080000
DTEND;TZID=Europe/Helsinki:20191108T233000
DTSTAMP:20260421T130551
CREATED:20190708T161251Z
LAST-MODIFIED:20190708T161334Z
UID:10000591-1573200000-1573255800@fundacioncajaruraldelsur.com
SUMMARY:Convocatoria abierta IX Premios 'Ricardo López Crespo'
DESCRIPTION:Se premiarán trabajos de investigación\, recuperación del patrimonio\, acción social\, iniciativa empresarial y mejor expediente académico.   \nLos Premios Ricardo López Crespo de la Fundación Caja Rural del Sur\, se vuelven a convocar en su novena edición\, en sus cinco categorías: Mejor expediente académico de los alumnos de Grado de la Universidad de Córdoba\, Iniciativas Empresariales promovidas por Jóvenes Emprendedores\, Proyectos de I+D+i en el ámbito de la Actividad Agroalimentaria\, Acción Social Solidaria (Premio Hermano Bonifacio) y Recuperación del Patrimonio Histórico-Artístico Provincial. \nLa Fundación Caja Rural del Sur pretende resaltar los trabajos que en los últimos años han realizado entidades\, instituciones\, particulares y empresas en Córdoba y su provincia en estas cinco áreas temáticas. \nLos galardonados recibirán una estatuilla alegórica de la entidad convocante\, realizándose la entrega en el transcurso de un acto público previsto para el mes de enero de 2019\, y 4.000 € por cada categoría. \nEl plazo para la recepción de solicitudes estará abierto hasta las 23:59 h. del 8 de noviembre\, dándose a conocer el fallo del jurado con anterioridad al 20 de diciembre. \nPara una información más detallada\, adjuntamos a continuación las bases de las cinco categorías. \nBASES DE LOS PREMIOS\n\nIniciativa Empresarial \nAcción Social  \nInvestigación Agroalimentaria\nMejor Expediente\nRecuperación del Patrimonio\n\nFormularios Premios 2019
URL:https://fundacioncajaruraldelsur.com/evento/convocatoria-abierta-ix-premios-ricardo-lopez-crespo/
LOCATION:Caja Rural del Sur\, Córdoba\, Avda. Ronda de Tejares\, 36\, Córdoba\, Córdoba\, 14008\, España
CATEGORIES:Concursos
ATTACH;FMTTYPE=image/jpeg:https://fundacioncajaruraldelsur.com/wp-content/uploads/2019/07/Córdoba.jpg
END:VEVENT
BEGIN:VEVENT
DTSTART;TZID=Europe/Helsinki:20191031T080000
DTEND;TZID=Europe/Helsinki:20191031T233000
DTSTAMP:20260421T130551
CREATED:20190624T174413Z
LAST-MODIFIED:20190624T174413Z
UID:10000590-1572508800-1572564600@fundacioncajaruraldelsur.com
SUMMARY:PREMIO FUNDACIÓN CAJA RURAL DEL SUR-UCO AL MEJOR EXPEDIENTE ACADÉMICO
DESCRIPTION:Por segundo año se convocan estos premios promovidos por la Fundación Caja Rural del Sur\, y con la colaboración de la Universidad de Córdoba\, para premiar a los titulados en el curso académico 2018/2019 con los mejores y más completos expedientes de Grado. \nPara ello se tendrá en cuenta no solo la nota media del expediente sino también las prácticas externas realizadas\, las estancias en el extranjero y los idiomas. \nEl premio para los graduados galardonados\, uno por cada Centro de la Universidad de Córdoba\, consistirá en 1.000 €\, a excepción del mejor de todos ellos que recibirá 4.000 € correspondientes al Premio Ricardo López Crespo de la Fundación Caja Rural del Sur al Mejor Expediente Académico de los alumnos de Grado de la Universidad de Córdoba. \nEl plazo para la recepción de solicitudes permanecerá abierto hasta las 23:59 h. del 31 de octubre\, dándose a conocer el fallo del jurado con anterioridad al 20 de diciembre. \nBASES DEL CONCURSO
URL:https://fundacioncajaruraldelsur.com/evento/premio-fundacion-caja-rural-del-sur-uco-al-mejor-expediente-academico/
LOCATION:Caja Rural del Sur\, Córdoba\, Avda. Ronda de Tejares\, 36\, Córdoba\, Córdoba\, 14008\, España
CATEGORIES:premios
ATTACH;FMTTYPE=image/jpeg:https://fundacioncajaruraldelsur.com/wp-content/uploads/2019/06/Estudiantes.jpg
END:VEVENT
BEGIN:VEVENT
DTSTART;TZID=Europe/Helsinki:20190625T180000
DTEND;TZID=Europe/Helsinki:20190625T180000
DTSTAMP:20260421T130551
CREATED:20190621T191213Z
LAST-MODIFIED:20190621T191213Z
UID:10000584-1561485600-1561485600@fundacioncajaruraldelsur.com
SUMMARY:Ciclo de Cine en Córdoba: Rain Man
DESCRIPTION:El próximo 25 de junio acogemos una nueva proyección dentro del I Ciclo de Cine\, organizado por el Área de Cultura del Colegio Oficial de Médicos de Córdoba.  \nEn esta ocasión será la séptima proyección: Rain Man. Los encargados de la presentación serán el Dr. D Rafael de Burgos y Dña Miriam Muñoz de Autismo Córdoba.  \nSINOPSIS\nCharlie Babbitt (Tom Cruise) está ocupado trabajando en su próximo contrato cuando recibe una mala noticia: su padre\, del cual ha estado muy distanciado en los últimos años\, ha fallecido. Después de viajar a Los Ángeles para asistir al funeral\, Charlie está molesto porque ha descubierto que no va a recibir nada de la herencia de su padre que tanto ansiaba. En cambio\, se entera que su padre les ha dejado ese dinero a los cuidadores de su hermano autista\, Raymond (Dustin Hoffman)\, al que no conoce ya que siempre ha tenido que vivir en una institución especial. Una vez que se le pasa el shock de la existencia de un hermano del que parece no tener ningún recuerdo\, Charlie secuestra a Raymond en un intento de obtener un poco de la herencia. \nSin embargo\, en este viaje a través de los Estados Unidos\, Charlie no sólo aprende cómo hacer frente a la personalidad de Raymond\, sino que comienza a preocuparse por su hermano\, sorprendiéndose incluso a sí mismo con su capacidad de amar\, para llegar a la conclusión de que el dinero no lo es todo en la vida.
URL:https://fundacioncajaruraldelsur.com/evento/ciclo-de-cine-en-cordoba-rain-man/
LOCATION:Caja Rural del Sur\, Córdoba\, Avda. Ronda de Tejares\, 36\, Córdoba\, Córdoba\, 14008\, España
CATEGORIES:Cine
ATTACH;FMTTYPE=image/jpeg:https://fundacioncajaruraldelsur.com/wp-content/uploads/2019/06/Rain_Man.jpg
END:VEVENT
BEGIN:VEVENT
DTSTART;TZID=Europe/Helsinki:20190129T180000
DTEND;TZID=Europe/Helsinki:20190129T180000
DTSTAMP:20260421T130551
CREATED:20190128T124043Z
LAST-MODIFIED:20190128T170956Z
UID:10000491-1548784800-1548784800@fundacioncajaruraldelsur.com
SUMMARY:Proyección "Días de vino y rosas"
DESCRIPTION:Dentro del I Ciclo de Cine organizado por el Colegio Oficial de Médicos de Córdoba en colaboración con la Fundación Caja Rural del Sur\, se llevará a cabo\, en el salón de actos de Caja Rural del Sur en Córdoba\, la proyección de la película Días de vino y rosas. Presenta el Dr. Juan Ignacio Martinez Hens.  \nSinopsis\n\n\nJoe Clay\, jefe de relaciones públicas de una empresa de San Francisco\, conoce durante una fiesta a la bella Kirsten Arnesen. La muchacha se muestra cautelosa al principio\, debido a la afición de Joe a la bebida\, pero después sucumbe ante su simpatía y se casa con él. (FILMAFFINITY).\n\nFICHA\n \n\nTítulo original: Days of Wine and Roses\nAño: 1962\nDuración: 117 min.\nPaís:  Estados Unidos\nDirección: Blake Edwards\nGuión: J.P. Miller\nMúsica: Henry Mancini\nFotografía: Philip H. Lathrop (B&W)\nReparto: Jack Lemmon\,  Lee Remick\,  Charles Bickford\,  Jack Klugman\,  Alan Hewitt\, Tom Palmer\,  Jack Albertson\,  Debbie Megowan\nProductora: Warner Bros\nGénero: Drama. Romance | Alcoholismo\nPremios: 1962: Oscar: Mejor canción. 5 nominaciones. 1962: 4 nominaciones Globos de Oro: Película drama\, director\, actor\, actriz 1963: Premios BAFTA: 3 nominaciones incluyendo a actor extranjero (Lemmon) 1963: Festival de San Sebastián: Mejor actor (Lemmon) y actriz (Remick)\n\n\n\n\n\n\n\n2019-01-29 Cartel 3a Sesion I Ciclo Cine
URL:https://fundacioncajaruraldelsur.com/evento/proyeccion-dias-de-vino-y-rosas/
LOCATION:Caja Rural del Sur\, Córdoba\, Avda. Ronda de Tejares\, 36\, Córdoba\, Córdoba\, 14008\, España
CATEGORIES:Cine
ATTACH;FMTTYPE=image/jpeg:https://fundacioncajaruraldelsur.com/wp-content/uploads/2019/01/Dias_Vino_y_rosas.jpg
END:VEVENT
END:VCALENDAR