BEGIN:VCALENDAR
VERSION:2.0
PRODID:-//Fundación Caja Rural del Sur - ECPv6.15.17//NONSGML v1.0//EN
CALSCALE:GREGORIAN
METHOD:PUBLISH
X-WR-CALNAME:Fundación Caja Rural del Sur
X-ORIGINAL-URL:https://fundacioncajaruraldelsur.com
X-WR-CALDESC:Eventos para Fundación Caja Rural del Sur
REFRESH-INTERVAL;VALUE=DURATION:PT1H
X-Robots-Tag:noindex
X-PUBLISHED-TTL:PT1H
BEGIN:VTIMEZONE
TZID:Europe/Helsinki
BEGIN:DAYLIGHT
TZOFFSETFROM:+0200
TZOFFSETTO:+0300
TZNAME:EEST
DTSTART:20200329T010000
END:DAYLIGHT
BEGIN:STANDARD
TZOFFSETFROM:+0300
TZOFFSETTO:+0200
TZNAME:EET
DTSTART:20201025T010000
END:STANDARD
BEGIN:DAYLIGHT
TZOFFSETFROM:+0200
TZOFFSETTO:+0300
TZNAME:EEST
DTSTART:20210328T010000
END:DAYLIGHT
BEGIN:STANDARD
TZOFFSETFROM:+0300
TZOFFSETTO:+0200
TZNAME:EET
DTSTART:20211031T010000
END:STANDARD
BEGIN:DAYLIGHT
TZOFFSETFROM:+0200
TZOFFSETTO:+0300
TZNAME:EEST
DTSTART:20220327T010000
END:DAYLIGHT
BEGIN:STANDARD
TZOFFSETFROM:+0300
TZOFFSETTO:+0200
TZNAME:EET
DTSTART:20221030T010000
END:STANDARD
END:VTIMEZONE
BEGIN:VEVENT
DTSTART;TZID=Europe/Helsinki:20210924T080000
DTEND;TZID=Europe/Helsinki:20211130T170000
DTSTAMP:20260421T171758
CREATED:20210924T121738Z
LAST-MODIFIED:20210924T121738Z
UID:10000557-1632470400-1638291600@fundacioncajaruraldelsur.com
SUMMARY:Otoño Cultural Iberoamericano 2021
DESCRIPTION:Más de 40 propuestas culturales componen el programa del OCIb en una amplia variedad de áreas\, como las artes plásticas\, la literatura\, la música\, la danza\, el teatro\, el cine y las tradiciones. \nEntre los aspectos destacados\, este año habrá una semana\, concretamente del 2 al 8 de noviembre\, dedicada a Argentina\, con distintas actividades en torno a la cultura y tradiciones de este país iberoamericano. \nEn el capítulo de las exposiciones\, ocho muestras de distintas modalidades de las artes plásticas y visuales visitarán 15 espacios expositivos en Huelva y provincia y en Sevilla.
URL:https://fundacioncajaruraldelsur.com/evento/otono-cultural-iberoamericano-2021/
LOCATION:Huelva\, Huelva\, Huelva\, España
CATEGORIES:Exposiciones
ATTACH;FMTTYPE=image/jpeg:https://fundacioncajaruraldelsur.com/wp-content/uploads/2021/09/2.jpg
END:VEVENT
BEGIN:VEVENT
DTSTART;TZID=Europe/Helsinki:20211112T110000
DTEND;TZID=Europe/Helsinki:20211224T210000
DTSTAMP:20260421T171758
CREATED:20211123T002627Z
LAST-MODIFIED:20211215T211515Z
UID:10000713-1636714800-1640379600@fundacioncajaruraldelsur.com
SUMMARY:Exposición: "Encuentro. Los Romero\, saga de pintores"
DESCRIPTION:El nuevo Centro Cultural de Caja Rural del Sur en Córdoba se inaugura con la muestra “Encuentro. Los Romero\, saga de pintores”. El nuevo edificio que se inaugura consta de un salón de actos con 164 butacas y sala de exposiciones\, con un aforo conjunto para 286 asistentes. \nCon la exposición denominada “Encuentro. Los Romero\, saga de pintores” se inaugura este viernes\, día 12 de noviembre\, a las 19:00 horas\, el nuevo Centro Cultural ‘José Luis García Palacios’ de Caja Rural del Sur y su Fundación\, después de la amplia remodelación llevada a cabo\, que en palabras del presidente de la entidad se “materializa como un centro de exposiciones\, de celebración y de referencia a disposición y servicio de los estamentos que componen la provincia de Córdoba”. \nEste nuevo Centro Cultural ‘José Luis García Palacios’ consta de un salón de actos con 164 butacas y una sala de exposiciones\, teniendo un aforo global para 286 asistentes. Localizado en calle de la Radio 1 (entrada por avda. de la Libertad) de Córdoba capital\, abre sus puertas con una mirada a una de las señas de identidad de Córdoba: el legado pictórico de la familia Romero de Torres\, lo que va a permitircontemplar obras de Julio Romero de Torres que integran la colección privada de Caja Rural del Sur\, como “Retrato de la señora de Casanueva”\, “Las hermanas de Santa Marina” y “La niña de la manzana”\, junto a composiciones que ha cedido el Real Círculo de la Amistad\, referente histórico de la cultura de Córdoba. \nLa exposición permanecerá abierta al público desde el 12 de noviembre hasta el 17 de diciembre\, de lunes a viernes de 11 a 13:30 horas y de 18 a 21 horas\, y los sábados de 11 a 13:30 horas. \nLas obras expuestas son: Vista del Guadalquivir a su paso por Córdoba I (S. XIX); Vista del Guadalquivir a su paso por Córdoba II (S. XIX); Rosas en la balconada (1898); Retrato de la Señora de Casanueva (circa 1910-1912); La niña de la manzana (1915); y Las hermanas de Santa Marina (1915). \nDe esta forma\, a partir de este viernes los cordobeses van a tener en el Centro Cultural ‘José Luis García Palacios’ un lugar que la Fundación Caja Rural del Sur pone al servicio de la cultura de Córdoba y que viene a sumar un nuevo espacio en el que las artes\, el debate y la reflexión tengan un punto de encuentro para toda la sociedad cordobesa. Y se hace desde el firme convencimiento y el deseo que planteó con determinación en vida la persona que le da nombre al mismo\, presidente durante muchos años de Caja Rural del Sur y una vida dedicada al cooperativismo. \n 
URL:https://fundacioncajaruraldelsur.com/evento/exposicion-encuentro-los-romero-saga-de-pintores/
LOCATION:Caja Rural del Sur\, Córdoba\, Avda. Ronda de Tejares\, 36\, Córdoba\, Córdoba\, 14008\, España
CATEGORIES:Exposición
ATTACH;FMTTYPE=image/jpeg:https://fundacioncajaruraldelsur.com/wp-content/uploads/2018/12/Exposicion_Solidaria.jpg
END:VEVENT
BEGIN:VEVENT
DTSTART;TZID=Europe/Helsinki:20211115T080000
DTEND;TZID=Europe/Helsinki:20211210T170000
DTSTAMP:20260421T171758
CREATED:20211102T132423Z
LAST-MODIFIED:20211102T132423Z
UID:10000562-1636963200-1639155600@fundacioncajaruraldelsur.com
SUMMARY:Exposición "Senderos de Luz" de Juan Antonio Domínguez
DESCRIPTION:El Centro Cultural José Luis García Palacios\, Sala de Exposiciones de la Fundación Caja Rural del Sur\, acoge del 15 de Noviembre al 10 de Diciembre de 2021\, la exposición del pintor onubense (Valverde del camino). Juan Antonio Domínguez «Senderos de Luz». \nHorario: de 11\,00 a 13\,30 y de 18\,00 a 21\,00 horas.\nde Lunes a Viernes.\nC/. Alcalde Mora Claros 6-8\, Huelva. \nVER CATALOGO 2021 «Senderos de Luz»
URL:https://fundacioncajaruraldelsur.com/evento/exposicion-senderos-de-luz-de-juan-antonio-dominguez/
LOCATION:Fundación Caja Rural del Sur Huelva\, C/ Alcalde Mora Claros 6-8\, Huelva\, Huelva\, 21001\, España
CATEGORIES:Exposiciones
ATTACH;FMTTYPE=image/png:https://fundacioncajaruraldelsur.com/wp-content/uploads/2021/11/cartel.png
GEO:37.2583599;-6.9535303
X-APPLE-STRUCTURED-LOCATION;VALUE=URI;X-ADDRESS=Fundación Caja Rural del Sur Huelva C/ Alcalde Mora Claros 6-8 Huelva Huelva 21001 España;X-APPLE-RADIUS=500;X-TITLE=C/ Alcalde Mora Claros 6-8:geo:-6.9535303,37.2583599
END:VEVENT
BEGIN:VEVENT
DTSTART;TZID=Europe/Helsinki:20211116T080000
DTEND;TZID=Europe/Helsinki:20211126T170000
DTSTAMP:20260421T171758
CREATED:20211030T123851Z
LAST-MODIFIED:20211030T123951Z
UID:10000561-1637049600-1637946000@fundacioncajaruraldelsur.com
SUMMARY:Exposición "La Alegría de vivir"\, de Teresa Gonzalo Ybarra
DESCRIPTION:LA AUTORA\n\n\n\n\n\n  \n2020.  Exposición colectiva en la Fundacion Valentín  Madariaga. \nExposición solidaria en los 300voluntarios. \n2015-2019  Trabajos interiorismo. Pintura de cuadros para los apartamentos turísticos          “Sevilla Luxury Rentals” \n2013​   Exposición Colectiva Pasiones VII. Hacienda Santa Ana. Tomares. \n2012​   Exposición Colectiva Galería Estampa. Madrid\nExposición Galeria Art-Factory. Proyecto Hombre\nExposición Colectiva en la Sala «Estudio-Hache». \n2011    Exposición colectiva Aires de Sevilla\,  Sevilla.\n​            Exposición colectiva Oriel Arte. Sevilla \n2010    Exposición colectiva Galería Abades\, Sevilla\nObra  Seleccionado II  Premio Nacional “Fundación Teresa Rivero”. Jerez de la   Frontera. Cádiz\nObra Seleccionada Certamen de Pintura “Ateneo de Sevilla”. Sevilla.\nExposición individual en el Club de Tenis de Punta Umbría. Huelva. \n2009    Exposición colectiva Club Antares. Sevilla.\nObra Seleccionada I Premio Nacional “Fundación Teresa Rivero”. Jerez de la    Frontera. Cádiz\nObra Seleccionada Certamen de Pintura “Ateneo de Sevilla”. Sevilla. \n2008   Exposición individual en el Museo de Carruajes. Sevilla.​ \n2007   Exposición colectiva  en la Sala “Estudio-Hache”. Sevilla. \n2006   Exposición individual en el Club de Tenis de Punta Umbría. Huelva. \nObra Seleccionada en el Concurso de pintura rápida. Caja San  Fernando. Sevilla \n2005   Exposición colectiva en las Bodegas Viña Extremeña. Almendralejo. Badajoz.\nObra Seleccionada LIV Exposición de Otoño de la Real Academia. Sevilla \n2003  Exposición individual en el Club de Tenis de Punta Umbría. Huelva \n2002  Exposición colectiva en Púb. Kennedy´s. Sevilla.\nExposición colectiva en Hotel Lebreros. Sevilla.\nExposición individual en el Club de Tenis de Punta Umbría. Huelva. \n2000  Exposición individual en Kumquat. Madrid. \n1999 Exposición colectiva en Púb. Kennedy´s. Sevilla.\nExposición colectiva en la Galería San Vicente. Sevilla.\nExposición colectiva en la Galería Abades. Sevilla. \n1993-98 Grupo del pintor Paco Broca. Reales Alcázares de Sevilla. Extensa concepción creativa de la pintura paisaje en los jardines de los Reales Alcázares. \n1996 Exposición individual en el Club  Marítimo y Tenis de Punta Umbría. \n1993-98 Graduado en Artes Aplicadas (Pabellón de Chile. Sevilla) Especial Delineante. \n1991-94 Estudio de pintura de Luis Pajuelo y Luis Montes.
URL:https://fundacioncajaruraldelsur.com/evento/exposicion-la-alegria-de-vivir-de-teresa-gonzalo-ybarra/
LOCATION:Fundación Caja Rural del Sur Sevilla\, C/ Murillo\, 2\, Sevilla\, Sevilla\, 41001\, España
CATEGORIES:Exposiciones
ATTACH;FMTTYPE=image/jpeg:https://fundacioncajaruraldelsur.com/wp-content/uploads/2020/09/Pintura_pinceles.jpg
GEO:37.2583599;-6.9535303
X-APPLE-STRUCTURED-LOCATION;VALUE=URI;X-ADDRESS=Fundación Caja Rural del Sur Sevilla C/ Murillo 2 Sevilla Sevilla 41001 España;X-APPLE-RADIUS=500;X-TITLE=C/ Murillo\, 2:geo:-6.9535303,37.2583599
END:VEVENT
BEGIN:VEVENT
DTSTART;TZID=Europe/Helsinki:20211124T080000
DTEND;TZID=Europe/Helsinki:20211124T220000
DTSTAMP:20260421T171758
CREATED:20211108T103710Z
LAST-MODIFIED:20211108T103905Z
UID:10000564-1637740800-1637791200@fundacioncajaruraldelsur.com
SUMMARY:Presentación de "Las calles del tiempo" de Javier Compás en Sevilla
DESCRIPTION:El próximo miércoles 24 de Noviembre se presenta la nueva novela del escritor sevillano\, Javier Compás\, en el salón de actos de la Fundación Caja Rural del Sur en Sevilla\, en calle Murillo\, 2 (Plaza de la Magdalena). El acto comenzará a las 20:00 horas y\, tras la presentación\, se servirá una copa de vino español. \nEn el acto de presentación\, además del autor\, estarán presentes el editor de Anantes\, Ismael Rojas y el periodista sevillano\, Raimundo de Hita\, que hará una breve semblanza del mismo. \nLa trama de la novela nos habla de cómo cambian las ciudades y las personas: Luis\, exitoso galerista internacional de arte contemporáneo\, vuelve a Sevilla tras vivir alejado de ella durante veinticinco años. El amor a Sofía y un cuadro robado lo retienen allí más tiempo del que había previsto. Alberto\, historiador del Arte\, es viudo y Pía\, una creativa soñadora\, recién divorciada\, se conocen a través de internet y rápidamente surge un poderoso sentimiento entre ellos que les lleva a querer encontrarse superando todos sus miedos y dudas. Las calles del tiempo es una novela de destinos entrecruzados entre Madrid\, Nueva York\, Sevilla y Barcelona\, de expectativas\, decepciones y nuevos comienzos\, de vidas y pasiones que cambian sin remedio\, como cambian las ciudades que amamos. \nSobre el autor: \nJavier Compás (Sevilla) es licenciado en Historia del Arte. Escritor y comunicador. Obtuvo con tan solo 16 años el I Premio Villa de Tomares de Poesía. Es autor de las novelas Los últimos caballeros\, que recibió el Premio Literatura Disidente en 2009\, y La playa de los alemanes (2010)\, así como del volumen de relatos La sala japonesa (2016). Algunos de sus poemas y relatos fueron publicados en la Antología de Genios Noveles de la Literatura Española (1998). Como comunicador especializado en vinos y gastronomía es colaborador asiduo de diversos medios de comunicación\, dirigiendo durante cinco años las páginas gastronómicas del diario sevillano El Correo de Andalucía y la revista Tapas y Viajes. Fundador de la revista Gastrobaris Magazine (Premio a la Comunicación Gastronómica 2016 otorgado por el Club Gourmet de Sevilla). Varios años director y presentador del programa cultural La Factoría Fenicia en Radio Tomares. \nSobre el presentador: \nRaimundo de Hita nació en Sevilla en 1966. Periodista de información local muchos años\, vive y disfruta su ciudad\, de la que piensa que podría dar más de sí si se fuera exigente con ella. Trabajó en Antena 3 Radio\, El Correo de Andalucía\, El Mundo\, ABC de Sevilla y Radio Sevilla en distintas épocas y situaciones. Y también en el Ayuntamiento de Sevilla\, Isla Mágica y el IAPH\, entre otros. Licenciado en Ciencias de la Información\, postgraduado en Gestión de Redes Sociales y máster en Comunicación y Cultura\, investiga ahora sobre los soportes digitales para la información. Abomina de la frase hecha «periodista y escritor». \nLa editorial: \nUna edición más\, Editorial Anantes participa en la Feria del libro de Sevilla con numerosas actividades. Este año\, la caseta más animada de la Feria será la número 37\, en la que podrás encontrar las novedades y todo el fondo de Editorial Anantes. No puedes perderte la presentación de Maradona\, uno de los nuestros\, el deslumbrante debut novelístico de Martina de los Ángeles\, la reedición crítica de dos obras del romanticismo como las Rimas de Bécquer en el 150 aniversario de la muerte del poeta y la obra completa de la poeta Amparo López\, la nueva novela de Javier Compás o el primer volumen de relatos de Ángel Nepomuceno\, la narrativa de gran estilo de Ignacio Arrabal y Rafael García Maldonado… \nhttps://www.anantescultural.net/ \nEntrada libre hasta completar aforo. Se respetarán las medidas COVID.
URL:https://fundacioncajaruraldelsur.com/evento/presentacion-de-las-calles-del-tiempo-de-javier-compas-en-sevilla/
LOCATION:Fundación Caja Rural del Sur Sevilla\, C/ Murillo\, 2\, Sevilla\, Sevilla\, 41001\, España
CATEGORIES:Presentaciones
ATTACH;FMTTYPE=image/jpeg:https://fundacioncajaruraldelsur.com/wp-content/uploads/2020/09/presentacion_libro.jpg
GEO:37.2583599;-6.9535303
X-APPLE-STRUCTURED-LOCATION;VALUE=URI;X-ADDRESS=Fundación Caja Rural del Sur Sevilla C/ Murillo 2 Sevilla Sevilla 41001 España;X-APPLE-RADIUS=500;X-TITLE=C/ Murillo\, 2:geo:-6.9535303,37.2583599
END:VEVENT
BEGIN:VEVENT
DTSTART;TZID=Europe/Helsinki:20211126T190000
DTEND;TZID=Europe/Helsinki:20211126T203000
DTSTAMP:20260421T171759
CREATED:20211122T184800Z
LAST-MODIFIED:20211122T193734Z
UID:10000567-1637953200-1637958600@fundacioncajaruraldelsur.com
SUMMARY:Entrega de Premios Jóvenes Investigadores-Academia de Ciencias\, Artes y Letras de Huelva
DESCRIPTION:La Academia de Ciencias\, Artes y Letras de Huelva es una corporación de derecho Público constituida ek 30 de noviembre de 1998. Nuestro objetivo es `rpmover y difundir la cultura en el ámbito local y provincial en todos sus campos: Artes\, Ciencias y Letras.\n\n\nLos 22 académicos numerarios actuales provienen de muy diversos medios: Universidad\, empresas\, actividades artísticas\, profesiones liberales y otras. Además de una dilatada experiencia en el ámbito de su dedicación profesional\, todos ellos tienen como denominador común su interés por la cultura\, en sus más diversas manifestaciones. Por otra parte\, son conocedores de Huelva\, cuya promoción cultural es nuestro primer objetivo; pero en modo alguno somos localistas\, antes bien de ambición universal por vocación y por voluntad. \nLas actividades de la Academia\, siempre realizadas con medios materiales limitados\, han abarcado hasta hoy muy diversos campos\, incluidas conferencias\, exposiciones artísticas\, conciertos\, premios\, radiodifusión y otras.
URL:https://fundacioncajaruraldelsur.com/evento/entrega-de-premios-jovenes-investigadores-academia-de-ciencias-artes-y-letras-de-huelva/
LOCATION:Fundación Caja Rural del Sur Huelva\, C/ Alcalde Mora Claros 6-8\, Huelva\, Huelva\, 21001\, España
CATEGORIES:premios
ATTACH;FMTTYPE=image/jpeg:https://fundacioncajaruraldelsur.com/wp-content/uploads/2021/11/Academia-de-Ciencias-Artes-y-Letras-de-Huelva.jpg
GEO:37.2583599;-6.9535303
X-APPLE-STRUCTURED-LOCATION;VALUE=URI;X-ADDRESS=Fundación Caja Rural del Sur Huelva C/ Alcalde Mora Claros 6-8 Huelva Huelva 21001 España;X-APPLE-RADIUS=500;X-TITLE=C/ Alcalde Mora Claros 6-8:geo:-6.9535303,37.2583599
END:VEVENT
END:VCALENDAR