BEGIN:VCALENDAR
VERSION:2.0
PRODID:-//Fundación Caja Rural del Sur - ECPv6.15.17//NONSGML v1.0//EN
CALSCALE:GREGORIAN
METHOD:PUBLISH
X-WR-CALNAME:Fundación Caja Rural del Sur
X-ORIGINAL-URL:https://fundacioncajaruraldelsur.com
X-WR-CALDESC:Eventos para Fundación Caja Rural del Sur
REFRESH-INTERVAL;VALUE=DURATION:PT1H
X-Robots-Tag:noindex
X-PUBLISHED-TTL:PT1H
BEGIN:VTIMEZONE
TZID:Europe/Helsinki
BEGIN:DAYLIGHT
TZOFFSETFROM:+0200
TZOFFSETTO:+0300
TZNAME:EEST
DTSTART:20200329T010000
END:DAYLIGHT
BEGIN:STANDARD
TZOFFSETFROM:+0300
TZOFFSETTO:+0200
TZNAME:EET
DTSTART:20201025T010000
END:STANDARD
BEGIN:DAYLIGHT
TZOFFSETFROM:+0200
TZOFFSETTO:+0300
TZNAME:EEST
DTSTART:20210328T010000
END:DAYLIGHT
BEGIN:STANDARD
TZOFFSETFROM:+0300
TZOFFSETTO:+0200
TZNAME:EET
DTSTART:20211031T010000
END:STANDARD
BEGIN:DAYLIGHT
TZOFFSETFROM:+0200
TZOFFSETTO:+0300
TZNAME:EEST
DTSTART:20220327T010000
END:DAYLIGHT
BEGIN:STANDARD
TZOFFSETFROM:+0300
TZOFFSETTO:+0200
TZNAME:EET
DTSTART:20221030T010000
END:STANDARD
END:VTIMEZONE
BEGIN:VEVENT
DTSTART;TZID=Europe/Helsinki:20210924T080000
DTEND;TZID=Europe/Helsinki:20211130T170000
DTSTAMP:20260420T074430
CREATED:20210924T121738Z
LAST-MODIFIED:20210924T121738Z
UID:10000557-1632470400-1638291600@fundacioncajaruraldelsur.com
SUMMARY:Otoño Cultural Iberoamericano 2021
DESCRIPTION:Más de 40 propuestas culturales componen el programa del OCIb en una amplia variedad de áreas\, como las artes plásticas\, la literatura\, la música\, la danza\, el teatro\, el cine y las tradiciones. \nEntre los aspectos destacados\, este año habrá una semana\, concretamente del 2 al 8 de noviembre\, dedicada a Argentina\, con distintas actividades en torno a la cultura y tradiciones de este país iberoamericano. \nEn el capítulo de las exposiciones\, ocho muestras de distintas modalidades de las artes plásticas y visuales visitarán 15 espacios expositivos en Huelva y provincia y en Sevilla.
URL:https://fundacioncajaruraldelsur.com/evento/otono-cultural-iberoamericano-2021/
LOCATION:Huelva\, Huelva\, Huelva\, España
CATEGORIES:Exposiciones
ATTACH;FMTTYPE=image/jpeg:https://fundacioncajaruraldelsur.com/wp-content/uploads/2021/09/2.jpg
END:VEVENT
BEGIN:VEVENT
DTSTART;TZID=Europe/Helsinki:20211018T080000
DTEND;TZID=Europe/Helsinki:20211116T170000
DTSTAMP:20260420T074430
CREATED:20211006T230229Z
LAST-MODIFIED:20211011T101610Z
UID:10000705-1634544000-1637082000@fundacioncajaruraldelsur.com
SUMMARY:Evento gastronómico: Córdoba Califato Gourmet
DESCRIPTION:Con la firma de un convenio de colaboración\, Fundación Caja Rural del Sur quiere apostar por la nueva edición del evento gastronómico Córdoba Califato Gourmet que se inicia el próximo 18 de octubre con una webinar y tendrá sus días presenciales desde el 14 al 16 de noviembre\, con el objetivo de la promoción gastronómica del Destino Córdoba. \nEl acuerdo lo han firmado\, en representación de la Fundación Caja Rural del Sur su vicepresidente Ricardo López-Crespo\, quien estuvo acompañado de Pedro Martínez\, director de Unidad de Negocio en Caja Rural del Sur\, y los organizadores del evento\, Antonio Caño y Enrique Merino. \n \nLa webinar del 18 de octubre\, con el lema ‘Apostando por la gastronomía cordobesa’\, es una acción virtual de promoción gastronómica del Destino Córdoba\, desde la perspectiva de los chefs Estrella Michelin participantes en ediciones anteriores. Durante 4 horas los asistentes\, especialmente los comunicadores gastronómicos\, tendrán la oportunidad de escuchar a importantes chefs del panorama nacional hablar sobre su experiencia en Córdoba Califato Gourmet y su opinión sobre la gastronomía de Córdoba. También está prevista la asistencia de Agentes de Viajes y tour operadores turísticos de toda España.
URL:https://fundacioncajaruraldelsur.com/evento/evento-gastronomico-cordoba-califato-gourmet/
LOCATION:Córdoba\, Córdoba\, Córdoba
CATEGORIES:Patrimonio cultural
ATTACH;FMTTYPE=image/jpeg:https://fundacioncajaruraldelsur.com/wp-content/uploads/2019/07/Córdoba.jpg
END:VEVENT
BEGIN:VEVENT
DTSTART;TZID=Europe/Helsinki:20211025T180000
DTEND;TZID=Europe/Helsinki:20211108T210000
DTSTAMP:20260420T074430
CREATED:20210920T083402Z
LAST-MODIFIED:20210920T103539Z
UID:10000552-1635184800-1636405200@fundacioncajaruraldelsur.com
SUMMARY:Exposición de fotografía: 'Acromasia'\, de Juan Blas Leal
DESCRIPTION:El próximo 25 de octubre\, inauguramos la exposición de Juan Blas Leal ‘Acromasia’ 20:00 hr en la Sala de exposiciones Fundación Caja Rural del Sur\, el Centro Cultural José Luis García Palacios. La exposición abarcará desde el 26 de Octubre – 8 de Noviembre. \nEl horario será de lunes a viernes de 18.00 a 21:00 hr. \nEL AUTOR\nJuan Blas Leal. Huelva 1953.Realizó sus estudios en la Facultad de Ciencias de la Información\, Universidad Complutense de Madrid. \nToda una vida dedicada al mundo audiovisual. \nRealizador en TVE durante más de 20 años. Excedencia voluntaria para desarrollar mi actividad profesional en Antena3 TV\, Canal Sur TV\, Castilla la Mancha TV y distintas productoras de ámbito nacional para televisiones autonómicas. \nMiembro fundador de la Academia de la TV y de la Asociación de realizadores de TV. \nActualmente Productor Ejecutivo de Niebla desarrollo de formatos para TV.
URL:https://fundacioncajaruraldelsur.com/evento/exposicion-acromasia-de-juan-blas-leal/
LOCATION:Fundación Caja Rural del Sur Huelva\, C/ Alcalde Mora Claros 6-8\, Huelva\, Huelva\, 21001\, España
CATEGORIES:Exposición
ATTACH;FMTTYPE=image/jpeg:https://fundacioncajaruraldelsur.com/wp-content/uploads/2019/01/Exposicion_Fotografia.jpg
GEO:37.2583599;-6.9535303
X-APPLE-STRUCTURED-LOCATION;VALUE=URI;X-ADDRESS=Fundación Caja Rural del Sur Huelva C/ Alcalde Mora Claros 6-8 Huelva Huelva 21001 España;X-APPLE-RADIUS=500;X-TITLE=C/ Alcalde Mora Claros 6-8:geo:-6.9535303,37.2583599
END:VEVENT
BEGIN:VEVENT
DTSTART;TZID=Europe/Helsinki:20211110T190000
DTEND;TZID=Europe/Helsinki:20211110T190000
DTSTAMP:20260420T074430
CREATED:20211006T224943Z
LAST-MODIFIED:20211102T164140Z
UID:10000704-1636570800-1636570800@fundacioncajaruraldelsur.com
SUMMARY:IV edición del encuentro formativo para madres\, padres y educadores de la Fundación Grupo AZVI
DESCRIPTION:La Fundación Grupo Azvi organiza una nueva edición de sus Encuentros Formativos para Padres\, Madres y Educadores con el objetivo de reflexionar\,  en comunidad\, sobre la infancia y la adolescencia en la sociedad actual. \nCon este fin\, el próximo 10 de noviembre Fundación Grupo AZVI celebra un nuevo encuentro\, en esta ocasión sobre «La educación de nuestros hijos en el marco de las nuevas dinámicas familiares». \nEl encuentro se celebra a las 19.00 horas\,  en la sede de la Fundación Caja Rural del Sur ( C/ Murillo\,2). \nEste año se impartirán dos ponencias de mucho interés que versarán sobre los niños/as frente a la separación de sus padres y madres y los abuelos/as “canguro”. \n\nLa entrada es gratuita y para inscribirse basta con solicitar la inscripción enviando un e mail a fundaciongrupoazvi@grupoazvi.com. \nPrograma del encuentro: \n \n\n 
URL:https://fundacioncajaruraldelsur.com/evento/encuentro-formativo-para-madres-padres-y-educadores/
LOCATION:Fundación Caja Rural del Sur Sevilla\, C/ Murillo\, 2\, Sevilla\, Sevilla\, 41001\, España
CATEGORIES:conferencias
ATTACH;FMTTYPE=image/jpeg:https://fundacioncajaruraldelsur.com/wp-content/uploads/2019/02/Protegete.jpg
GEO:37.2583599;-6.9535303
X-APPLE-STRUCTURED-LOCATION;VALUE=URI;X-ADDRESS=Fundación Caja Rural del Sur Sevilla C/ Murillo 2 Sevilla Sevilla 41001 España;X-APPLE-RADIUS=500;X-TITLE=C/ Murillo\, 2:geo:-6.9535303,37.2583599
END:VEVENT
BEGIN:VEVENT
DTSTART;TZID=Europe/Helsinki:20211111T080000
DTEND;TZID=Europe/Helsinki:20211111T213000
DTSTAMP:20260420T074430
CREATED:20211026T194326Z
LAST-MODIFIED:20211026T194326Z
UID:10000560-1636617600-1636666200@fundacioncajaruraldelsur.com
SUMMARY:Presentación del libro "Ángela de la Cruz\, madre de los abandonados"
DESCRIPTION:El jueves 11 de noviembre a las 20.00 horas\, la editorial sevillana Maratania presenta en el centro cultural de la Fundación Caja Rural del Sur en Sevilla el libro «Ángela de la Cruz\, madre de los abandonados»\, escrito por Juan Pablo Navarro Rivas con las ilustraciones de Teresa Guzmán. \nÁngela de la Cruz (1846-1932) es una de las santas más queridas y veneradas. Fundadora de las Hermanas de la Cruz\, es llamada popularmente «Madre de los Pobres». Su cristiana entrega a los más necesitados es continuada por su congregación que\, viviendo con gran austeridad\, sirve a los enfermos y abandonados. Fue canonizada por Juan Pablo II en 2003. \nEn este relato\, personajes de toda índole cuentan su vida\, y su testimonio de humildad\, sacrificio y amor  por los más necesitados. \n 
URL:https://fundacioncajaruraldelsur.com/evento/presentacion-del-libro-angela-de-la-cruz-madre-de-los-abandonados/
LOCATION:Fundación Caja Rural del Sur Sevilla\, C/ Murillo\, 2\, Sevilla\, Sevilla\, 41001\, España
ATTACH;FMTTYPE=image/jpeg:https://fundacioncajaruraldelsur.com/wp-content/uploads/2021/10/portada_20518433_20201021081052.jpg
GEO:37.2583599;-6.9535303
X-APPLE-STRUCTURED-LOCATION;VALUE=URI;X-ADDRESS=Fundación Caja Rural del Sur Sevilla C/ Murillo 2 Sevilla Sevilla 41001 España;X-APPLE-RADIUS=500;X-TITLE=C/ Murillo\, 2:geo:-6.9535303,37.2583599
END:VEVENT
BEGIN:VEVENT
DTSTART;TZID=Europe/Helsinki:20211112T110000
DTEND;TZID=Europe/Helsinki:20211224T210000
DTSTAMP:20260420T074430
CREATED:20211123T002627Z
LAST-MODIFIED:20211215T211515Z
UID:10000713-1636714800-1640379600@fundacioncajaruraldelsur.com
SUMMARY:Exposición: "Encuentro. Los Romero\, saga de pintores"
DESCRIPTION:El nuevo Centro Cultural de Caja Rural del Sur en Córdoba se inaugura con la muestra “Encuentro. Los Romero\, saga de pintores”. El nuevo edificio que se inaugura consta de un salón de actos con 164 butacas y sala de exposiciones\, con un aforo conjunto para 286 asistentes. \nCon la exposición denominada “Encuentro. Los Romero\, saga de pintores” se inaugura este viernes\, día 12 de noviembre\, a las 19:00 horas\, el nuevo Centro Cultural ‘José Luis García Palacios’ de Caja Rural del Sur y su Fundación\, después de la amplia remodelación llevada a cabo\, que en palabras del presidente de la entidad se “materializa como un centro de exposiciones\, de celebración y de referencia a disposición y servicio de los estamentos que componen la provincia de Córdoba”. \nEste nuevo Centro Cultural ‘José Luis García Palacios’ consta de un salón de actos con 164 butacas y una sala de exposiciones\, teniendo un aforo global para 286 asistentes. Localizado en calle de la Radio 1 (entrada por avda. de la Libertad) de Córdoba capital\, abre sus puertas con una mirada a una de las señas de identidad de Córdoba: el legado pictórico de la familia Romero de Torres\, lo que va a permitircontemplar obras de Julio Romero de Torres que integran la colección privada de Caja Rural del Sur\, como “Retrato de la señora de Casanueva”\, “Las hermanas de Santa Marina” y “La niña de la manzana”\, junto a composiciones que ha cedido el Real Círculo de la Amistad\, referente histórico de la cultura de Córdoba. \nLa exposición permanecerá abierta al público desde el 12 de noviembre hasta el 17 de diciembre\, de lunes a viernes de 11 a 13:30 horas y de 18 a 21 horas\, y los sábados de 11 a 13:30 horas. \nLas obras expuestas son: Vista del Guadalquivir a su paso por Córdoba I (S. XIX); Vista del Guadalquivir a su paso por Córdoba II (S. XIX); Rosas en la balconada (1898); Retrato de la Señora de Casanueva (circa 1910-1912); La niña de la manzana (1915); y Las hermanas de Santa Marina (1915). \nDe esta forma\, a partir de este viernes los cordobeses van a tener en el Centro Cultural ‘José Luis García Palacios’ un lugar que la Fundación Caja Rural del Sur pone al servicio de la cultura de Córdoba y que viene a sumar un nuevo espacio en el que las artes\, el debate y la reflexión tengan un punto de encuentro para toda la sociedad cordobesa. Y se hace desde el firme convencimiento y el deseo que planteó con determinación en vida la persona que le da nombre al mismo\, presidente durante muchos años de Caja Rural del Sur y una vida dedicada al cooperativismo. \n 
URL:https://fundacioncajaruraldelsur.com/evento/exposicion-encuentro-los-romero-saga-de-pintores/
LOCATION:Caja Rural del Sur\, Córdoba\, Avda. Ronda de Tejares\, 36\, Córdoba\, Córdoba\, 14008\, España
CATEGORIES:Exposición
ATTACH;FMTTYPE=image/jpeg:https://fundacioncajaruraldelsur.com/wp-content/uploads/2018/12/Exposicion_Solidaria.jpg
END:VEVENT
END:VCALENDAR