BEGIN:VCALENDAR
VERSION:2.0
PRODID:-//Fundación Caja Rural del Sur - ECPv6.15.17//NONSGML v1.0//EN
CALSCALE:GREGORIAN
METHOD:PUBLISH
X-ORIGINAL-URL:https://fundacioncajaruraldelsur.com
X-WR-CALDESC:Eventos para Fundación Caja Rural del Sur
REFRESH-INTERVAL;VALUE=DURATION:PT1H
X-Robots-Tag:noindex
X-PUBLISHED-TTL:PT1H
BEGIN:VTIMEZONE
TZID:Europe/Helsinki
BEGIN:DAYLIGHT
TZOFFSETFROM:+0200
TZOFFSETTO:+0300
TZNAME:EEST
DTSTART:20200329T010000
END:DAYLIGHT
BEGIN:STANDARD
TZOFFSETFROM:+0300
TZOFFSETTO:+0200
TZNAME:EET
DTSTART:20201025T010000
END:STANDARD
BEGIN:DAYLIGHT
TZOFFSETFROM:+0200
TZOFFSETTO:+0300
TZNAME:EEST
DTSTART:20210328T010000
END:DAYLIGHT
BEGIN:STANDARD
TZOFFSETFROM:+0300
TZOFFSETTO:+0200
TZNAME:EET
DTSTART:20211031T010000
END:STANDARD
BEGIN:DAYLIGHT
TZOFFSETFROM:+0200
TZOFFSETTO:+0300
TZNAME:EEST
DTSTART:20220327T010000
END:DAYLIGHT
BEGIN:STANDARD
TZOFFSETFROM:+0300
TZOFFSETTO:+0200
TZNAME:EET
DTSTART:20221030T010000
END:STANDARD
END:VTIMEZONE
BEGIN:VEVENT
DTSTART;TZID=Europe/Helsinki:20210715T080000
DTEND;TZID=Europe/Helsinki:20211029T233000
DTSTAMP:20260421T041350
CREATED:20210715T104839Z
LAST-MODIFIED:20210715T104839Z
UID:10000697-1626336000-1635550200@fundacioncajaruraldelsur.com
SUMMARY:XI Premios Ricardo López Crespo
DESCRIPTION:Ya ha quedado abierta una nueva convocatoria de los Premios Ricardo López Crespo de la Fundación Caja Rural del Sur\, que este año alcanzan su undécima edición premiando las propuestas más sobresalientes llevadas a cabo en Córdoba y provincia en diversos ámbitos. \nComo en años anteriores\, se convocan cinco categorías: Mejor expediente académico de los alumnos de Grado de la Universidad de Córdoba\, Iniciativas Empresariales promovidas por Jóvenes Emprendedores\, Proyectos de I+D+i en el ámbito de la Actividad Agroalimentaria\, Acción Social Solidaria (Premio Hermano Bonifacio) y Recuperación del Patrimonio Histórico-Artístico Provincial. \nDesde el inicio de estos premios la Fundación Caja Rural del Sur ha querido resaltar los trabajos que han realizado entidades\, instituciones\, particulares y empresas que han contribuido a la mejora de la sociedad cordobesa con su aportación en alguna de estas cinco áreas temáticas. \nLos galardonados recibirán una estatuilla alegórica de la entidad convocante y 4.000 € por cada categoría. \nEl plazo para la recepción de solicitudes estará abierto hasta las 23:59 h. del 29 de octubre de 2021\, dándose a conocer el fallo del jurado antes del 31 de diciembre. \nPuede descargarse las bases y el formulario de participación aquí: \nFicha XI Premios Ricardo López Crespo \nAccion Social \nExpediente \nI+D+I \nJovenes emprendedores \nPatrimonio
URL:https://fundacioncajaruraldelsur.com/evento/xi-premios-ricardo-lopez-crespo/
LOCATION:Caja Rural del Sur\, Córdoba\, Avda. Ronda de Tejares\, 36\, Córdoba\, Córdoba\, 14008\, España
CATEGORIES:premios
ATTACH;FMTTYPE=image/jpeg:https://fundacioncajaruraldelsur.com/wp-content/uploads/2019/02/190131.-Premios.jpg
END:VEVENT
BEGIN:VEVENT
DTSTART;TZID=Europe/Helsinki:20210924T080000
DTEND;TZID=Europe/Helsinki:20211130T170000
DTSTAMP:20260421T041350
CREATED:20210924T121738Z
LAST-MODIFIED:20210924T121738Z
UID:10000557-1632470400-1638291600@fundacioncajaruraldelsur.com
SUMMARY:Otoño Cultural Iberoamericano 2021
DESCRIPTION:Más de 40 propuestas culturales componen el programa del OCIb en una amplia variedad de áreas\, como las artes plásticas\, la literatura\, la música\, la danza\, el teatro\, el cine y las tradiciones. \nEntre los aspectos destacados\, este año habrá una semana\, concretamente del 2 al 8 de noviembre\, dedicada a Argentina\, con distintas actividades en torno a la cultura y tradiciones de este país iberoamericano. \nEn el capítulo de las exposiciones\, ocho muestras de distintas modalidades de las artes plásticas y visuales visitarán 15 espacios expositivos en Huelva y provincia y en Sevilla.
URL:https://fundacioncajaruraldelsur.com/evento/otono-cultural-iberoamericano-2021/
LOCATION:Huelva\, Huelva\, Huelva\, España
CATEGORIES:Exposiciones
ATTACH;FMTTYPE=image/jpeg:https://fundacioncajaruraldelsur.com/wp-content/uploads/2021/09/2.jpg
END:VEVENT
BEGIN:VEVENT
DTSTART;TZID=Europe/Helsinki:20211011T080000
DTEND;TZID=Europe/Helsinki:20211025T170000
DTSTAMP:20260421T041350
CREATED:20211011T185238Z
LAST-MODIFIED:20211011T185238Z
UID:10000708-1633939200-1635181200@fundacioncajaruraldelsur.com
SUMMARY:II Edición de los Premios de Investigación ‘José Luis García Palacios’
DESCRIPTION:La Cátedra de la Empresa Familiar de Fundación Caja Rural del Sur convoca los premios ‘José Luis García Palacios’ \n \nDesde el lunes\, 11 de octubre\, y hasta al 25 de octubre de 2021 ha quedado abierto el plazo para presentar las candidaturas a la II Edición de los Premios de Investigación ‘José Luis García Palacios’\, tanto en el ámbito de Ciencia y Tecnología como en el Humanístico-Social\, que han sido convocados desde el Vicerrectorado de Innovación y Empleabilidad de la Universidad de Huelva\, a través de la Cátedra de Empresa Familiar de la Fundación Caja Rural del Sur. \nEl objetivo de estos premios de la Universidad de Huelva es el de valorar y estimular la labor de sus investigadores\, centrado en el reconocimiento a la trayectoria investigadora del personal docente e investigador en dos grandes ámbitos del conocimiento como son: Ciencia y Tecnología y Ciencias Sociales y Humanidades. \nPodrán participar en dicha convocatoria aquellos candidatos que reúnan los siguientes requisitos: poseer la nacionalidad española o de algún país miembro de la Unión Europea o extranjero residente en España y estar vinculado contractualmente de manera permanente con la Universidad de Huelva en el momento de ser propuesto para el Premio; tener reconocido\, al menos\, un sexenio de investigación vivo; cumplir con los plazos y demás disposiciones establecidos en la presente convocatoria; y\, finalmente\, no haber percibido ningún premio\, tanto monetario como no monetario\, en una convocatoria similar de la Universidad de Huelva. \nLa solicitud\, junto con la documentación se presentará en formato digital a través del Registro Telemático de la UHU\, dentro del plazo establecido en la convocatoria\, e irá dirigida al Vicerrectorado de Innovación y Empleabilidad incluyendo en el asunto “Premio Investigación JLGP 2021”. Asimismo\, toda la información referente a dicha convocatoria estará disponible en el Tablón Electrónico Oficial (TEO) de la Universidad de Huelva y en el enlace: https://sede.uhu.es/teo.php \n  \n  \n  \n 
URL:https://fundacioncajaruraldelsur.com/evento/ii-edicion-de-los-premios-de-investigacion-jose-luis-garcia-palacios/
LOCATION:Universidad de Huelva\, Huelva\, Huelva
CATEGORIES:premios
ATTACH;FMTTYPE=image/png:https://fundacioncajaruraldelsur.com/wp-content/uploads/2021/10/Investigadores.png
END:VEVENT
BEGIN:VEVENT
DTSTART;TZID=Europe/Helsinki:20211018T080000
DTEND;TZID=Europe/Helsinki:20211116T170000
DTSTAMP:20260421T041350
CREATED:20211006T230229Z
LAST-MODIFIED:20211011T101610Z
UID:10000705-1634544000-1637082000@fundacioncajaruraldelsur.com
SUMMARY:Evento gastronómico: Córdoba Califato Gourmet
DESCRIPTION:Con la firma de un convenio de colaboración\, Fundación Caja Rural del Sur quiere apostar por la nueva edición del evento gastronómico Córdoba Califato Gourmet que se inicia el próximo 18 de octubre con una webinar y tendrá sus días presenciales desde el 14 al 16 de noviembre\, con el objetivo de la promoción gastronómica del Destino Córdoba. \nEl acuerdo lo han firmado\, en representación de la Fundación Caja Rural del Sur su vicepresidente Ricardo López-Crespo\, quien estuvo acompañado de Pedro Martínez\, director de Unidad de Negocio en Caja Rural del Sur\, y los organizadores del evento\, Antonio Caño y Enrique Merino. \n \nLa webinar del 18 de octubre\, con el lema ‘Apostando por la gastronomía cordobesa’\, es una acción virtual de promoción gastronómica del Destino Córdoba\, desde la perspectiva de los chefs Estrella Michelin participantes en ediciones anteriores. Durante 4 horas los asistentes\, especialmente los comunicadores gastronómicos\, tendrán la oportunidad de escuchar a importantes chefs del panorama nacional hablar sobre su experiencia en Córdoba Califato Gourmet y su opinión sobre la gastronomía de Córdoba. También está prevista la asistencia de Agentes de Viajes y tour operadores turísticos de toda España.
URL:https://fundacioncajaruraldelsur.com/evento/evento-gastronomico-cordoba-califato-gourmet/
LOCATION:Córdoba\, Córdoba\, Córdoba
CATEGORIES:Patrimonio cultural
ATTACH;FMTTYPE=image/jpeg:https://fundacioncajaruraldelsur.com/wp-content/uploads/2019/07/Córdoba.jpg
END:VEVENT
BEGIN:VEVENT
DTSTART;TZID=Europe/Helsinki:20211025T180000
DTEND;TZID=Europe/Helsinki:20211108T210000
DTSTAMP:20260421T041350
CREATED:20210920T083402Z
LAST-MODIFIED:20210920T103539Z
UID:10000552-1635184800-1636405200@fundacioncajaruraldelsur.com
SUMMARY:Exposición de fotografía: 'Acromasia'\, de Juan Blas Leal
DESCRIPTION:El próximo 25 de octubre\, inauguramos la exposición de Juan Blas Leal ‘Acromasia’ 20:00 hr en la Sala de exposiciones Fundación Caja Rural del Sur\, el Centro Cultural José Luis García Palacios. La exposición abarcará desde el 26 de Octubre – 8 de Noviembre. \nEl horario será de lunes a viernes de 18.00 a 21:00 hr. \nEL AUTOR\nJuan Blas Leal. Huelva 1953.Realizó sus estudios en la Facultad de Ciencias de la Información\, Universidad Complutense de Madrid. \nToda una vida dedicada al mundo audiovisual. \nRealizador en TVE durante más de 20 años. Excedencia voluntaria para desarrollar mi actividad profesional en Antena3 TV\, Canal Sur TV\, Castilla la Mancha TV y distintas productoras de ámbito nacional para televisiones autonómicas. \nMiembro fundador de la Academia de la TV y de la Asociación de realizadores de TV. \nActualmente Productor Ejecutivo de Niebla desarrollo de formatos para TV.
URL:https://fundacioncajaruraldelsur.com/evento/exposicion-acromasia-de-juan-blas-leal/
LOCATION:Fundación Caja Rural del Sur Huelva\, C/ Alcalde Mora Claros 6-8\, Huelva\, Huelva\, 21001\, España
CATEGORIES:Exposición
ATTACH;FMTTYPE=image/jpeg:https://fundacioncajaruraldelsur.com/wp-content/uploads/2019/01/Exposicion_Fotografia.jpg
GEO:37.2583599;-6.9535303
X-APPLE-STRUCTURED-LOCATION;VALUE=URI;X-ADDRESS=Fundación Caja Rural del Sur Huelva C/ Alcalde Mora Claros 6-8 Huelva Huelva 21001 España;X-APPLE-RADIUS=500;X-TITLE=C/ Alcalde Mora Claros 6-8:geo:-6.9535303,37.2583599
END:VEVENT
BEGIN:VEVENT
DTSTART;TZID=Europe/Helsinki:20211026T070000
DTEND;TZID=Europe/Helsinki:20211026T220000
DTSTAMP:20260421T041350
CREATED:20211015T085252Z
LAST-MODIFIED:20211018T131421Z
UID:10000709-1635231600-1635285600@fundacioncajaruraldelsur.com
SUMMARY:Apertura de Curso de la Academia Iberoamericana de La Rábida
DESCRIPTION:LA ACADEMIA IBEROAMERICANA DE LA RÁBIDA celebra el solemne del acto de apertura del curso\n2021-2022 con el homenaje póstumo al Ilmo. Sr. D. Francisco Garfias López\, Académico de Número de la Academia Iberoamericana de la Rábida. \nImpartirá la conferencia «El Revés del Silencio. Los temas de la poesía de Francisco Garfias (6/XII/1920-26/X/2010)» el Ilmo. Sr. D. Luis Manuel de la Prada Hernández\, Secretario General de la Academia Andaluza de la Historia. \n26 de Octubre a las 19.00 horas en Fundación Caja Rural del Sur Huelva   \nC/ Alcalde Mora Claros\, 8-21001. 
URL:https://fundacioncajaruraldelsur.com/evento/apertura-de-curso-de-la-academia-iberoamericana-de-la-rabida/
LOCATION:Fundación Caja Rural del Sur Huelva\, C/ Alcalde Mora Claros 6-8\, Huelva\, Huelva\, 21001\, España
CATEGORIES:Jornadas
ATTACH;FMTTYPE=image/jpeg:https://fundacioncajaruraldelsur.com/wp-content/uploads/2018/10/Presentacion_Libro.jpg
GEO:37.2583599;-6.9535303
X-APPLE-STRUCTURED-LOCATION;VALUE=URI;X-ADDRESS=Fundación Caja Rural del Sur Huelva C/ Alcalde Mora Claros 6-8 Huelva Huelva 21001 España;X-APPLE-RADIUS=500;X-TITLE=C/ Alcalde Mora Claros 6-8:geo:-6.9535303,37.2583599
END:VEVENT
BEGIN:VEVENT
DTSTART;TZID=Europe/Helsinki:20211027T060000
DTEND;TZID=Europe/Helsinki:20211027T213000
DTSTAMP:20260421T041350
CREATED:20211026T084933Z
LAST-MODIFIED:20211026T084933Z
UID:10000559-1635314400-1635370200@fundacioncajaruraldelsur.com
SUMMARY:Jornadas COREHU: ALTERNATIVAS EN EFICIENCIA ENERGÉTICA EN EL REGADÍO
DESCRIPTION:JORNADAS COREHU\nALTERNATIVAS EN EFICIENCIA ENERGÉTICA EN EL REGADÍO\nFECHA: 27 DE OCTUBRE DE 2021\nHORARIO: 18:00 – 20:00\nLUGAR: CENTRO CULTURAL JOSÉ LUIS GARCIA PALACIOS\nSALÓN DE ACTOS DE FUNDACIÓN CAJA RURAL DEL SUR\nC/ALCALDE MORA CLAROS\, 6 \nINSCRIPCIONES PARA ASISTENCIA: info@corehu.org \n\nPROGRAMA\n18:00 Inauguración de la Jornada\, realizada por D. Juan Antonio Millán Jaldón (Presidente de COREHU) y D. José Luis García Palacios (Presidente de Caja Rural del Sur). \n\n18:10 Programas de ayuda a la financiación de proyectos de eficiencia energética en explotaciones agropecuarias\, realizado por Dña. María José Colinet (Directora de Financiación y Promoción de Actuaciones Energéticas en Agencia Andaluza de la Energía). \n\n18:30 Ahorro y Eficiencia energética en regadios\, realizada por D. Juan Andrés Reale (CEO Grupo REALZA).\n18:50 Alternativas a la situación energética actual\, realizada por Dña. Cristina Vicente (CEO en TSO\, The South Oracle). \n\n19:10 Mesa redonda “Retos energéticos en el regadío”\, moderada por D. Jorge Forné (Secretario Gnral. de COREHU) y en la que participaran representantes de tres comunidades de regantes\, TSO y Realza Ingenierios. \n\n19:40 Ruegos y preguntas.\n19:55 Cierre
URL:https://fundacioncajaruraldelsur.com/evento/jornadas-corehu-alternativas-en-eficiencia-energetica-en-el-regadio/
LOCATION:Fundación Caja Rural del Sur Huelva\, C/ Alcalde Mora Claros 6-8\, Huelva\, Huelva\, 21001\, España
CATEGORIES:conferencias
ATTACH;FMTTYPE=image/jpeg:https://fundacioncajaruraldelsur.com/wp-content/uploads/2021/10/COREHU.jpg
GEO:37.2583599;-6.9535303
X-APPLE-STRUCTURED-LOCATION;VALUE=URI;X-ADDRESS=Fundación Caja Rural del Sur Huelva C/ Alcalde Mora Claros 6-8 Huelva Huelva 21001 España;X-APPLE-RADIUS=500;X-TITLE=C/ Alcalde Mora Claros 6-8:geo:-6.9535303,37.2583599
END:VEVENT
BEGIN:VEVENT
DTSTART;TZID=Europe/Helsinki:20211028T080000
DTEND;TZID=Europe/Helsinki:20211028T133000
DTSTAMP:20260421T041350
CREATED:20211011T100004Z
LAST-MODIFIED:20211011T103554Z
UID:10000706-1635408000-1635427800@fundacioncajaruraldelsur.com
SUMMARY:Jornada-Taller del Plan Hidrológico del Guadiana
DESCRIPTION:Plan Hidrológico de tercer ciclo (2022-2027)\nTercer taller participativo. Ámbito territorial: Sur de la cuenca \n11:00 h: Bienvenida a cargo de la Confederación Hidrográfica del Guadiana.\n11:10 h: Presentación y contextualización del Plan Hidrológico. Programa de medidas.\n11:40 h: Dinámica participativa. A21SoCtenible.\n13:20 h: Clausura del taller. \nJueves\, 28 de octubre 2021\nCentro Cultural José Luis García Palacios\nSalón de actos de Fundación Caja Rural del Sur\nC/ Alcalde Mora Claros\, 6-8-Huelva \nProgramaGDN_Taller PH Guadiana
URL:https://fundacioncajaruraldelsur.com/evento/jornada-taller-del-plan-hidrologico-del-guadiana/
LOCATION:Fundación Caja Rural del Sur Huelva\, C/ Alcalde Mora Claros 6-8\, Huelva\, Huelva\, 21001\, España
CATEGORIES:Jornadas
ATTACH;FMTTYPE=image/jpeg:https://fundacioncajaruraldelsur.com/wp-content/uploads/2021/10/PH.jpg
GEO:37.2583599;-6.9535303
X-APPLE-STRUCTURED-LOCATION;VALUE=URI;X-ADDRESS=Fundación Caja Rural del Sur Huelva C/ Alcalde Mora Claros 6-8 Huelva Huelva 21001 España;X-APPLE-RADIUS=500;X-TITLE=C/ Alcalde Mora Claros 6-8:geo:-6.9535303,37.2583599
END:VEVENT
BEGIN:VEVENT
DTSTART;TZID=Europe/Helsinki:20211028T080000
DTEND;TZID=Europe/Helsinki:20211030T170000
DTSTAMP:20260421T041350
CREATED:20210922T193017Z
LAST-MODIFIED:20210922T193234Z
UID:10000554-1635408000-1635613200@fundacioncajaruraldelsur.com
SUMMARY:Expofare 2021: Feria de la agricultura de regadío del Valle del Guadalquivir
DESCRIPTION:Los próximos 28\,29\,y 30 de octubre celebramos ExpoFare\, una iniciativa del Ayuntamiento de Fuente Palmera para la puesta en valor de las innovaciones vinculadas con la Agricultura de Regadío. \nDespués del éxito alcanzado en las ediciones ya realizadas\, ExpoFare esta considerada\, en el ámbito profesional\, como una de las citas prioritarias para las empresas y profesionales que ofrecen soluciones para toda la cadena de valor del sector agroalimentario. \nLa Colonia de Fuente Palmera\, en el centro del Valle del Guadalquivir\, es un lugar estratégico para la realización de ExpoFare\, ya considerado como uno de los grandes eventos del sur de Europa\, creado para facilitar el encuentro entre la oferta de tecnologías\, productos y servicios de la Agricultura de Regadío con los agricultores y técnicos que trabajan en este sector. \nPara las empresas\, ExpoFare y la Colonia de Fuente Palmera\, son un escenario perfecto para poner en valor sus avances e innovaciones\, sus nuevos productos y servicios y tener encuentros profesionales con los diferentes agentes de los sectores agrario y agroindustrial para propiciar nuevas oportunidades de negocio. \nExpoFare en su edición de 2021 pondrá el foco en el cambio climático y la agricultura ecológica por el gran interés que tiene para todos lo relacionado con el sector ecológico\, en dar a conocer sistemas y tecnologías que mejoren la gestión eficiente del consumo de agua\, promoviendo el lema “utiliza el agua como un bien escaso”. \nOBJETIVOS\nEl objetivo principal de ExpoFare 2021 es conseguir que la citada feria sea un lugar de referencia anual y un punto de encuentro en el que agricultores y empresarios puedan tener contacto con los avances y tecnologías del sector agrario\, especialmente en relación al regadío. \nSerá una cita de referencia en la que se darán a conocer los avances técnicos y las innovaciones mas importantes para su aplicación en todos los procesos de la Agricultura de Regadío. \nLos pilares básicos de ExpoFare 2021 son los siguientes: \n\nEmpresas exhibidoras\, como generadoras de información y conocimiento aplicable en las innovaciones para la mejora de la gestión en la cadena de valor de la Agricultura de Regadío. Presentarán a los visitantes profesionales las últimas novedades tecnológicas para hacer mas rentables las explotaciones y mejorar la calidad.\nAgricultores y técnicos cuya misión es seguir fortaleciendo la viabilidad y sostenibilidad de sus explotaciones.\n\n\nEspacio de información y transmisión de conocimiento\, en unas Jornadas Técnicas con conferencias y paneles de expertos que abordarán cuestiones de máximo interés y actualidad para la Agricultura de Regadío.\n\n\nEspacio para generar nuevos contactos profesionales y oportunidades de negocio a través de las reuniones B2B y las presentaciones comerciales.
URL:https://fundacioncajaruraldelsur.com/evento/expofare-2021-feria-de-la-agricultura-de-regadio-del-valle-del-guadalquivir/
LOCATION:Espacio habilitado en la colonia de Fuente Palmera\, Córdoba\, Córdoba
CATEGORIES:Ferias
ATTACH;FMTTYPE=image/jpeg:https://fundacioncajaruraldelsur.com/wp-content/uploads/2021/09/Diseno-sin-titulo-4.jpg
END:VEVENT
END:VCALENDAR