BEGIN:VCALENDAR
VERSION:2.0
PRODID:-//Fundación Caja Rural del Sur - ECPv6.15.17//NONSGML v1.0//EN
CALSCALE:GREGORIAN
METHOD:PUBLISH
X-ORIGINAL-URL:https://fundacioncajaruraldelsur.com
X-WR-CALDESC:Eventos para Fundación Caja Rural del Sur
REFRESH-INTERVAL;VALUE=DURATION:PT1H
X-Robots-Tag:noindex
X-PUBLISHED-TTL:PT1H
BEGIN:VTIMEZONE
TZID:Europe/Helsinki
BEGIN:DAYLIGHT
TZOFFSETFROM:+0200
TZOFFSETTO:+0300
TZNAME:EEST
DTSTART:20180325T010000
END:DAYLIGHT
BEGIN:STANDARD
TZOFFSETFROM:+0300
TZOFFSETTO:+0200
TZNAME:EET
DTSTART:20181028T010000
END:STANDARD
BEGIN:DAYLIGHT
TZOFFSETFROM:+0200
TZOFFSETTO:+0300
TZNAME:EEST
DTSTART:20190331T010000
END:DAYLIGHT
BEGIN:STANDARD
TZOFFSETFROM:+0300
TZOFFSETTO:+0200
TZNAME:EET
DTSTART:20191027T010000
END:STANDARD
BEGIN:DAYLIGHT
TZOFFSETFROM:+0200
TZOFFSETTO:+0300
TZNAME:EEST
DTSTART:20200329T010000
END:DAYLIGHT
BEGIN:STANDARD
TZOFFSETFROM:+0300
TZOFFSETTO:+0200
TZNAME:EET
DTSTART:20201025T010000
END:STANDARD
BEGIN:DAYLIGHT
TZOFFSETFROM:+0200
TZOFFSETTO:+0300
TZNAME:EEST
DTSTART:20210328T010000
END:DAYLIGHT
BEGIN:STANDARD
TZOFFSETFROM:+0300
TZOFFSETTO:+0200
TZNAME:EET
DTSTART:20211031T010000
END:STANDARD
END:VTIMEZONE
BEGIN:VEVENT
DTSTART;TZID=Europe/Helsinki:20191106T080000
DTEND;TZID=Europe/Helsinki:20200212T170000
DTSTAMP:20260420T084619
CREATED:20191031T184330Z
LAST-MODIFIED:20191031T184832Z
UID:10000610-1573027200-1581526800@fundacioncajaruraldelsur.com
SUMMARY:III Ciclo de 'Reflexiones sobre Huelva'
DESCRIPTION:Arrancamos el tercer ciclo de conferencias sobre “Reflexiones sobre Huelva” que celebraremos todos los miércoles a las 19 horas. Son retransmitidas por televisión “Canal Luz – Palos RTV” y una vez celebrada\, se pueden visualizar en la WEB de la Fundación Juan Manuel Flores Jimeno. \nCONFERENCIAS\n06/11/19 “La medicina una profesión vocacional\, la evolución de la asistencia médica”. \nMedico: D. Antonio Aguado Núñez – Cornejo. Presidente del Colegio de Médicos de Huelva. \n13/11/19 «Las fortificaciones señoriales onubenses: balance y perspectivas de la investigación». \nDr. D. Juan Luis Carriazo Rubio. Profesor Titular de Historia Medieval\, de la Universidad de Huelva. \n20/11/19 “El Jamón de Huelva. Uno de los manjares de nuestra provincia”. \nVeterinario: D. Martin Rodríguez Camero\, Ex-Delegado de Agricultura de la provincia de Huelva. \n27/11/19 “Periodismo y libertad de prensa: El Centro de la Comunicación Jesús Hermida como referente en España”. \nPeriodista: D. Rafael José Terán Giménez de Cisneros. Presidente de la Asociación de Prensa de Huelva \n04/12/19 Huelva: “Una provincia con agua y con futuro”. \nQuímico: D. Fernando Sánchez Pérez. Secretario – Gerente de la Comunidad de Regantes de Palos de la Frontera. \n11/12/19 “Expresiones emocionales en el Andévalo”. \nPoeta: D. Ramón LLanes. \n18/12/19 El cine: algunas reflexiones. \nDoctor en Historia. Consultor cinematográfico\, D. Francisco López Villarejo. \n08/01/20 «En Huelva: lo que se ha hecho\, lo que no se ha hecho y lo que se ha hecho mal”. \nArquitecto: D. Alfonso Aramburu Terrades \n15/01/20 “El legado de Isidro Pinedo Vara y su contribución a la minería y desarrollo industrial de Huelva”. \nDr. D. Juan Carlos Fernández Caliani\, Profesor de la UHU. \n22/01/20 Innovación social en Huelva: “El Modelo de Senior Cohousing Huelva\, en el edificio Ferroviarios\, pionero en Innovación Social en España». \nD. Pedro Ponce Camarena\, Gestor del Proyecto y Presidente de la Cooperativa\, doctorando en Ciencias Sociales en la UHU. \n29/01/20 “Francisco Montenegro: un director clave en la historia del Puerto de Huelva”. \nDra. Dña. Ana Mª Mojarro. Directora de los Archivos del Puerto de Huelva \n05/02/20 «Cuatro siglos del edificio del convento de la Merced». \nD. Guillermo Orozco Muñoz\, arquitecto de la última rehabilitación del edificio. \n12/02/20 “Las rutas marítimas para llegar a las Indias de las especies: el Mundus Novus” \nDr. D Manuel Flores Caballero\, catedrático Universidad y Presidente de la Fundación JMFJ.
URL:https://fundacioncajaruraldelsur.com/evento/iii-ciclo-de-reflexiones-sobre-huelva/
LOCATION:Fundación Caja Rural del Sur Huelva\, C/ Alcalde Mora Claros 6-8\, Huelva\, Huelva\, 21001\, España
CATEGORIES:conferencias
ATTACH;FMTTYPE=image/jpeg:https://fundacioncajaruraldelsur.com/wp-content/uploads/2019/09/Huelva.jpg
GEO:37.2583599;-6.9535303
X-APPLE-STRUCTURED-LOCATION;VALUE=URI;X-ADDRESS=Fundación Caja Rural del Sur Huelva C/ Alcalde Mora Claros 6-8 Huelva Huelva 21001 España;X-APPLE-RADIUS=500;X-TITLE=C/ Alcalde Mora Claros 6-8:geo:-6.9535303,37.2583599
END:VEVENT
BEGIN:VEVENT
DTSTART;TZID=Europe/Helsinki:20191211T183000
DTEND;TZID=Europe/Helsinki:20191211T183000
DTSTAMP:20260420T084619
CREATED:20191204T212727Z
LAST-MODIFIED:20191204T212727Z
UID:10000647-1576089000-1576089000@fundacioncajaruraldelsur.com
SUMMARY:Conferencia: "Desactivando al monstruo de las cloacas"
DESCRIPTION:El próximo miércoles 11 de diciembre participamos en la conferencia Desactivando al monstruo de las cloacas.. (y otras historias de terror en el saneamiento). \nEste es el título con el que Rafael Marín\, el responsable de calidad de Empresa Municipal de Aguas de Córdoba S. A. – Emacsa\, abordará la próxima conferencia sobre el grave problema de las ‘toallitas’ y el coste que tiene para las redes de saneamiento de cualquier ciudad de España.
URL:https://fundacioncajaruraldelsur.com/evento/conferencia-desactivando-al-monstruo-de-las-cloacas/
LOCATION:Caja Rural del Sur\, Córdoba\, Avda. Ronda de Tejares\, 36\, Córdoba\, Córdoba\, 14008\, España
CATEGORIES:conferencias
ATTACH;FMTTYPE=image/jpeg:https://fundacioncajaruraldelsur.com/wp-content/uploads/2019/12/Banner_cloacas.jpg
END:VEVENT
BEGIN:VEVENT
DTSTART;TZID=Europe/Helsinki:20191212T100000
DTEND;TZID=Europe/Helsinki:20191212T113000
DTSTAMP:20260420T084620
CREATED:20191129T190052Z
LAST-MODIFIED:20191129T190225Z
UID:10000644-1576144800-1576150200@fundacioncajaruraldelsur.com
SUMMARY:Presentación del libro: 'Conversaciones en El Conquero con José Vilaplana Blasco'
DESCRIPTION:El próximo día 12 presentamos  en Huelva la obra: Conversaciones en El Conquero con José Vilaplana Blasco\, del autor Eduardo j Sugrañes Gómez. \nEL AUTOR\nEDUARDO j SUGRAÑES GÓMEZ (1962)\, periodista\, jefe de sección de Huelva Información. Autor de numerosos libros de in­vestigación y crónicas de muy diversos temas de Huelva\, entre ellos: ‘Los inolvidables días de Huelva y la visita del papa Juan Pablo II Huel- va’. ‘Historia de la Semana Santa en Huelva’. ‘La Milagrosa y las Hijas de la Caridad en Huelva’. ‘Las Hermanas de la Cruz en Huelva’. ‘La Inma­culada Concepción y su Monumento en Huel­va’. ‘Cinta coronada’. ‘La Cinta santuario de fe y amor onubense’. ‘Crónica del Rocío’. \n \nJOSÉ VILAPLANA BLASCO\nLlegó a Huelva en septiembre de 2006. Se trata de una persona cercana\, dialogante y sencilla\, que en poco tiempo supo conectar con la realidad onubense y el carácter andaluz. Procedía de la sede episcopal de Santander donde estaba desde 1991. \nNacido en Benimarfull (Alicante)\, el 5 de diciembre de 1944\, cursó estudios eclesiásticos en el Seminario Metropolitano de Valencia\, recibiendo la ordenación sacerdotal el 25 de mayo de 1972. Estudió Teología Espiritual en la Pontiñcia Universidad Gregoriana de Roma\, en el curso 1980-81. \nInició su misterio\, de 1972 a 1974\, como coadjutor en la parroquia Cristo Rey de Gandía (Valencia). Desde ese año y hasta 1980 fue rector del Seminario Menor de Játiva y responsable del Instituto de BUP de la misma población. Vicario episcopal de la zona de Alcoy-Onteniente y párroco de Penáguilla\, Benifallim y Alcolecha entre 1981 y 1984. En 1984 fue párroco de San Mauro y San Francisco en Alcoy (Alicante). \nEl 20 de noviembre de 1984 fue nombrado obispo auxiliar de Valencia y recibió la ordenación episcopal el 27 de diciembre de ese mismo año. El 23 de agosto de 1991 fue trasladado a la sede episcopal de Santander. \nEn la Conferencia Episcopal Española ha sido el presidente de la Comisión Episcopal del Clero. Con fecha 17 de julio de 2006\, fue nombrado obispo de Huelva\, sede de la que toma posesión el día 23 de septiembre de 2006. \nSINOPSIS\nConversaciones en El Conquero. Desde su llegada a la sede episcopal de Huelva\, José Vilaplana Blasco mostró una gran cercanía a to­dos\, fruto de ello son las entrevistas que anual­mente se han publicado el Domingo de Ramos en el diario Huelva Información como antesala a la celebración de la Semana Santa y que ahora se recogen en este libro con el patrocinio de la Fundación Caja Rural del Sur\, a modo de com­pendio de todo este tiempo como pastor de esta Diócesis. \nEn ella aparecen temas que son motivos para la reflexión\, así como un análisis directo de los acontecimientos que han ido sucediendo a lo largo de estos años y que no solo afectan a la vida de la Diócesis sino a la sociedad onubense. \nAhora que José Vilaplana Blasco cumple sus 75 años de edad y va a cerrar una etapa como obispo en Huelva\, este compendio de entrevis­tas supone el más claro documento del servicio prestado a la provincia onubense. Tendrá tam­bién el valor de futuro\, como instrumento para poder acercarse en una lectura sosegada y entrar­en el mensaje apostólico que tienen sus palabras.
URL:https://fundacioncajaruraldelsur.com/evento/presentacion-del-libro-conversaciones-en-el-conquero-con-jose-vilaplana-blasco/
LOCATION:Fundación Caja Rural del Sur Huelva\, C/ Alcalde Mora Claros 6-8\, Huelva\, Huelva\, 21001\, España
CATEGORIES:Presentaciones
ATTACH;FMTTYPE=image/jpeg:https://fundacioncajaruraldelsur.com/wp-content/uploads/2019/10/Iglesia.jpg
GEO:37.2583599;-6.9535303
X-APPLE-STRUCTURED-LOCATION;VALUE=URI;X-ADDRESS=Fundación Caja Rural del Sur Huelva C/ Alcalde Mora Claros 6-8 Huelva Huelva 21001 España;X-APPLE-RADIUS=500;X-TITLE=C/ Alcalde Mora Claros 6-8:geo:-6.9535303,37.2583599
END:VEVENT
BEGIN:VEVENT
DTSTART;TZID=Europe/Helsinki:20191212T190000
DTEND;TZID=Europe/Helsinki:20191212T190000
DTSTAMP:20260420T084620
CREATED:20191122T192917Z
LAST-MODIFIED:20191122T192917Z
UID:10000640-1576177200-1576177200@fundacioncajaruraldelsur.com
SUMMARY:Presentación del libro: 'Historia General de la Semana Santa de Sevilla'
DESCRIPTION:El próximo día 12 de diciembre acogemos en nuestro salón de actos de Sevilla la presentación del libro: Historia General de la Semana Santa de Sevilla\, de los autores Álvaro Pastor Torres\, Francisco Robles y Manuel Jesús Roldán. Además la obra cuenta con el prólogo de Ignacio Camacho.  \nDe la mano de El Paseo Editorial\, te invitamos a esta magnífica charla-presentación sobre una de las tradiciones más importantes de la región andaluza.
URL:https://fundacioncajaruraldelsur.com/evento/presentacion-del-libro-historia-general-de-la-semana-santa-de-sevilla/
LOCATION:Fundación Caja Rural del Sur Sevilla\, C/ Murillo\, 2\, Sevilla\, Sevilla\, 41001\, España
CATEGORIES:Presentaciones
ATTACH;FMTTYPE=image/jpeg:https://fundacioncajaruraldelsur.com/wp-content/uploads/2019/01/Semana-Santa.jpg
GEO:37.2583599;-6.9535303
X-APPLE-STRUCTURED-LOCATION;VALUE=URI;X-ADDRESS=Fundación Caja Rural del Sur Sevilla C/ Murillo 2 Sevilla Sevilla 41001 España;X-APPLE-RADIUS=500;X-TITLE=C/ Murillo\, 2:geo:-6.9535303,37.2583599
END:VEVENT
BEGIN:VEVENT
DTSTART;TZID=Europe/Helsinki:20191212T200000
DTEND;TZID=Europe/Helsinki:20191212T200000
DTSTAMP:20260420T084620
CREATED:20191028T220515Z
LAST-MODIFIED:20191028T220515Z
UID:10000608-1576180800-1576180800@fundacioncajaruraldelsur.com
SUMMARY:Ciclo Cultural de la Pia Unión del Santísimo Sacramento de Huelva
DESCRIPTION:El próximo 21 de noviembre iniciamos el Ciclo Cultural de la Pia Unión del Santísimo Sacramento de Huelva\, organizado por la propia Asociación desde 2014. \nPIA UNIÓN\nLa Pía Unión del Santísimo Sacramento de Huelva es una asociación de fieles dedicada a promover la adoración a Dios en el Santísimo Sacramento del Altar\, que congrega en su seno a más de un centenar hermanos y hermanas de toda edad y condición. \nLa idea surge en abril de 2014\, de la mano de Monseñor don José Vilaplana\, donde se expuso la necesidad de difundir y acrecentar la devoción eucarística en la ciudad\, siendo erigida canónicamente por Decreto Episcopal de 9 de abril de 2015. \nTiene establecido diariamente un Turno de Adoración y Vela en el que se acompaña la Exposición Mayor de S.D.M. todas las tardes del año\, y los terceros jueves de cada mes\, celebra un acto comunitario previo a la Eucaristía\, con Rezo de Vísperas\, Meditación\, Adoración y Bendición. \nPero su mayor celebración\, que se viene consolidando como uno de los actos de cultos más solemnes de la ciudad\, es la Fiesta de la tradicional \nOctava del Corpus\, que es precedida por un Triduo preparatorio\, y que recupera con formas muy barrocas una procesión claustral de exaltación eucarística extraordinaria y solemnísima\, que es siempre presidida por el Obispo de la Ciudad. \nCICLO CULTURAL\nAdemás de los cultos propios que desarrolla\, tiene entre sus fines la divulgación del bagaje artístico\, cultural y antropológico de las celebraciones tradicionales de Corpus\, así como promover la formación mediante el debate Fe y Razón. Es en este ámbito\, donde proyectamos la organización de un nuevo Ciclo Cultural\, con el que dar cumplimiento a ese objetivo concreto de difundir esa parte de nuestro folclore popular\, vinculado a las tradiciones de la celebración del Corpus Christi\, así como temas de reflexión general. \nEn estos años\, han pasado por el Ciclo Cultural las voces más autorizadas en los temas tratados\, habiendo contado con la presencia de varios obispos\, académicos\, escritores y periodistas de primera línea. \n  \nCICLO CULTURAL 2019\n  \n– 21 DE NOVIEMBRE\, JUEVES\, 20:00 horas\nMESA REDONDA: EL PERIODISMO Y LA RELIGIOSIDAD POPULAR \n\nAntonio García Barbeito\, Escritor y periodista\nSaray Acosta\, Directora Oficina de Prensa Obispado de Huelva\n Manuel Jesús Montes\, Periodista y cofrade\n\n  \n– 28 DE NOVIEMBRE\, JUEVES\, 20:00 horas\nCONFERENCIA: LA ESPERANZA EN LA ENFERMEDAD \n\nJosé María Rubio\, Académico de la Real Academia de Medicina de Sevilla\nPresentado por Juan Sabaté Díaz\, también Académico.\n\n  \n– 12 DE DICIEMBRE\, JUEVES\, 20:00 horas\nMESA REDONDA: EL PREGÓN\, OPORTUNIDAD DE EVANGELIZACIÓN \n\nRafael Prada Sierra\, pregonero\nManuel Gómez Beltrán\, pregonero\nJosé Antonio Mancheño Jiménez\, pregonero\nManuel J. Rodríguez Redondo\, pregonero\n\n  \n– 21 DE DICIEMBRE\, SABADO\, 10:00 horas\nDESAYUNO SOLIDARIO \nEn el que se desarrollará la Charla: LOS SILENCIOS DE PIO XII o Antonio López Jiménez\, Académico de la Real Academia de Medicina de Sevilla. \n  \n  \n 
URL:https://fundacioncajaruraldelsur.com/evento/ciclo-cultural-de-la-pia-union-del-santisimo-sacramento-de-huelva/2019-12-12/
LOCATION:Fundación Caja Rural del Sur Huelva\, C/ Alcalde Mora Claros 6-8\, Huelva\, Huelva\, 21001\, España
CATEGORIES:conferencias
ATTACH;FMTTYPE=image/jpeg:https://fundacioncajaruraldelsur.com/wp-content/uploads/2019/10/Iglesia.jpg
GEO:37.2583599;-6.9535303
X-APPLE-STRUCTURED-LOCATION;VALUE=URI;X-ADDRESS=Fundación Caja Rural del Sur Huelva C/ Alcalde Mora Claros 6-8 Huelva Huelva 21001 España;X-APPLE-RADIUS=500;X-TITLE=C/ Alcalde Mora Claros 6-8:geo:-6.9535303,37.2583599
END:VEVENT
BEGIN:VEVENT
DTSTART;TZID=Europe/Helsinki:20191213T110000
DTEND;TZID=Europe/Helsinki:20191214T210000
DTSTAMP:20260420T084620
CREATED:20191115T215142Z
LAST-MODIFIED:20191126T190926Z
UID:10000636-1576234800-1576357200@fundacioncajaruraldelsur.com
SUMMARY:Mercadillo solidario: Fundación Laberinto
DESCRIPTION:El próximo 13 y 14 de diciembre inauguramos el mercadillo solidario de la Fundación Laberinto en nuestro Centro Cultural de Huelva. \nEL MERCADILLO\nLa idea del mercadillo solidario nace hace un par de años de un grupo de colaboradoras de la Fundación\, las cuales un día reunidas pensando en cómo podían ayudar a la fundación a buscar nuevos fondos para la creación del centro\, se les ocurrió organizar este evento. \nDesde ese momento empezaron a buscar apoyos en empresas\, particulares\, establecimientos\, pintores\, coros……..\, los cuales donaran artículos\, hicieran donaciones o participaran para esta causa. La respuesta fue muy positiva\, ya que casi todas las empresas o particulares a las que le pedimos ayuda nos respondieron de forma sorprendente\, ya que cuando les presentábamos el proyecto\, no dudaron en colaborar con la causa. \nY así es como desde hace dos años\, celebramos este mercadillo en la Sala de Exposiciones de la Caja Rural\, hoy llamada\, Centro Cultural José Luis García Palacios\, que muy gentilmente nos ceden esos días para tal evento. \nEn dicho mercadillo se pueden encontrar desde cosas artesanas realizadas por particulares que donan parte de las ganancias a la fundación\, dulces artesanos realizados por las colaboradoras\, alimentos típicos de la provincia de Huelva\, cuadros donados por pintores de Huelva\, decoración\, juguetes\, artículos de flamenca\, ropa…. \nDos días que convivimos personas de todas las edades con la satisfacción de poder ayudar a que estos niños tengan su centro en el más corto espacio de tiempo posible. \nFUNDACIÓN LABERINTO\nFundación Laberinto es una iniciativa que persigue la construcción\, puesta en marcha y gestión del Centro Polivalente Pa´lante Popál\, dirigido a la atención de personas con discapacidad y/o enfermedades raras. \nNuestro fin es brindar programas y servicios de atención integral que respondan a las necesidades y expectativas de la población con discapacidad y enfermedades raras\, sus familias y entornos. Mediante un tratamiento individualizado\, integral\, especializado y de inclusión social. Dicho centro pretende cubrir todas las necesidades educativas-formativas\, ocio y tiempo libre\, inserción laboral\, crecimiento y desarrollo personal (autonomía\, autodeterminación)\, bienestar emocional y físico\, desarrollo social potenciando la inserción e inclusión social\, orientación y asesoramiento; de los jóvenes a los que va dirigido\, así como de sus familias. \nFundación Laberinto fue creada en octubre de 2016\, desde ese momento se ponen en marcha diversos proyectos para la consecución de nuestro fin: \n\npor un lado\, la creación del Centro Polivalente Pa´Lante Pópal;\npor otro lado\, ir dando respuesta a las necesidades del Colectivo Discapacitado y/o Enfermedades raras.\n\nPretendemos consolidar los servicios y actividades con los que actualmente cuenta e ir abriendo el abanico de forma que cada día las personas diferentes encuentren soluciones a sus necesidades. \nAnualmente se plantean los distintos programas y proyectos llevados a cabo desde su creación\, como campamentos\, carrera de euro\, festivales\, mercadillo solidario\, etc… \n  \n  \n 
URL:https://fundacioncajaruraldelsur.com/evento/mercadillo-solidario-fundacion-laberinto/
LOCATION:Fundación Caja Rural del Sur Huelva\, C/ Alcalde Mora Claros 6-8\, Huelva\, Huelva\, 21001\, España
CATEGORIES:Acción social
ATTACH;FMTTYPE=image/jpeg:https://fundacioncajaruraldelsur.com/wp-content/uploads/2018/10/Fiesta_muertos_mexico.jpg
GEO:37.2583599;-6.9535303
X-APPLE-STRUCTURED-LOCATION;VALUE=URI;X-ADDRESS=Fundación Caja Rural del Sur Huelva C/ Alcalde Mora Claros 6-8 Huelva Huelva 21001 España;X-APPLE-RADIUS=500;X-TITLE=C/ Alcalde Mora Claros 6-8:geo:-6.9535303,37.2583599
END:VEVENT
BEGIN:VEVENT
DTSTART;TZID=Europe/Helsinki:20191213T190000
DTEND;TZID=Europe/Helsinki:20191213T190000
DTSTAMP:20260420T084620
CREATED:20191128T192101Z
LAST-MODIFIED:20191128T192101Z
UID:10000641-1576263600-1576263600@fundacioncajaruraldelsur.com
SUMMARY:Presentación del libro: 'Más de medio siglo'
DESCRIPTION:El próximo 13 de diciembre presentamos en Huelva la obra  Más de medio siglo\, memorias y anécdotas de caza\, de Francisco García González. \n  \n \nPRÓLOGO\nFue una de las muchas mañanas en las que solíamos pasear por la playa de Punta Umbría en el verano de 2016\, y en las que entre muchas otras conversaciones\, ¿y cómo no? salía el tema de la caza. Mantener con Paco una conversación sin incidir en estas cuestiones es como decir que el mar no tiene mareas; pues bien\, durante una de estas charlas me anunciaba que tenía el deseo de recopilar un montón de anécdotas acompañadas de fotografías\, para publicarlas en un libro\, ya que disponía de bastante material fotográfico relacionado con las mismas y que deseaba que yo fuera quien le escribiera el prólogo de dicho libro.  \nNo me podía negar a tal solicitud y máxime cuando se trataba de uno de mis mejores amigos\, compañero de éxitos y fracasos en muchas cacerías a lo largo de los casi cincuenta años que hace que nos conocemos\, así como de la gran amistad y cariño que he disfrutado siempre de su esposa e hijas.  \nYo ya tuve ocasión de leer algunos de sus artículos que años pasados publicó en revistas del sector cinegético\, pero nunca pensé que a lo largo de sus años de cazador fuera capaz de ir recogiendo en simples notas de campo los acontecimientos de cada una de sus cacerías y además documentarlas con un buena cosecha de fotografías. Toda esta cuestión me fue aclarada cuando en octubre de ese mismo año 2016 recibí un borrador de su primera anécdota con el fin de que la leyera y le diera mi opinión; a este primer relato fueron siguiendo otros muchos hasta llegar a estas fechas\, octubre 2018\, cuando me decía que ya tenía terminado el borrador del libro y que me lo enviaba para ver qué me parecía.  \nMi amigo Paco\, conocido cariñosamente en Huelva por Paco Himasur\, nombre de uno de sus muy exitosos negocios\, autor de este libro\, de fácil lectura\, ha querido perpetuar sus vivencias\, cualquier lector del mismo podrá darse cuenta que le ha puesto\, a lo largo de sus narraciones\, toda la afición y pasión que siente por el mundo de la caza. Yo que he cazado con él\, como decía anteriormente\, en numerosas ocasiones y conociendo cómo se porta en los distintos lances\, diría que hasta se nota a lo largo de sus escritos la tensión y nervios que sufre en el momento cumbre de estos\, así como en el momento de describir las situaciones de los mismos.  \nPaco es un hombre de los que podríamos decir\, sin lugar a ningún tipo de dudas\, que se ha forjado a sí mismo\, tanto en lo profesional como en su gran pasión\, la caza. Se inició en ella cuando contaba quince años por tierras de la sierra de Huelva\, consiguiendo sus primeros éxitos en la caza menor y mayor. Dado el trabajo que ejercía por entonces como pesador oficial de cochinos en montanera con romana\, y en representación de una gran firma ganadera\, se fue haciendo de una serie de amistades y conocimientos\, los cuales le sirvieron para introducirse en los ambientes del mundo de la caza.  \nHe tenido la satisfacción de compartir con él numerosas cacerías\, pues prácticamente recién llegado yo a Huelva por razones profesionales contacté con él allá por el año 1975. Compartimos en primer lugar cotos de caza menor tales como Alcaiz del Pozo\, Pajaritos\, Cuerpo de Oro\, El Saucito\, El Almendro\, Maja del Valle\, etc.\, todos en la provincia de Huelva\, y ya metidos en materia de caza mayor y con motivo de la constitución del Club de Monteros de Huelva en el año 1981\, del que fue su primer tesorero\, y miembro del comité organizador de la primera Exposición de Trofeos de Caza Mayor de Huelva\, mantuvimos una estrecha amistad monteando juntos por toda la provincia de Huelva\, Córdoba\, Sevilla y alguna otra. En cuanto a recechos también hemos pasado estupendas jornadas tras los corzos\, cabras\, gamos y venados por Asturias\, Sevilla\, Huelva\, León\, Granada e incluso saliendo tras los corzos en Hungría.  \nActualmente forma parte de un nuevo club de caza mayor denominado Club Deportivo Monteros de Huelva\, en el que ha tenido cargos de relevancia\, siendo muy querido por el grupo de amigos que lo forman. He tenido la ocasión de asistir con él a varias monterías de las que organizan y he podido comprobar que es el “alma máter” del grupo por su capacidad de organización\, control de las cuentas\, ocurrencias\, etc. La caza que practica con este grupo es la montería\, también lo hace con algunas otras organizaciones a las que yo le he acompañado\, pues él siempre me ha tratado como un hermano en estas cuestiones. En mi caso ya no lo acompaño tanto puesto que he decidido regresar a mis “cuarteles de invierno”.  \nTras las patirrojas y demás caza menuda\, Paco es incansable\, siempre le ha gustado ir con los perros\, pues lo prefiere antes que estar de puertas\, jamás le he escuchado que estaba cansado y entre los amigos y compañeros de cacería decíamos que parecía que tenía un motor en cada pierna\, ya que en muchas ocasiones llegaba a las piezas heridas o abatidas antes que los perros.  \nEn los recechos de montaña me han llegado a decir los guardas que nos acompañaban que jamás habían conocido a una persona mejor preparada físicamente y con tanta afición\, aparte de otras cualidades como su tenacidad para la ejecución de un lance\, no dándose nunca por vencido ante las adversidades\, aprovechándose de la magnífica vista y oído que en tiempos pasados tenía. Una de las cosas que más me llama la atención de él\, es la facilidad que tiene para ver desde muy lejos y sin necesidad de prismáticos\, tanto una perdiz como un ciervo.  \nProfesionalmente\, en el año 2005\, contando con cincuenta y siete años\, se retiró de los negocios pese a sus éxitos profesionales en sus empresas\, momento que supo escoger ya que enseguida llegó la temida crisis. En más de una ocasión me comentaba que en lo referente a él\, el momento era como si le hubiera tocado la lotería\, al haberse retirado a tiempo. 
URL:https://fundacioncajaruraldelsur.com/evento/presentacion-del-libro-mas-de-medio-siglo/
LOCATION:Fundación Caja Rural del Sur Huelva\, C/ Alcalde Mora Claros 6-8\, Huelva\, Huelva\, 21001\, España
CATEGORIES:Presentaciones
ATTACH;FMTTYPE=image/jpeg:https://fundacioncajaruraldelsur.com/wp-content/uploads/2019/11/Caza.jpg
GEO:37.2583599;-6.9535303
X-APPLE-STRUCTURED-LOCATION;VALUE=URI;X-ADDRESS=Fundación Caja Rural del Sur Huelva C/ Alcalde Mora Claros 6-8 Huelva Huelva 21001 España;X-APPLE-RADIUS=500;X-TITLE=C/ Alcalde Mora Claros 6-8:geo:-6.9535303,37.2583599
END:VEVENT
BEGIN:VEVENT
DTSTART;TZID=Europe/Helsinki:20191213T193000
DTEND;TZID=Europe/Helsinki:20191213T193000
DTSTAMP:20260420T084620
CREATED:20191129T184046Z
LAST-MODIFIED:20191129T184046Z
UID:10000643-1576265400-1576265400@fundacioncajaruraldelsur.com
SUMMARY:Presentación del libro: 'Revoluciones y revelaciones toreras'
DESCRIPTION:El próximo 13 de diciembre presentamos en Sevilla el libro Revoluciones y revelaciones toreras\, de Jesús Soto de Paula. \nSINOPSIS\nDice Soto de Paula\, tan gitano y tan griego\, que “la luna es el ojo del infinito\, asidero por donde el firmamento ve la belleza y los pecados del hombre”. En esta nueva obra\, el autor nos vuelve a adentrar en ese mundo mágico\, extraño y barroco de aguas cristalinas y pozos oscuros que es el toreo.  \nNos serán desveladas las revoluciones que acontecieron de mano de sus revolucionarios: Belmonte\, Chicuelo\, Manolete… y las revelaciones en ese misterio de los Gallo\, Cagancho\, Curro y Paula. Recorreremos los tentaderos de Joselito\, la voz de Belmonte por Triana\, las vivencias de los Paula por Córdoba\, y cruzaremos el charco para descubrir el riquísimo toreo mexicano. No es sólo un libro para aficionados al toreo\, sino también para los amantes del resto de las artes\, pues con él y en él\, se nos abren las puertas de las emociones y los sentimientos\, que darán paso al pensamiento\, a la inspiración\, para dar vida a la creación. Traspasaremos las puertas del más allá\, donde el silencio se hace eterno\, la negrura nos envuelve\, desaparece la razón\, porque se hace milagro el arte. Un paseo infinito por las Bellas Artes\, incluido el asombro y la elocuencia.  \n \nBIOGRAFÍA \nJesús Soto de Paula\, jerezano nacido en mayo del 74\, y perteneciente a una estirpe torera\, tuvo la necesidad de plasmar en letras todo aquello que vivía\, sentía y escuchaba antes\, durante y después de una corrida de toros. De ello surgió su primera obra: “De Negro y Azabache: Rafael de Paula”\, 2005. Escribir columnas en periódicos (“Donde Rezan Los Mitos”\, 2007\, recoge una selección de ellas) y su cada vez mayor afición a la lectura de obras taurinas y filosóficas potenciaron la creación de su propio estilo dentro de la literatura taurina. Fruto de ello\, en 2011 publicó “Entre Clamores y Espantás” (Jesús dice: “Desconfío de los poetas\, pero confío ciegamente en la poesía”)\, pero fue en 2017 cuando\, con “Torerías y Diabluras”\, se consagró como el escritor que escribe como sus toreros torean. En 2018\, dos poemas suyos fueron incluidos en la antología “El Siglo de Oro de la Poesía Taurina”. Se inicia en el relato de ficción en el libro colectivo “Cante y Cuentos”\, 2019. “Revoluciones y Revelaciones Toreras” mantiene su evolución y nace con la vocación de cautivar al aficionado taurino que gusta de leer literatura sobre arte. 
URL:https://fundacioncajaruraldelsur.com/evento/presentacion-del-libro-revoluciones-y-revelaciones-toreras/
LOCATION:Fundación Caja Rural del Sur Sevilla\, C/ Murillo\, 2\, Sevilla\, Sevilla\, 41001\, España
CATEGORIES:Presentaciones
ATTACH;FMTTYPE=image/jpeg:https://fundacioncajaruraldelsur.com/wp-content/uploads/2019/11/Plaza_Toros.jpg
GEO:37.2583599;-6.9535303
X-APPLE-STRUCTURED-LOCATION;VALUE=URI;X-ADDRESS=Fundación Caja Rural del Sur Sevilla C/ Murillo 2 Sevilla Sevilla 41001 España;X-APPLE-RADIUS=500;X-TITLE=C/ Murillo\, 2:geo:-6.9535303,37.2583599
END:VEVENT
END:VCALENDAR