BEGIN:VCALENDAR
VERSION:2.0
PRODID:-//Fundación Caja Rural del Sur - ECPv6.15.17//NONSGML v1.0//EN
CALSCALE:GREGORIAN
METHOD:PUBLISH
X-WR-CALNAME:Fundación Caja Rural del Sur
X-ORIGINAL-URL:https://fundacioncajaruraldelsur.com
X-WR-CALDESC:Eventos para Fundación Caja Rural del Sur
REFRESH-INTERVAL;VALUE=DURATION:PT1H
X-Robots-Tag:noindex
X-PUBLISHED-TTL:PT1H
BEGIN:VTIMEZONE
TZID:Europe/Helsinki
BEGIN:DAYLIGHT
TZOFFSETFROM:+0200
TZOFFSETTO:+0300
TZNAME:EEST
DTSTART:20180325T010000
END:DAYLIGHT
BEGIN:STANDARD
TZOFFSETFROM:+0300
TZOFFSETTO:+0200
TZNAME:EET
DTSTART:20181028T010000
END:STANDARD
BEGIN:DAYLIGHT
TZOFFSETFROM:+0200
TZOFFSETTO:+0300
TZNAME:EEST
DTSTART:20190331T010000
END:DAYLIGHT
BEGIN:STANDARD
TZOFFSETFROM:+0300
TZOFFSETTO:+0200
TZNAME:EET
DTSTART:20191027T010000
END:STANDARD
BEGIN:DAYLIGHT
TZOFFSETFROM:+0200
TZOFFSETTO:+0300
TZNAME:EEST
DTSTART:20200329T010000
END:DAYLIGHT
BEGIN:STANDARD
TZOFFSETFROM:+0300
TZOFFSETTO:+0200
TZNAME:EET
DTSTART:20201025T010000
END:STANDARD
END:VTIMEZONE
BEGIN:VEVENT
DTSTART;TZID=Europe/Helsinki:20190904T200000
DTEND;TZID=Europe/Helsinki:20190928T200000
DTSTAMP:20260420T010700
CREATED:20190904T173540Z
LAST-MODIFIED:20190904T173540Z
UID:10000594-1567627200-1569700800@fundacioncajaruraldelsur.com
SUMMARY:ConDados de Niebla: la aventura de imprimir la belleza
DESCRIPTION:La 12ª edición del Otoño Cultural Iberoamericano (OCIb) comienza esta semana con un amplio programa de actividades culturales que incluye más de 30 eventos entre exposiciones\, conciertos y citas literarias\, entre otros. \nUn evento cuya importancia crece año tras año desde que organizáramos su convocatoria en 2008 por primera vez. El director del OCIb\, Jaime de Vicente Núñez\, ha anunciado este martes la programación y el cartel de esta nueva edición\, obra del creativo publicitario onubense José Luis Macías. \nLa exposición arranca este miércoles 4 de septiembre con la inauguración bajo el título ‘ConDados de Niebla. La aventura de imprimir la belleza’\, a las 20.00 horas\, en la Sala de la Provincia de la Diputación de Huelva. Además\, se estrena este año la página web del Otoño Cultural Iberoamericano\, www.culturaiberoamericana.org\, donde se podrá encontrar toda la información del OCIb. \nEste año la Asociación Cultural Iberoamericana asume la gestión del OCIb\, con el objetivo de incrementar la presencia en los países americanos de la programación. \n  \n 
URL:https://fundacioncajaruraldelsur.com/evento/exposicion-condados-niebla/
LOCATION:Sala de la Provincia. Diputación Provincial de Huelva\, Av. Martín Alonso Pinzón\, 9\,\, Huelva\, Huelva\, 21003
CATEGORIES:Exposiciones
ATTACH;FMTTYPE=image/jpeg:https://fundacioncajaruraldelsur.com/wp-content/uploads/2019/09/Huelva.jpg
END:VEVENT
BEGIN:VEVENT
DTSTART;TZID=Europe/Helsinki:20190916T190000
DTEND;TZID=Europe/Helsinki:20190927T190000
DTSTAMP:20260420T010700
CREATED:20190906T131130Z
LAST-MODIFIED:20190906T131139Z
UID:10000595-1568660400-1569610800@fundacioncajaruraldelsur.com
SUMMARY:Exposición de Fotografía: Rocío Escudero Alfonso
DESCRIPTION:El próximo 16 de septiembre a las 19:00h. inauguramos en Huelva la exposición fotográfica «Por la Sangre de Eva«\, de la autora Rocío Escudero Alfonso. \nLA AUTORA\nRetratar la luz \n \nRocío Escudero Alfonso; fotógrafa onubense que comenzó a jugar con el objetivo a comienzos de su adolescencia. No imaginaba\, por aquel entonces\, aquella chica de mirada inquieta\, que sus primeros amoríos con el arte de fotografiar sembrarían la semilla de lo que hoy emerge de su prisma. Son instantáneas que cautivan al primer golpe de vista\, capaces de atrapar la atención con mensajes que remueven los más frágiles sentimientos. Quienes la han descubierto han sucumbido a la luz de sus historias. \nProfesional de la contabilidad y la administración empresarial\, madre de familia y mujer hecha a sí misma\, sigue compaginando la pasión por la imagen con su trabajo como secretaria en la empresa “misecretaria.com”. \nRocío Escudero comienza su andadura en el mundo de la fotografía\, hace apenas unos años y centra su estilo en el retrato como forma de expresión personal. Atrapada por la pasión que le transmiten las personas crea su particular mezcolanza con que capta la luz y el color que las envuelven. Las perfila a través del detalle\, adentrándose en la profundidad de las almas\, las que convierte en imágenes. Rocío avanzan más allá del objetivo y de su propia retina. \nFruto de su sensible pose ante este arte que comienza a dominar\, desde hace tres años viene participando en diversas exposiciones realizadas por la Asociación Huelva y sus Fotógrafos. En una de ellas consigue hacer del verbo una imagen con la obra Aceptar; impacto súbito para la ciudadanía onubense de la que recibió las mejores críticas. Con ella revindica la aceptación de la devastación por la enfermedad\, causa de secuelas que aun después de haberse vencido lacera el cuerpo y la feminidad en su caso. La artista inmortaliza la valentía de una mujer que decide mostrar sus heridas como fortificación de su victoria\, con ella quiere destacar el valor de aquellas mujeres\, que también hoy\, avanzan hacia la superación del cáncer de mama. \nEn una nueva exposición volvía a sorprendernos con una concepción muy personal de la maternidad\, a través de las manos de su madre y el rostro de su hija. Mi vida en tus manos ofrece una visión en blanco y negro de la confianza y el vínculo generacional. Escudero\, en su proceso de expansión hacia nuevos estilos\, crea\, el cartel que el Hotel NH Luz Huelva abanderó para declamar su exposición cofrade\, hace dos años. Rocío delinea al detalle el rostro de María Santísima de la Victoria que focaliza la obra. \nEn su andadura\, también resultó ganadora del primer premio en el Certamen Fotográfico de la editorial onubense Apuleyo Ediciones.En este caso una rompedora imagen sobre el placer de la lectura ha sabido escalar hacia la mayor altura. En este mundo editorial comienza a ser reclamada por su complicidad con las letras; algunas autoras ya cuentan con sus trabajos como portadas de sus obras. \nA partir de esa relación con el mundo de las letras\, comienza a germinar el que será su proyecto más ambicioso: “Por la Sangre de Eva”. Retratos de mujeres escritoras\, donde Escudero extrae la esencia de la mujer creadora. Una mirada al interior que no dejará indiferente.
URL:https://fundacioncajaruraldelsur.com/evento/exposicion-de-fotografia-rocio-escudero-alfonso/
LOCATION:Fundación Caja Rural del Sur Huelva\, C/ Alcalde Mora Claros 6-8\, Huelva\, Huelva\, 21001\, España
CATEGORIES:Exposición
ATTACH;FMTTYPE=image/jpeg:https://fundacioncajaruraldelsur.com/wp-content/uploads/2019/09/exposicion_rocio_escudero.jpg
GEO:37.2583599;-6.9535303
X-APPLE-STRUCTURED-LOCATION;VALUE=URI;X-ADDRESS=Fundación Caja Rural del Sur Huelva C/ Alcalde Mora Claros 6-8 Huelva Huelva 21001 España;X-APPLE-RADIUS=500;X-TITLE=C/ Alcalde Mora Claros 6-8:geo:-6.9535303,37.2583599
END:VEVENT
BEGIN:VEVENT
DTSTART;TZID=Europe/Helsinki:20190925T200000
DTEND;TZID=Europe/Helsinki:20190925T233000
DTSTAMP:20260420T010700
CREATED:20190913T183908Z
LAST-MODIFIED:20190916T070554Z
UID:10000459-1569441600-1569454200@fundacioncajaruraldelsur.com
SUMMARY:IV Concierto Taurino de San Miguel 
DESCRIPTION:Un año más\, acogemos el IV Concierto Taurino de San Miguel\, bajo el título Manuel Jiménez “Chicuelo”: 100 Años de Alternativa. De la mano de la Banda Sinfónica Municipal de Sevilla\, bajo la batuta del director: Fco. Javier Gutiérrez Juan. \nEn esta ocasión\, los asistentes disfrutarán de la voz de la cantante Ana Del Río y el barítono Luciano Miotto. José Luis López es el encargado del argumento\, libreto y presentación. \nENTRADAS\nEntrada será libre hasta completar el aforo. La recogida de tíquets se podrá efectuar desde el martes 17 en Caja Rural del Sur\, c/ Murillo\, 2\, Sevilla. De lunes a viernes de 9 a 14 horas. \nIV EDICIÓN\nEn esta IV Edición del Concierto Taurino de San Miguel\, nos falta quien hizo posible su comienzo\, quien puso sus cimientos para que cada mes de Septiembre\, cuando se va acercando la Feria de San Miguel\, las puertas de esta institución se abrieran\, para dar paso a un evento Literario\, Taurino y Musical\, (otro más) que con el tiempo se ha convertido en parte importante del final de la temporada taurina sevillana. \nLa música clásica española\, la canción andaluza\, la opera\, el pasodoble y la zarzuela\, se dan la mano\, para que junto a la literatura\, el toreo se entienda y se aprenda tal y como es\, como un arte que no está catalogado. \nHOMENAJE A CHICUELO\n“Chicuelo” fue un torero de Sevilla\, que proyectó su arte a todo el mundo taurino. A pesar de no estar debidamente reconocido en la historia de la Tauromaquia\, esta no se puede entender sin él. Creador de lances como la “Chicuelina”. Fue precursor del toreo moderno que comenzó a practicarse después de Joselito y Belmonte y tuvo su continuidad con Manolete\, a quien le otorgo la Alternativa en la Real Maestranza de Sevilla. \nManuel Jiménez “Chicuelo”\, fue el eslabón que unió la Tauromaquia de la Edad de Oro del Toreo\, personificada en José y Juan\, con el toreo moderno\, que potenciaron Manolete\, Pepe Luis y Pepín Martin Vázquez. \nEl arte derrochado por estos toreros a lo largo del siglo XX\, es más que suficiente para incluir al toreo en esa imaginaria lista\, en la que ya están encuadradas la pintura\, la música\, la arquitectura o el cine. Despojémonos de falsos prejuicios\, y otorguemos a la Tauromaquia los valores de arte y belleza que le corresponden. \nA Manuel Jiménez “Chicuelo” se dedica el libreto escrito por José Luis López\, para esta historia musical\, en la que él mismo libretista\, se va a meter en la piel del torero\, que contará en primera persona\, diferentes etapas de su vida taurina y familiar\, junto a su esposa Dora “La Cordobesita”. \nBajo la dirección de Francisco Javier Gutiérrez Juan\, la Banda Sinfónica Municipal de Sevilla\, estrenará con rango mundial\, el pasodoble “Lorencin Lendínez”\, del maestro jiennense don Miguel Rueda. \nAsimismo\, interpretará obras de Miguel Rueda\, Román y Jaén\, Santiago Lope\, Sanguinetti\, Dames y Marvizón. Jofre de Villegas y Castellano\, Bizet\, Maestros León y Solano\, Carlos Gardel y Perea\, López Farfán\, Santos y Mores\, Parada\, Jiménez y Domínguez  \nLa Banda Sinfónica pondrá en escena los pasodobles instrumentales “Lorencín Lendinez”\, “Gallito” y “Chicuelo”. La voz dulce\, desgarrada y profunda de Ana del Río\, nos hará soñar con la canción española: “La Morena de mi copla”\, “Tengo miedo”y “Quien dijo pena”\, que darán paso al homenaje que la artista ofrecerá al maestro Francisco Alonso\, en el centenario del estreno\, en el madrileño Teatro Martin\, de su zarzuela “Las Corsarias”\, interpretando “La Bandera”instrumentada para la Sinfónica de Sevilla\, por el maestro Antonio Domínguez. \nDisfrutaremos con “Toreador”\, de la ópera Carmen\, con la versión del tango de Gardel\, “El día que me quieras”\, y con el estreno\, para la Banda Sinfónica Municipal de Sevilla\, de los trabajos de Sanguinetti\, Dames y Marvizón\, Santos y Mores\,“Nada” y “Uno”\, interpretados por el barítono ítalo-argentino Luciano Miotto. \nLa cantante sevillana y el cantor lírico\, Ana del Rio y Luciano Miotto pondrán un colofón de arte en la noche mágica que viviremos con “Manuel Jiménez “Chicuelo”: 100 años de Alternativa”. \n 
URL:https://fundacioncajaruraldelsur.com/evento/iv-concierto-taurino-de-san-miguel/
LOCATION:Fundación Caja Rural del Sur Sevilla\, C/ Murillo\, 2\, Sevilla\, Sevilla\, 41001\, España
CATEGORIES:Conciertos
ATTACH;FMTTYPE=image/jpeg:https://fundacioncajaruraldelsur.com/wp-content/uploads/2018/09/FCRSUR_Concierto_Ceu_Bormujos_Orquesta-copia.jpg
GEO:37.2583599;-6.9535303
X-APPLE-STRUCTURED-LOCATION;VALUE=URI;X-ADDRESS=Fundación Caja Rural del Sur Sevilla C/ Murillo 2 Sevilla Sevilla 41001 España;X-APPLE-RADIUS=500;X-TITLE=C/ Murillo\, 2:geo:-6.9535303,37.2583599
END:VEVENT
BEGIN:VEVENT
DTSTART;TZID=Europe/Helsinki:20190926T100000
DTEND;TZID=Europe/Helsinki:20190926T143000
DTSTAMP:20260420T010700
CREATED:20190923T200028Z
LAST-MODIFIED:20190923T203313Z
UID:10000463-1569492000-1569508200@fundacioncajaruraldelsur.com
SUMMARY:VI Foro Freshuelva Partner
DESCRIPTION:El próximo 26 de septiembre acogemos en nuestra sede\, la sexta edición del Foro Freshuelva Partner\, en el que participan diferentes empresas adheridas a Freshuelva a través de esta figura. \nEn esta ocasión\, intervendrán representantes de diferentes empresas partners como Smurfit Kappa\, Arola o SP Soluciones Agrícolas. \nPROGRAMA\n10.00 a 10.05 h. Bienvenida \n– 10.05 a 10.30 h \nEl transporte aéreo: ¿Cómo deben viajar nuestros frutos rojos? \nLluc Navarro Nomen. Director Corporativo Aéreo de Arola \n– 10.30 a 11.00 h \nTarrinas de cartón\, otra alternativa para el envasado de Berries. \nJose Manuel Pecero Amaya. SP Soluciones Agrícolas \n– 11.05 a 11.30 h \nBetter Planet Packaging \nJavier Villate. Smurfit kappa \n  \nSe ruega Confirmación de asistencia: \ntecnico@freshuelva.es
URL:https://fundacioncajaruraldelsur.com/evento/vi-foro-freshuelva-partner/
LOCATION:Fundación Caja Rural del Sur Huelva\, C/ Alcalde Mora Claros 6-8\, Huelva\, Huelva\, 21001\, España
CATEGORIES:conferencias
ATTACH;FMTTYPE=image/jpeg:https://fundacioncajaruraldelsur.com/wp-content/uploads/2019/09/fresas.jpg
GEO:37.2583599;-6.9535303
X-APPLE-STRUCTURED-LOCATION;VALUE=URI;X-ADDRESS=Fundación Caja Rural del Sur Huelva C/ Alcalde Mora Claros 6-8 Huelva Huelva 21001 España;X-APPLE-RADIUS=500;X-TITLE=C/ Alcalde Mora Claros 6-8:geo:-6.9535303,37.2583599
END:VEVENT
END:VCALENDAR