BEGIN:VCALENDAR
VERSION:2.0
PRODID:-//Fundación Caja Rural del Sur - ECPv6.15.17//NONSGML v1.0//EN
CALSCALE:GREGORIAN
METHOD:PUBLISH
X-ORIGINAL-URL:https://fundacioncajaruraldelsur.com
X-WR-CALDESC:Eventos para Fundación Caja Rural del Sur
REFRESH-INTERVAL;VALUE=DURATION:PT1H
X-Robots-Tag:noindex
X-PUBLISHED-TTL:PT1H
BEGIN:VTIMEZONE
TZID:Europe/Helsinki
BEGIN:DAYLIGHT
TZOFFSETFROM:+0200
TZOFFSETTO:+0300
TZNAME:EEST
DTSTART:20180325T010000
END:DAYLIGHT
BEGIN:STANDARD
TZOFFSETFROM:+0300
TZOFFSETTO:+0200
TZNAME:EET
DTSTART:20181028T010000
END:STANDARD
BEGIN:DAYLIGHT
TZOFFSETFROM:+0200
TZOFFSETTO:+0300
TZNAME:EEST
DTSTART:20190331T010000
END:DAYLIGHT
BEGIN:STANDARD
TZOFFSETFROM:+0300
TZOFFSETTO:+0200
TZNAME:EET
DTSTART:20191027T010000
END:STANDARD
BEGIN:DAYLIGHT
TZOFFSETFROM:+0200
TZOFFSETTO:+0300
TZNAME:EEST
DTSTART:20200329T010000
END:DAYLIGHT
BEGIN:STANDARD
TZOFFSETFROM:+0300
TZOFFSETTO:+0200
TZNAME:EET
DTSTART:20201025T010000
END:STANDARD
END:VTIMEZONE
BEGIN:VEVENT
DTSTART;TZID=Europe/Helsinki:20190211T200000
DTEND;TZID=Europe/Helsinki:20190331T210000
DTSTAMP:20260419T160703
CREATED:20190213T161308Z
LAST-MODIFIED:20190213T161308Z
UID:10000422-1549915200-1554066000@fundacioncajaruraldelsur.com
SUMMARY:Festival Latitudes: Exposición 'Una vida en imágenes'
DESCRIPTION:Nuestra sala de exposiciones en Huelva acoge hasta el 31 de marzo la exposición Una vida en imágenes\, del fotógrafo René Groebli. Conmemoramos la décima edición del Festival Internacional de Fotografía Huelva Latitudes 21\, en su décima edición\, conmemoramos tan señalada fecha con el realismo poético del artista suizo. \nLA EXPOSICIÓN \nUna exposición inédita en España que recoge las obras de Groebli a través de cuatro series: La Magia del Rail\, Londres\, El Ojo del Amor y NY Melancolía. \nEL AUTOR \nRené Groebli (nacido el 9 de octubre de 1927 en Zurich) es un fotógrafo industrial y publicitario suizo\, expositor y publicado\, experto en transferencia de tinte y litografía en color. Se le considera el eslabón perdido en la historia de la fotografía suiza de la segunda mitad del siglo XX. \nEstudió en la Escuela de Artes y Oficios de Zurich con Hans Finsler\, del que recibió clases de fotografía\, formándose posteriormente a sí mismo como operador de cine y comenzó a experimentar con fotografía del movimiento. En su obra fusiona el romanticismo en la fotografía con las visiones del técnico\, el modernista. El impacto de sus imágenes\, aún no se han descubierto a nivel popular. \nFue uno de los primeros suizos\, en 1948\, en recibir un diploma como director de fotografía para documentales. En la década de 1950\, trabajó como reportero de la agencia londinense Black Star; publicó en grandes revistas de la época\, y abrió un estudio de fotografía publicitaria.
URL:https://fundacioncajaruraldelsur.com/evento/festival-latitudes-exposicion-una-vida-en-imagenes/
LOCATION:Fundación Caja Rural del Sur Huelva\, C/ Alcalde Mora Claros 6-8\, Huelva\, Huelva\, 21001\, España
CATEGORIES:Exposición
ATTACH;FMTTYPE=image/jpeg:https://fundacioncajaruraldelsur.com/wp-content/uploads/2019/02/Rene_Groebli.jpg
GEO:37.2583599;-6.9535303
X-APPLE-STRUCTURED-LOCATION;VALUE=URI;X-ADDRESS=Fundación Caja Rural del Sur Huelva C/ Alcalde Mora Claros 6-8 Huelva Huelva 21001 España;X-APPLE-RADIUS=500;X-TITLE=C/ Alcalde Mora Claros 6-8:geo:-6.9535303,37.2583599
END:VEVENT
BEGIN:VEVENT
DTSTART;TZID=Europe/Helsinki:20190308T203000
DTEND;TZID=Europe/Helsinki:20190308T203000
DTSTAMP:20260419T160703
CREATED:20190301T182304Z
LAST-MODIFIED:20190304T151209Z
UID:10000430-1552077000-1552077000@fundacioncajaruraldelsur.com
SUMMARY:Concierto JAZZ ON FÏRE
DESCRIPTION:El próximo viernes 8 de marzo arrancamos el Ciclo Ritmos y otras músicas 2019 con el espectáculo de Jazz On Fïre en Huelva. A continuación acogemos el concierto de Fado de Ana Marqués el día 15 de marzo a las 20:30h y para terminar el día 29 de marzo Mingo Balaguer & The Blues Inturders. \nLas entradas son gratuitas hasta completar aforo. Ciclo organizado por la Fundación Caja Rural del Sur en colaboración con Música Fundamental. \nLugar: Salón de Actos de la Fundación Caja Rural del Sur\, C/Alcalde Mora Claros. \nJAZZ ON FÏRE\n \nEs el nombre del espectáculo creado por Lovis G. Quintet & Federico Núñez.\n\n\n\n\n\n\n\n\n\nEs la unión entre dos artes que tienen la misma fuerza expresiva\, el Jazz y el Flamenco. Además es una obra multidisciplinaria ya que está conformada por música jazzística y danza flamenca.\n\nNació de la idea de encontrar puntos en común entre estas dos artes. Tuvo su estreno en el XV FESTIVAL SOBERAO JAZZ de Sevilla. El trabajo se basa en la investigación coreográfica de un repertorio musical completamente ORIGINAL de la autoría de Lovis G. y se complementa con la revisión y arreglos de algunos standars del jazz llevados a su máximo nivel\, de la mano de los mejores músicos del ámbito musical Andaluz.\n\nLa banda está compuesta por: Lovis G. (Voz / Pandeiro) – Angel Andrés Muñoz (Piano / Arreglos) – Jose Gómez (Batería) – Juanmi Gúzman (Contrabajo) – Bernardo Parrilla (Saxo) – Federico Núñez (Baile).\n\n\n\n\n\n\n\n\n\n\n\n\n\nhttps://www.youtube.com/watch?v=YeLCMnQjejI
URL:https://fundacioncajaruraldelsur.com/evento/concierto-jazz-on-fire/
LOCATION:Fundación Caja Rural del Sur Huelva\, C/ Alcalde Mora Claros 6-8\, Huelva\, Huelva\, 21001\, España
CATEGORIES:Conciertos
ATTACH;FMTTYPE=image/jpeg:https://fundacioncajaruraldelsur.com/wp-content/uploads/2019/03/Jazz_on_fire.jpg
GEO:37.2583599;-6.9535303
X-APPLE-STRUCTURED-LOCATION;VALUE=URI;X-ADDRESS=Fundación Caja Rural del Sur Huelva C/ Alcalde Mora Claros 6-8 Huelva Huelva 21001 España;X-APPLE-RADIUS=500;X-TITLE=C/ Alcalde Mora Claros 6-8:geo:-6.9535303,37.2583599
END:VEVENT
END:VCALENDAR