BEGIN:VCALENDAR
VERSION:2.0
PRODID:-//Fundación Caja Rural del Sur - ECPv6.15.17//NONSGML v1.0//EN
CALSCALE:GREGORIAN
METHOD:PUBLISH
X-WR-CALNAME:Fundación Caja Rural del Sur
X-ORIGINAL-URL:https://fundacioncajaruraldelsur.com
X-WR-CALDESC:Eventos para Fundación Caja Rural del Sur
REFRESH-INTERVAL;VALUE=DURATION:PT1H
X-Robots-Tag:noindex
X-PUBLISHED-TTL:PT1H
BEGIN:VTIMEZONE
TZID:Europe/Helsinki
BEGIN:DAYLIGHT
TZOFFSETFROM:+0200
TZOFFSETTO:+0300
TZNAME:EEST
DTSTART:20180325T010000
END:DAYLIGHT
BEGIN:STANDARD
TZOFFSETFROM:+0300
TZOFFSETTO:+0200
TZNAME:EET
DTSTART:20181028T010000
END:STANDARD
BEGIN:DAYLIGHT
TZOFFSETFROM:+0200
TZOFFSETTO:+0300
TZNAME:EEST
DTSTART:20190331T010000
END:DAYLIGHT
BEGIN:STANDARD
TZOFFSETFROM:+0300
TZOFFSETTO:+0200
TZNAME:EET
DTSTART:20191027T010000
END:STANDARD
BEGIN:DAYLIGHT
TZOFFSETFROM:+0200
TZOFFSETTO:+0300
TZNAME:EEST
DTSTART:20200329T010000
END:DAYLIGHT
BEGIN:STANDARD
TZOFFSETFROM:+0300
TZOFFSETTO:+0200
TZNAME:EET
DTSTART:20201025T010000
END:STANDARD
END:VTIMEZONE
BEGIN:VEVENT
DTSTART;TZID=Europe/Helsinki:20190211T200000
DTEND;TZID=Europe/Helsinki:20190331T210000
DTSTAMP:20260419T183537
CREATED:20190213T161308Z
LAST-MODIFIED:20190213T161308Z
UID:10000422-1549915200-1554066000@fundacioncajaruraldelsur.com
SUMMARY:Festival Latitudes: Exposición 'Una vida en imágenes'
DESCRIPTION:Nuestra sala de exposiciones en Huelva acoge hasta el 31 de marzo la exposición Una vida en imágenes\, del fotógrafo René Groebli. Conmemoramos la décima edición del Festival Internacional de Fotografía Huelva Latitudes 21\, en su décima edición\, conmemoramos tan señalada fecha con el realismo poético del artista suizo. \nLA EXPOSICIÓN \nUna exposición inédita en España que recoge las obras de Groebli a través de cuatro series: La Magia del Rail\, Londres\, El Ojo del Amor y NY Melancolía. \nEL AUTOR \nRené Groebli (nacido el 9 de octubre de 1927 en Zurich) es un fotógrafo industrial y publicitario suizo\, expositor y publicado\, experto en transferencia de tinte y litografía en color. Se le considera el eslabón perdido en la historia de la fotografía suiza de la segunda mitad del siglo XX. \nEstudió en la Escuela de Artes y Oficios de Zurich con Hans Finsler\, del que recibió clases de fotografía\, formándose posteriormente a sí mismo como operador de cine y comenzó a experimentar con fotografía del movimiento. En su obra fusiona el romanticismo en la fotografía con las visiones del técnico\, el modernista. El impacto de sus imágenes\, aún no se han descubierto a nivel popular. \nFue uno de los primeros suizos\, en 1948\, en recibir un diploma como director de fotografía para documentales. En la década de 1950\, trabajó como reportero de la agencia londinense Black Star; publicó en grandes revistas de la época\, y abrió un estudio de fotografía publicitaria.
URL:https://fundacioncajaruraldelsur.com/evento/festival-latitudes-exposicion-una-vida-en-imagenes/
LOCATION:Fundación Caja Rural del Sur Huelva\, C/ Alcalde Mora Claros 6-8\, Huelva\, Huelva\, 21001\, España
CATEGORIES:Exposición
ATTACH;FMTTYPE=image/jpeg:https://fundacioncajaruraldelsur.com/wp-content/uploads/2019/02/Rene_Groebli.jpg
GEO:37.2583599;-6.9535303
X-APPLE-STRUCTURED-LOCATION;VALUE=URI;X-ADDRESS=Fundación Caja Rural del Sur Huelva C/ Alcalde Mora Claros 6-8 Huelva Huelva 21001 España;X-APPLE-RADIUS=500;X-TITLE=C/ Alcalde Mora Claros 6-8:geo:-6.9535303,37.2583599
END:VEVENT
BEGIN:VEVENT
DTSTART;TZID=Europe/Helsinki:20190219T190000
DTEND;TZID=Europe/Helsinki:20190219T190000
DTSTAMP:20260419T183537
CREATED:20190204T150812Z
LAST-MODIFIED:20190204T150812Z
UID:10000418-1550602800-1550602800@fundacioncajaruraldelsur.com
SUMMARY:Charla sobre seguridad para mayores: 'Protégete'
DESCRIPTION:  \nEl próximo 19 de febrero acogemos una charla sobre seguridad para mayores bajo el título Protégete\, destinada a la prevención y mejora de la seguridad de un colectivo vulnerable en los tiempos que corren\, los más mayores. Organizada por el Cuerpo Nacional de Policía\, se tratarán entre otros aspectos los consejos principales que deben tener en cuenta en el día a día. \n\n\nCONSEJOS PRINCIPALES\n\nCuando estés a solas\, no hables con desconocidos\nNo hacer ostentación de joyas o artículos de valor\nLos chollos no existen\, siempre son una estafa\nNo facilitar datos personales o bancarios por teléfono
URL:https://fundacioncajaruraldelsur.com/evento/charla-sobre-seguridad-para-mayores-protegete/
LOCATION:Fundación Caja Rural del Sur Huelva\, C/ Alcalde Mora Claros 6-8\, Huelva\, Huelva\, 21001\, España
CATEGORIES:conferencias
ATTACH;FMTTYPE=image/jpeg:https://fundacioncajaruraldelsur.com/wp-content/uploads/2019/02/Protegete.jpg
GEO:37.2583599;-6.9535303
X-APPLE-STRUCTURED-LOCATION;VALUE=URI;X-ADDRESS=Fundación Caja Rural del Sur Huelva C/ Alcalde Mora Claros 6-8 Huelva Huelva 21001 España;X-APPLE-RADIUS=500;X-TITLE=C/ Alcalde Mora Claros 6-8:geo:-6.9535303,37.2583599
END:VEVENT
BEGIN:VEVENT
DTSTART;TZID=Europe/Helsinki:20190219T200000
DTEND;TZID=Europe/Helsinki:20190219T200000
DTSTAMP:20260419T183537
CREATED:20190124T175842Z
LAST-MODIFIED:20190124T175842Z
UID:10000490-1550606400-1550606400@fundacioncajaruraldelsur.com
SUMMARY:Exposición de pintura: 'Efímero'\, de Salvador González Rus
DESCRIPTION:El próximo día 19 de febrero inauguramos en nuestra sala de exposiciones de Sevilla la muestra del pintor Salvador González Rus titulada Efímero. \nLA EXPOSICIÓN\nDe niño estropeaba mis dibujos con todo tipo de inventos\, me empeñaba en convertirlos en papiros antiquísimos que volverían a la luz tras siglos escondidos. Idéntica suerte corrían las figuritas de plastilina que erosionaba hasta darles apariencia de trocitos de jabón usado. Fascinado y entretenido andaba yo entre arrugas y rasguños\, siendo este solo un juego más en aquellas eternas tardes del verano. \nHan pasado cinco años desde que inicié la serie de trabajos que ahora aquí presento. De aquel juego\, han pasado ya muchos\, y mucho tiempo ha pasado también desde que me encontré con la frase que encabeza estas frases. Esa y otras planean sobre lo aquí pintado\, sobrevuelan como hojas secas movidas por una ventolera\, como aves en bandada\, y se ramifican como los corales o las zarzas\, o como esos otros árboles que son arterias y venas. La belleza de lo volátil. Encontraréis aquí entrelazados control y descontrol\, forma y accidente\, luz y oscuridad\, certeza y azar\, el mismo azar que nos hace parecer diminutas figuras al capricho del viento. \nCaos puesto en orden\, o quizás lo contrario. Hallaréis referencias a la vanitas barroca y al simbolismo\, y un cierto eco prerrafaelista. Hablar de silencio es destruirlo\, de la misma manera que intentar pintar lo efímero es conferirle una materia que de alguna manera lo eterniza. Asumiendo esta contradicción\, quisiera haber dejado en estos cuadros un algo de melancolía\, un algo de la belleza inaprensible de todo aquello que se nos escapa\, un algo de tristeza por lo que se va\, y también un algo de alegría por la vida\, o la luz que siempre encuentra un camino por el que abrirse paso y florecer. Y digo quisiera porque\, como todos\, ando limitado por luces y sombras\, deseos y realidades\, dudas y certezas y\, a veces\, siendo totalmente sincero\, no soy más que aquel niño sin más pretensiones que ser feliz en una infinita tarde de verano. \n«La muerte está siempre en camino\, pero el hecho de que no sepamos cuándo llega parece suprimir la finitud de la vida. Lo que tanto odiamos es esa precisión terrible [ … ] todas las cosas ocurren solo un cierto nümero de veces\, en realidad muy pocas[ … ] y sin embargo todo parece tan ilimitado». \nEL AUTOR\nNace en Úbeda el 7 de enero de 1971. En 1982 comienza a recibir clases de dibujo en la «Escuela de Artes de Úbeda»\, continuando con este aprendizaje hasta el año 1991\, fecha en que inicia estudios de Bellas Artes en Granada. En los siguientes cinco años complementa las clases en esta Facultad con diferentes cursos y talleres. De todos ellos\, quizá el más trascendental sea el que imparten en Granada Joan Hemández Pijuan\, Albert Rafols-Casamada y Rosa Queralt\, en 1993. \nUna etapa importante en estos años de formación es el curso en la «Accademia di Belli Arti de Bologna»\, en el que recibe clases de pintura y otras materias. En este periodo\, seguramente influenciado por el viaje\, descubre la obra ligera en sentido flsico y conceptual: pequeñísimo formato\, obra sobre papel\, economía de medios\, limpieza visual. .. Y\, en directo\, Morandi. \nEn 1995 recibe la «Beca de Residencia para artistas Arte Mojácar». En el 2000 es premiado en el»Certamen de Comic e Ilustración Injuve» por unas ilustraciones para «Alicia en el País de las Maravillas»\, de Carroll\, y «El escarabajo dorado»\, de Poe. De todas las exposiciones\, destacan\, por motivos estrictamente sentimentales\, las realizadas en la «Gallería D’ arte Contemporánea A perta» de Módena; en la «Fundación Federico García Lorca» y en el Palacio de la Madraza de Granada; la individual en «Escuela de Arte Casa de las Torres»\, de Úbeda; «Tras los pasos de Lorca»\, en la Casa Museo de Valderrubio; «Granada. Ciudad Carolina y Universidad»\, en el Centro Cultural La General de Granada; «Formar la Forma»en la Iglesia de San Lorenzo y «Efímero» en Centro Cultural «Hospital de Santiago» de Úbeda\, ambas este mismo año. \nEn los siguientes años trabajará en el campo del diseño y la publicidad\, desarrollando\, en parte\, su interés por la ilustración. En la actualidad compatibiliza el trabajo artístico con su labor como docente en EscuelaArte Úbeda\, entidad que regenta.
URL:https://fundacioncajaruraldelsur.com/evento/exposicion-de-pintura-efimero-de-salvador-gonzalez-rus/
LOCATION:Fundación Caja Rural del Sur Sevilla\, C/ Murillo\, 2\, Sevilla\, Sevilla\, 41001\, España
CATEGORIES:Exposición
ATTACH;FMTTYPE=image/jpeg:https://fundacioncajaruraldelsur.com/wp-content/uploads/2019/01/exposicion_salvador_g_rus2.jpg
GEO:37.2583599;-6.9535303
X-APPLE-STRUCTURED-LOCATION;VALUE=URI;X-ADDRESS=Fundación Caja Rural del Sur Sevilla C/ Murillo 2 Sevilla Sevilla 41001 España;X-APPLE-RADIUS=500;X-TITLE=C/ Murillo\, 2:geo:-6.9535303,37.2583599
END:VEVENT
BEGIN:VEVENT
DTSTART;TZID=Europe/Helsinki:20190221T193000
DTEND;TZID=Europe/Helsinki:20190221T193000
DTSTAMP:20260419T183537
CREATED:20190128T163657Z
LAST-MODIFIED:20190204T143633Z
UID:10000492-1550777400-1550777400@fundacioncajaruraldelsur.com
SUMMARY:Presentación del libro: 'Breviario de sentimientos'\, de Pive Amador
DESCRIPTION:El próximo 21 de febrero presentamos en nuestro salón de actos en Sevilla\, el ensayo de divulgación Breviario de sentimientos\, (A propósito de Spinoza)\, del autor Pive Amador. \nLA OBRA\nEste breviario es un interesante y clarificador estudio sobre los sentimientos\, nutrido con saberes tan aparentemente dispares como la filosofía\, la literatura\, la biología y el lenguaje popular.  \nEn primer lugar nuestro autor responde a preguntas fundamentales como: qué son los sentimientos\, para qué sirven o cómo surgieron. Y a continuación\, con la filosofía de Spinoza como punto de partida\, inicia una apasionante ruta estudiando los distintos sentimientos y sus modalidades. Así\, vamos conociendo el deseo\, la alegría y la tristeza\, que son los sentimientos originarios\, y seguimos con  afectos fundamentales\, como el amor y el odio\, para continuar con la esperanza\, el miedo\, el orgullo\, el arrepentimiento\, la soberbia\, la humildad\, la gratitud\, la compasión\, la admiración\, la vergüenza\, la decepción\, el sentimiento estético\, el aburrimiento\, el vació o la felicidad.  \nEn definitiva\, este bien elaborado texto desenreda la frondosa madeja de los sentimientos para que podamos distinguirlos mejor y así entendernos. Pues\, en resumidas cuentas\, los humanos somos lo que sentimos. Y por eso\, los sentimientos son un asunto que interesa a todo el mundo. \nEL AUTOR\nPive Amador. Conocido por su extensa y variada actividad dentro del mundo de la música\, Pive Amador  ha sido siempre un estudioso de la filosofía y del lenguaje. En 2004 publicó su primer libro\, “Canciones en la Historia”. Ese mismo año escribió junto a Alfredo Valenzuela una biografía sobre el rockero sevillano Silvio titulada “Vengo buscando pelea”. En 2005 salió a la luz su estudio musical “De Jerez a Nueva York\, una historia de la música popular”. En 2006 produjo para la empresa pública Extenda un libro-disco titulado “Andalucía\, un Siglo de Músicas”\, que sirvió para promocionar la música andaluza a nivel mundial. Y en 2013 publica “El libro de la Copla”. \nTras todas estas publicaciones ha decidido dar su primer paso como ensayista. Y lo hace ofreciéndonos un sustancioso e iluminador estudio sobre los sentimientos\, para cuya realización se ha servido de los saberes de la filosofía (principalmente la de Spinoza)\, la literatura\, la biología y el lenguaje.
URL:https://fundacioncajaruraldelsur.com/evento/presentacion-del-libro-brevario-de-sentimientos-de-pive-amador/
LOCATION:Fundación Caja Rural del Sur Sevilla\, C/ Murillo\, 2\, Sevilla\, Sevilla\, 41001\, España
CATEGORIES:Presentaciones
ATTACH;FMTTYPE=image/jpeg:https://fundacioncajaruraldelsur.com/wp-content/uploads/2018/10/Presentacion_Libro.jpg
GEO:37.2583599;-6.9535303
X-APPLE-STRUCTURED-LOCATION;VALUE=URI;X-ADDRESS=Fundación Caja Rural del Sur Sevilla C/ Murillo 2 Sevilla Sevilla 41001 España;X-APPLE-RADIUS=500;X-TITLE=C/ Murillo\, 2:geo:-6.9535303,37.2583599
END:VEVENT
BEGIN:VEVENT
DTSTART;TZID=Europe/Helsinki:20190223T210000
DTEND;TZID=Europe/Helsinki:20190223T233000
DTSTAMP:20260419T183537
CREATED:20190215T174550Z
LAST-MODIFIED:20190215T174550Z
UID:10000426-1550955600-1550964600@fundacioncajaruraldelsur.com
SUMMARY:Concierto de la Orquesta de Cámara de Bormujos
DESCRIPTION:El próximo sábado 23 celebramos en Sevilla el concierto que organiza La Orquesta de Cámara de Bormujos para celebrar los 25 años de la Facultad de Ciencias de la Educación. \nLa agrupación deleitará a los asistentes con dos magníficas obras de Vivaldi y Mozart\, bajo la batuta de Alberto Álvarez Calero\, en la Parroquia de San Jacinto el día 23 a las 21:00 horas.  \nAdemás\, la orquesta ofrecerá su concierto junto al Coro Maese Rodrigo y un magnífico cuarteto vocal\, con los solistas Irina Gureu\, José Carrión\, Vicente Bujulance y Luciano Miotto que interpretarán obras de Antonio Vivaldi («Gloria RV 589») y Wolfgang Amadeus Mozart («Vesperaes Solenne Confessore»). \nPrecio: la entrada es gratuita hasta completar aforo.
URL:https://fundacioncajaruraldelsur.com/evento/concierto-orquesta-camara-bormujos/
LOCATION:Parroquia de San Jacinto\, calle Pagés del Corro\, 88\, Sevilla\, Sevilla\, 41010
CATEGORIES:Conciertos
ATTACH;FMTTYPE=image/jpeg:https://fundacioncajaruraldelsur.com/wp-content/uploads/2018/11/Concierto_Orquesta_Bormujos.jpg
END:VEVENT
END:VCALENDAR