BEGIN:VCALENDAR
VERSION:2.0
PRODID:-//Fundación Caja Rural del Sur - ECPv6.15.17//NONSGML v1.0//EN
CALSCALE:GREGORIAN
METHOD:PUBLISH
X-ORIGINAL-URL:https://fundacioncajaruraldelsur.com
X-WR-CALDESC:Eventos para Fundación Caja Rural del Sur
REFRESH-INTERVAL;VALUE=DURATION:PT1H
X-Robots-Tag:noindex
X-PUBLISHED-TTL:PT1H
BEGIN:VTIMEZONE
TZID:Europe/Helsinki
BEGIN:DAYLIGHT
TZOFFSETFROM:+0200
TZOFFSETTO:+0300
TZNAME:EEST
DTSTART:20180325T010000
END:DAYLIGHT
BEGIN:STANDARD
TZOFFSETFROM:+0300
TZOFFSETTO:+0200
TZNAME:EET
DTSTART:20181028T010000
END:STANDARD
BEGIN:DAYLIGHT
TZOFFSETFROM:+0200
TZOFFSETTO:+0300
TZNAME:EEST
DTSTART:20190331T010000
END:DAYLIGHT
BEGIN:STANDARD
TZOFFSETFROM:+0300
TZOFFSETTO:+0200
TZNAME:EET
DTSTART:20191027T010000
END:STANDARD
BEGIN:DAYLIGHT
TZOFFSETFROM:+0200
TZOFFSETTO:+0300
TZNAME:EEST
DTSTART:20200329T010000
END:DAYLIGHT
BEGIN:STANDARD
TZOFFSETFROM:+0300
TZOFFSETTO:+0200
TZNAME:EET
DTSTART:20201025T010000
END:STANDARD
END:VTIMEZONE
BEGIN:VEVENT
DTSTART;TZID=Europe/Helsinki:20190122T100000
DTEND;TZID=Europe/Helsinki:20190214T210000
DTSTAMP:20260419T225015
CREATED:20190117T172141Z
LAST-MODIFIED:20190127T185135Z
UID:10000486-1548151200-1550178000@fundacioncajaruraldelsur.com
SUMMARY:Exposición 'KLORIS'\, de Javier Bassecourt
DESCRIPTION:El próximo 22 de enero inauguramos en nuestra sala de exposiciones de Sevilla\, la maravillosa exposición del artista Javier Bassecourt\, titulada KLORIS. El subtítulo de la muestra es VIS … CR2O3. Además de expresar su arte a través de pinturas\, el pintor cordobés de paisajes urbanos\, es dibujante y sin duda\, creativo. \n \nLicenciado en Bellas Artes por la Universidad de Sevilla\, y consciente de la importancia de la renovación continua en cuanto a la técnica se refiere\, es un apasionado de los pequeños detalles\, y una de sus temáticas principales son la naturaleza\, el entorno rural\, rincones o retratos\, que desde su mirada guardan un punto especial digno de captar en sus obras. \nEl horario de visitas será de lunes a viernes de 10 a 14 horas y tardes de 18 a 21 horas\, y la muestra estará disponible hasta el 14 de febrero.  \nVISITA GUIADA\nEl martes 29 a las 18 horas se llevará a cabo de forma excepcional una visita guiada abierta a todos los visitantes que deseen participar. \nEXPOSICIONES\n  \n\nXIX Cert. Nacional de Arte Contemporáneo. Ciudad de Utrera.\nFac. de Ingeniería. Premio Nac. de Pintura. Univ. de Sevilla.\n\n2000. \n– Casa del cipres. Deleg. provincial de la juventud\, Córdoba. \n– Exposición de paisaje. Ayuntamiento de Jabugo\, Huelva. \n  \n2001. \n– Exp. de paisaje la Axerquía\, Posada del potro\, Córdoba. \n-Exp.permanente. Museo “Perez-Guerra”\, Cortelazor\, Huelva. \n  \n2002. \n– Exp.  permanente. Casa de la cultura. Espiel\, Córdoba. \n– Exp. permanente. Casa de la cultura. Villacarrillo\, Jaén. \n– Exp.  permanente. Ayuntamiento de Montoro\, Córdoba. \n– Exp.  permanente. Ayuntamiento de Cabra\, Córdoba. \n– Exp.  permanente. Casa de la cultura\, Villaviciosa\, Córdoba. \n-Exp. permanente. Fundación Bustamante Saltar\, Rota\, Cadiz. \n– Casa de la cultura del ayuntamiento de Alcaudete\, Jaén. \n– Exp.  permanente. Ayuntamiento de Montiel\, Ciudad Real. \n– Exp.  permanente. Colegio de arquitectos\, Guadalajara. \n– Casa de la cultura del ayuntamiento de Torrelodones\, Madrid. \n– Exposición del certamen “Maestro Mateo”\, Cajasur\, Córdoba. \n– Exposición Salón de Otoño\, museo arqueológico de Sevilla. \n– “Pequeño formato” Galería Haurie\, Sevilla. \n  \n2003. \n– Diputación de Córdoba\, Premio paisaje\, Torrelodones\, Madrid \n– C. Cultura de la Junta de And.\, cert. pint. “Madinat Al-zahara”. \n– Galeria Victoria Hidalgo\, Madrid. \n– Exp. permanente. Bolsa de Madrid. \n– Colectiva “Artistas noveles” Carmen del Campo\, Córdoba. \n– Colectiva“Pintores en el siglo 21”Museo López Torres\, Tomelloso. \n  \n2004. \n– Exp. permanente museo “Paco Alonso” Benagalbón\, Málaga. \n– Exp. Permanente Ayuntamiento de Colmenar\, Málaga. \n  \n2005. \n– Arte-Sevilla. Feria de arte contemporáneo Sevilla. 5ª Edición. \n– Al–ma’ VI Jornadas de Cultura Islámica de Almonaster la Real. \n  \n2006. \n– Arte-Sevilla. Feria de arte contemporáneo Sevilla. 6ª Edición \n– Exposición en la galería Carmen del Campo\, Córdoba. \n– Iber Arte. Feria de arte contemporáneo Zaragoza. 1ª Edición. \n  \n2007. \n– Arte-Sevilla. Feria de arte contemporáneo Sevilla. 7ª Edición. \n– Exposición “Inside – outside” en la galería Victoria Hidalgo\, Madrid. \n  \n2008. \n– Collectiva galería Victoria Hidalgo\, Madrid. \n– Exposición colectiva Galería Arte Actual\, Ciudad real. \n  \n2009. \n– Exposición colectiva arte asiático Cajasur\, Córdoba. \n– Exposición “Kaos” en la galería Carmen del Campo\, Córdoba. \n  \n2010. \n– Exposición colectiva galería Victoria Hidalgo\, Madrid. \n– Exposición colectiva “Tradición” Galería Arte Actual\, Ciudad real. \n– Exposición colectiva Bolsa de Comercio\, Madrid. \n  \n2012.- Exposición “Deus” en la galería Carmen del Campo\, Córdoba. \n2014.- Exposición colectiva Paisajes de Córdoba. Fundación Botí\, Córdoba. \n  \n  \nPREMIOS\n  \n\nObra seleccionada. IV Premio Nacional de Artes Plásticas. Universidad de Sevilla.\n\n1998. \n– Obra seleccionada. XIX Certamen Nacional de Arte Contemporáneo. Ciudad de Utrera». \n– Premio “Pintor Joven». Pint. Rápida la Axerquia. Córdoba. \n\nFinalista\, Premio Nacional de Pint. Universidad de Sevilla.\n\n2001.- Premio “Margarita Salgado” El Punto de las Artes\, III Certamen “Villa de Cortelazor”\, Huelva. \n  \n2002. \n  \n– Primer premio\, II Certamen “Arte Espiel”\, Espiel\, Córdoba. \n– Segundo premio\, III Cert. “Ciudad de Villacarrillo”\, Jaen. \n– Segundo premio\, IV Concurso “Antonio Rodríguez Luna”. Montoro\, Córdoba. \n– Primer premio\, III Concurso ”Ciudad de Cabra”\, Córdoba. \n– Primer premio\, I Concurso “PINART 2002”\, Villaviciosa de Córdoba. \n– Primer premio en el Certamen\, Villa de Rota\, Cadiz. \n– Primer premio\, IV Concurso Nacional de Pintura “Ciudad de Alcaudete”\, Jaen. \n– Tercer premio\, I Cert. “Montiel y su campo”\, Ciudad Real. \n– Premio “Colegio de arquitectos” en el V Concurso Nacional de Pintura de Guadalajara. \n– Primer premio “Fundación Rafael Botí” en el III Certamen de Pintura de Torrelodones\, Madrid. \n– Mención de Honor en la modalidad de pintura en el II Salón  de Otoño\, Sevilla. \n  \n2003. \n– Primer premio  V Certamen “AAVV laAxerquia”\, Córdoba. \n– Segundo premio Consejería de Cultura\, I Certamen de dibujo y pintura “Madinat Al-zahara”. \n– Primer premio V Cert. “Entorno al Prado y la Bolsa”\, Madrid. \n– Primer premio\, Cert. “Iberoamericano de Pintura” C. Huelva . \n– Primer premio V Cert. “Villa de Cortelazor la Real”\, Huelva. \n– Segundo premio  V Cert. de de Zalamea la Real\, Huelva. \n– Segundo premio en el V Certamen Vera\, Almería. \n  \n2004. \n– Primer premio en el Certamen Benagalbón\, Málaga. \n– Tercer premio en el I Certamen Colmenar\, Málaga. \n– Segundo premio concurso de Pinilla\, Castilla la Mancha. \n– Segundo premio en el IX Certamen Griñón\, Madrid. \n– Primer premio en el V Certamen de Chinchilla\, Albacete. \n– Premio de adquisición en el Cert. de pintura de Ávila. \n– Primer premio  IX Cert. de Boadilla del Monte\, Madrid. \n– Segundo premio  IX Cert. Winthertur\, Catedral de Burgos. \n– Primer premio  V Cert. Ciudad de Béjar\, Salamanca. \n– Premio El Punto de las Artes Cert. El Retiro\, Madrid. \n– Primer premio  IX Cert. Boadilla del Monte\, Madrid. \n– Segundo premio  V Cert. El Río y sus orillas\, Sanlúcar. \n  \n2005. \n– Primer premio  XII Cert. de pintura La Carolina\, Jaén. \n– Premio de adquisición en el  I Cert.  pintura Ciudad de Málaga. \n– Premio de adquisición en el Cert. de pintura Virgen de las Viñas de Pinilla\, Ciudad Real. \n– Primer premio  II Certamen de pintura Nazaret de Jerez de la Frontera\, Cádiz. \n– Premio de adquisición en el Cert. de pintura Martín Carpena. El Martinete\, Málaga. \n  \n2006- Primer premio  XVIII Cert. de Artes Plásticas\, Miguel González Sandoval. Lora del Río\, Sevilla. \n2010.- Primer premio V Cert. “Entorno al Prado y la Bolsa”\, Madrid. \n2011.- Mención de honor\, cert. de Pint. I Colegio de Farmaceuticos. \n2012. \n– Primer Premio Certamen de pintura de Bujalance. \n– Mención de Honor Consejería de Cultura\, III Certamen de dibujo y pintura “Madinat Al-zahara”. \n2014. \n– Mención Certamen de Pintura Fundación Botí Córdoba. \n– Segundo premio certamen de pintura Catedral de Córdoba.
URL:https://fundacioncajaruraldelsur.com/evento/exposicion-kloris-de-javier-bassecourt/
LOCATION:Fundación Caja Rural del Sur Sevilla\, C/ Murillo\, 2\, Sevilla\, Sevilla\, 41001\, España
CATEGORIES:Exposición
ATTACH;FMTTYPE=image/jpeg:https://fundacioncajaruraldelsur.com/wp-content/uploads/2019/01/Javier_Bassecourt.jpg
GEO:37.2583599;-6.9535303
X-APPLE-STRUCTURED-LOCATION;VALUE=URI;X-ADDRESS=Fundación Caja Rural del Sur Sevilla C/ Murillo 2 Sevilla Sevilla 41001 España;X-APPLE-RADIUS=500;X-TITLE=C/ Murillo\, 2:geo:-6.9535303,37.2583599
END:VEVENT
BEGIN:VEVENT
DTSTART;TZID=Europe/Helsinki:20190128T163000
DTEND;TZID=Europe/Helsinki:20190129T153000
DTSTAMP:20260419T225015
CREATED:20190114T162622Z
LAST-MODIFIED:20190114T162829Z
UID:10000413-1548693000-1548775800@fundacioncajaruraldelsur.com
SUMMARY:JORNADAS: ¿HABLAMOS DE VACUNAS?
DESCRIPTION:El próximo 28 de enero inauguramos en nuestra sede de Huelva las jornadas dedicadas a la actualización sobre las vacunas: ¿Hablamos de vacunas?  El objetivo principal es proporcionar una visión general de lo que representan las vacunas global y localmente\, ponderar los beneficios y riesgos de la vacunación y de la ausencia de la misma\, mostrar los criterios que se siguen en la utilización de vacunas en España\, promocionar su uso de forma adecuada\, estimular la adquisición de conocimientos científicos sobre vacunas y guiar a los interesados hacia los recursos disponibles para poder formarse con mayor profundidad: \nDirigido a: Profesionales de la salud interesados en vacunaciones: medicina en sus diferentes especialidades relacionadas con las vacunaciones\, enfermería y farmacia. Así cómo otros profesionales interesados en éste campo: periodistas\, medios de comunicación\, blogueros\, etc. \nObjetivos: \n•Subrayar la importancia que tienen las vacunas para la salud. \n•Responder a las inquietudes y temores respecto a su necesidad y posibles consecuencias de su utilización. Mostrar los riesgos y consecuencias de la falta de vacunación. \n•Combatir las posturas que cuestionan su utilidad. Fomentar el debate en un ámbito científico. \nPrograma:\n28 de Enero de 2019\n16:30 Acto Inaugural. Dirección del Distrito de Atención Primaria Huelva-Costa y Presidencia de la Asociación Española de Vacunología. Presentación del curso. \n16.40-17.30 ¿Por qué vacunamos? Amós José García Rojas. \n17.30- 18.15 ¿Contra qué vacunamos? Amós José García Rojas. \n18.15- 18.30 Preguntas y debate. \n18.30- 18.45 Descanso. \n18.45- 19.15 ¿Cómo\, donde y cuando vacunamos? Gloria Mirada Masip. \n19.15- 20.00 ¿Cometemos errores durante la vacunación? Gloria Mirada Masip. \n20\,00- 20\,30 Preguntas y debate. \n  \n29 de Enero de 2019\n10.00-10.45 ¿Las vacunas no sirven para nada? Fermín García Rodríguez \n10.45-11.15 ¿Qué pasaría si no vacunásemos? Obligatoriedad de las vacunas ¿todas\, algunas\, ninguna? ¿A todos\, incluidos los sanitarios? Fermín García Rodríguez \n11.15-11.30 Descanso \n11.30-13.00 Situación epidemiológica y vacunal en Huelva. La vacunación en población Migrante ¿Situación en Huelva y Andalucía? Mesa debate: Eduardo Martínez Bonéy Juan Ripoll Font. Modera Fermín García. \n13.00-14.00 El calendario vacunal del adulto y en situaciones especiales. Calendario nacional. Mesa debate: Amós García\, Eduardo Martínez Boné\, Juan Ripoll Font. Modera Fermín García \n14.00-14.30 Preguntas y debate Todos los ponentes \n14.30 Acto de clausura \n  \nOrganizado por:\nAsociación Española de Vacunología. \n– Con la colaboración de: \nDistrito de Atención Primaria Huelva-Costa \nCaja Rural del Sur. Huelva \n  \nPonentes:\nAmós José García Rojas  \n\nPresidente de la Asociación Española de Vacunología\nPremio Rey Calero sobre Vacunas. R.A. Nacional de Medicina\nJefe de Sección de Epidemiología y Prevención. Dirección General de Salud Pública del Servicio Canario de Salud. Las Palmas de Gran Canaria\n\nFermín García Rodríguez \n\nPediatra centro de salud de Mairena del Aljarafe. Sevilla\nVicepresidente segundo de la Asociación Española de Vacunología.\n\nEduardo Martínez Boné \n\nPediatra de Huelva\n\nGloria Mirada Masip \n\nAgencia de Salud Pública de Cataluña en Lleida.\nProfesora Asociada en la Universidad de Lleida.\nTesorera Asociación Española de Vacunología\n\nJuan Ripoll Font \n\nPediatra de Huelva\n\n– Lugar de celebración Fundación Caja Rural del Sur. Calle Alcalde Mora Claros\,  6-8 Huelva \n 
URL:https://fundacioncajaruraldelsur.com/evento/jornadas-hablamos-de-vacunas/
LOCATION:Fundación Caja Rural del Sur Huelva\, C/ Alcalde Mora Claros 6-8\, Huelva\, Huelva\, 21001\, España
CATEGORIES:Jornadas
ATTACH;FMTTYPE=image/jpeg:https://fundacioncajaruraldelsur.com/wp-content/uploads/2019/01/Vacunas.jpg
GEO:37.2583599;-6.9535303
X-APPLE-STRUCTURED-LOCATION;VALUE=URI;X-ADDRESS=Fundación Caja Rural del Sur Huelva C/ Alcalde Mora Claros 6-8 Huelva Huelva 21001 España;X-APPLE-RADIUS=500;X-TITLE=C/ Alcalde Mora Claros 6-8:geo:-6.9535303,37.2583599
END:VEVENT
BEGIN:VEVENT
DTSTART;TZID=Europe/Helsinki:20190129T180000
DTEND;TZID=Europe/Helsinki:20190129T180000
DTSTAMP:20260419T225015
CREATED:20190128T124043Z
LAST-MODIFIED:20190128T170956Z
UID:10000491-1548784800-1548784800@fundacioncajaruraldelsur.com
SUMMARY:Proyección "Días de vino y rosas"
DESCRIPTION:Dentro del I Ciclo de Cine organizado por el Colegio Oficial de Médicos de Córdoba en colaboración con la Fundación Caja Rural del Sur\, se llevará a cabo\, en el salón de actos de Caja Rural del Sur en Córdoba\, la proyección de la película Días de vino y rosas. Presenta el Dr. Juan Ignacio Martinez Hens.  \nSinopsis\n\n\nJoe Clay\, jefe de relaciones públicas de una empresa de San Francisco\, conoce durante una fiesta a la bella Kirsten Arnesen. La muchacha se muestra cautelosa al principio\, debido a la afición de Joe a la bebida\, pero después sucumbe ante su simpatía y se casa con él. (FILMAFFINITY).\n\nFICHA\n \n\nTítulo original: Days of Wine and Roses\nAño: 1962\nDuración: 117 min.\nPaís:  Estados Unidos\nDirección: Blake Edwards\nGuión: J.P. Miller\nMúsica: Henry Mancini\nFotografía: Philip H. Lathrop (B&W)\nReparto: Jack Lemmon\,  Lee Remick\,  Charles Bickford\,  Jack Klugman\,  Alan Hewitt\, Tom Palmer\,  Jack Albertson\,  Debbie Megowan\nProductora: Warner Bros\nGénero: Drama. Romance | Alcoholismo\nPremios: 1962: Oscar: Mejor canción. 5 nominaciones. 1962: 4 nominaciones Globos de Oro: Película drama\, director\, actor\, actriz 1963: Premios BAFTA: 3 nominaciones incluyendo a actor extranjero (Lemmon) 1963: Festival de San Sebastián: Mejor actor (Lemmon) y actriz (Remick)\n\n\n\n\n\n\n\n2019-01-29 Cartel 3a Sesion I Ciclo Cine
URL:https://fundacioncajaruraldelsur.com/evento/proyeccion-dias-de-vino-y-rosas/
LOCATION:Caja Rural del Sur\, Córdoba\, Avda. Ronda de Tejares\, 36\, Córdoba\, Córdoba\, 14008\, España
CATEGORIES:Cine
ATTACH;FMTTYPE=image/jpeg:https://fundacioncajaruraldelsur.com/wp-content/uploads/2019/01/Dias_Vino_y_rosas.jpg
END:VEVENT
BEGIN:VEVENT
DTSTART;TZID=Europe/Helsinki:20190130T190000
DTEND;TZID=Europe/Helsinki:20190130T210000
DTSTAMP:20260419T225015
CREATED:20190129T192715Z
LAST-MODIFIED:20190129T193333Z
UID:10000493-1548874800-1548882000@fundacioncajaruraldelsur.com
SUMMARY:Reflexiones sobre Huelva: "La Universidad de Huelva. Su evolución y proyección de futuro"
DESCRIPTION:El próximo día 30 acogemos\, dentro del segundo ciclo de conferencias: “Reflexiones sobre Huelva”\, la charla bajo el titulo “La Universidad de Huelva. Su evolución y proyección de futuro”\, que impartirá la Excma. Sra. Dra. Dña. María Antonia Peña Guerrero\, Rectora de la Universidad de Huelva. \n\n\n\n\n\n\n\n\n\n\n\n\n\n\n\n\n\n\n\n\n\n\n\n\n\n\n\n\nTras tres decadas desde su creación\, la Universidad de Huelva es un ente vivo\, al que hay que querer\, mimar y potenciar. Es nuestra rectora la que nos informara de sus eventualidades y sus proyecciones. \n\n\n\n\n\n\n\n\n\n\n\n\n\n\n\n\n\n\n\n\n\n\n\n\n\n\n\n\nEl acto tendrá lugar el próximo miércoles\, día 30 de enero de 2019\, a las 19 horas\, en salón de actos de la Fundación Caja Rural del Sur\, en la c/ Alcalde Mora Claros no 6–8 de Huelva. Organiza la Fundación Juan Manuel Flores Jimeno\, de Huelva.
URL:https://fundacioncajaruraldelsur.com/evento/reflexiones-sobre-huelva-la-universidad-de-huelva-su-evolucion-y-proyeccion-de-futuro/
LOCATION:Fundación Caja Rural del Sur Huelva\, C/ Alcalde Mora Claros 6-8\, Huelva\, Huelva\, 21001\, España
CATEGORIES:conferencias
ATTACH;FMTTYPE=image/jpeg:https://fundacioncajaruraldelsur.com/wp-content/uploads/2018/10/Puente_Huelva.jpg
GEO:37.2583599;-6.9535303
X-APPLE-STRUCTURED-LOCATION;VALUE=URI;X-ADDRESS=Fundación Caja Rural del Sur Huelva C/ Alcalde Mora Claros 6-8 Huelva Huelva 21001 España;X-APPLE-RADIUS=500;X-TITLE=C/ Alcalde Mora Claros 6-8:geo:-6.9535303,37.2583599
END:VEVENT
BEGIN:VEVENT
DTSTART;TZID=Europe/Helsinki:20190131T190000
DTEND;TZID=Europe/Helsinki:20190131T220000
DTSTAMP:20260419T225015
CREATED:20190130T213313Z
LAST-MODIFIED:20190130T213313Z
UID:10000494-1548961200-1548972000@fundacioncajaruraldelsur.com
SUMMARY:Acto de entrega de la VIII Edición de los 'Premios Ricardo López Crespo' de Fundación Caja Rural del Sur
DESCRIPTION:El Círculo de la Amistad de Córdoba acoge este jueves\, día 31 de enero\, a las 19.00 horas\, el acto de entrega de los VIII ”Premios Ricardo López Crespo” que anualmente convoca la Fundación Caja Rural del Sur con el fin de distinguir a las mejores iniciativas cordobesas de carácter empresarial\, social\, cultural y en materia de innovación. Al acto asistirá el presidente de Caja Rural del Sur y de su Fundación\, José Luis García-Palacios Álvarez\, además de distintas autoridades políticas\, económicas y sociales de la provincia. \nPREMIADOS\nLa restauración de la capilla del Palacio Ducal de Fernán Núñez; el comedor social de los Trinitarios; las empresas Genially y Paythunter; el graduado Marcos Reyes Cívico y el estudio “Microsensores NIRS y plataformas Tic para garantizar la autentificación in situ de alimentos europeos de alto valor añadido: estudio de caso jamón de cerdo ibérico” fueron los elegidos por los distintos jurados para recibir estos galardones ‘Ricardo López Crespo’ de Fundación Caja Rural del Sur en su VIII edición.  \nEn esta convocatoria todos los premiados han sido seleccionados por el jurado correspondiente de forma unánime\, estando presentes en todos ellos José Luis Vega-Leal Segado\, presidente del jurado; y Dolores Moreno Guerrero\, actuando como secretaria. \nEl premio a ‘Proyectos de I+D+i en el ámbito de la actividad agroalimentaria’ ha sido otorgado al proyecto “Microsensores Nirs y Plataformas Tic para garantizar la autentificación in situ de alimentos europeos de alto valor añadido: estudio de caso jamón de cerdo ibérico”\, presentado por Ana Garrido Varo\, en representación del Grupo de Investigación AGR-128 PAI. El jurado ha estado compuesto por Ricardo López-Crespo\, vicepresidente 2º de Caja Rural del Sur y patrono de su Fundación; Manuel Pineda Priego\, consejero delegado de la Corporación Empresarial de la UCO; Rosa María Gallardo Cobos\, directora de la ETSIAM; y Javier Alcalá de la Moneda Garrido\, presidente de la D. O. Baena. \nEn la categoría de ‘Acción Social Solidaria’ el galardón se ha fallado a favor del “Comedor Social San Juan Bautista de la Concepción – Trinitarios – Fundación Prolibertas”. El jurado para elegir esta distinción lo ha integrado José María Calero Muñoz\, consejero de Caja Rural del Sur y patrono de su Fundación; Francisco de Paula Sánchez Zamorano\, presidente de la Audiencia Provincial de Córdoba; Manuel Pérez Moya\, deán de la Catedral de Córdoba; Cándida Ruiz López\, presidenta de Cruz Roja Córdoba; y Alfonso Fernández Zamorano\, director de la Fundación Emet Arco Iris. \nLa puesta en valor y conclusión de paramentos interiores y bóveda de la capilla del Palacio Ducal de Fernán Núñez ha sido la propuesta considerada por los miembros de este jurado para recibir el premio a la ‘Recuperación del Patrimonio Histórico-Artístico Provincial’. El jurado ha estado compuesto por José Cosano Moyano\, director de la Real Academia de Córdoba; Alberto Javier Montejo Córdoba\, director del Conjunto Arqueológico de Medina Azahara; Ana Verdú Peral\, directora del Archivo Municipal; Ricardo Córdoba de la Llave\, decano de la Facultad de Filosofía y Letras; y Antonio Varo Baena\, director del Ateneo de Córdoba.  \nEl premio a ‘Iniciativas Empresariales promovidas por jóvenes emprendedores’ ha sido concedido a la empresa Genially Web S.L.\, concediéndose además un accésit a Paythunder. Su jurado lo formaban Enrique Aguilar Gavilán\, director del jurado; Francisco Poyato Pino\, director de ABC Córdoba; Ignacio Fernández de Mesa y Delgado\, presidente de la Cámara de Comercio y de Asaja Córdoba; Antonio Díaz Córdoba\, presidente de CECO; Francisco Castejón Riber\, presidente de AJE Córdoba; e Isidro López Magdaleno\, vicepresidente de Magtel. \nY el premio al ‘Mejor expediente académico de los alumnos de Grado de la Universidad de Córdoba’ se ha concedido a Marcos Reyes Cívico\, de la facultad de Derecho y Ciencias Económicas. El jurado ha estado formado por Lorenzo Salas\, vicerrector de Planificación Académica y Prospectiva en representación del rector; Enrique Soria Mesa\, catedrático de Historia Moderna; Mª Teresa Roldán Arjona\, catedrática de Genética; Carmen Tarradas Iglesias\, catedrática de Sanidad Vegetal; y Mª Carmen del Campillo García\, catedrática de Producción Vegetal.  \nEstos premios están dotados económicamente con 4.000 € en cada una de las categorías\, recibiendo cada premiado también una estatuilla alegórica de Fundación Caja Rural del Sur. \n 
URL:https://fundacioncajaruraldelsur.com/evento/acto-de-entrega-de-la-viii-edicion-de-los-premios-ricardo-lopez-crespo-de-fundacion-caja-rural-del-sur/
LOCATION:Circulo de la Amistad de Córdoba\, calle Alfonso XIII\, 14\, Córdoba\, Sevilla\, 14001\, España
CATEGORIES:premios
ATTACH;FMTTYPE=image/jpeg:https://fundacioncajaruraldelsur.com/wp-content/uploads/2018/11/jornadas_autismo.jpg
END:VEVENT
BEGIN:VEVENT
DTSTART;TZID=Europe/Helsinki:20190131T200000
DTEND;TZID=Europe/Helsinki:20190131T200000
DTSTAMP:20260419T225015
CREATED:20190117T180853Z
LAST-MODIFIED:20190117T180853Z
UID:10000488-1548964800-1548964800@fundacioncajaruraldelsur.com
SUMMARY:Concierto Lírico Caja Rural del Sur
DESCRIPTION:El próximo 31 de enero celebramos en nuestro salón de actos de Huelva el Concierto Lírico de Caja Rural del Sur en beneficio de ‘Redmadre Huelva’ . La maravillosa voz de la soprano Lola Casariego acompañará al impresionante tenor Francisco J. Sánchez\, con Rubén Sánchez-Vieco al piano. \nLas entradas estarán a disposición del público a partir del 21 de enero en la Sala de Exposiciones del Centro Cultural de Caja Rural del Sur\, c/Mora Claros\, en horario de 11\,00 a 13\,00 horas. La recaudación de este concierto será a beneficio de: “Redmadre Huelva”. \n \n  \nARTISTAS\nLOLA CASARIEGO\nUna de las grandes voces del teatro lírico español con una gran trayectoria profesional en el mundo de la opera\, zarzuela\, concierto y recital. Ha cantado en los principales teatros y salas de concierto nacionales e internacionales tales como\, Rossini Opera Festival de Pe’saro\, Teatro Real de Madrid\, Liceo de\nBarcelona\, Opera de Marsella\, Tours\, Reims\, Niza\, Monte-Carlo\, Opera de Tel Aviv (Israel)\, 0 Salle Pleyel de Paris\, Sala Sme’tana de Praga\, Arsenal de Metz\, Tivoli de Copenhague\, Lincoln Center de Nueva York. \nHa interpretado roles como Rosina (Il barbiere di Siviglia)\, Cherubino (Las bodas de Figaro)\, Dorabella (Cosi fan tutte)\, Adalgisa (Norma)\, Cenerentola\, Idamante\, (Idomeneo)\, Sesto y Annio (La clemenza de Tito)\, Siebel (Los cuentos de Hoffmann)\, Sesto\, Ottavia\,(Julio César)\, Marchesa Melibea (Il viaggio a Reims)\, Carmen\, Charlotte (Werther)\, Isabella (Italiana en Argel)\, Preziosilla (La forza del destino) o Salud (La vida breve). \nCombina sus actuaciones operisticas con conciertos y recitales entre cuyas actuaciones se cuentan\,“Stabat Mater» de Rossini\, “Le enfance du Christ» de Berlioz\, “Die Erste walpurgisnacht» de Mendelssohn\, “Alegrias” de A. Garcia Abril\, “Mesias” de Handel\, “Misa Solemnis» de Beethoven\, “Requiem de Mozart“\, “9é de Beethoven»\, “Juditha Triumphans“ de Vivaldi\, gira de recitales en torno a Delacroix en los Auditorios del CaixaForum\, Cantata “Ah\, pérfido!» Op. 65 de Beethoven\, “Cantiga Finisterrae» de Juan Duran\, “Misa de tango» de Bakalov\, “Trois poe’me de Ste’phan Mallarmé» y “Chansons Made’casses» “Les nuits d’e’té» y “La damnation de Faust» de Berlioz\, “Requiem de Verdi»\, “Siete Canciones Populares Españolas» de M. de Falla “sheherazade” de Ravel y “Poeme de l‘amour et de la mer» de Chausson\, “Psiche’” y “Trois poe’me de Ste’phan Mallarme’» de Ravel\, Ciclo completo de“La Bonne Chanson» de Faure\, etc… \nLola Casariego ha grabado para EMI Classics\, Audivis-Valois\, Harmonia Mundi 0 Non Profit Music\, obras como “El barberillo de Lavapie’s»\, “Goyescas”\, “El hijo fingido»\, “Acis y Galatea»\, “Los elementos» y “Júpiter y Seme’le» de A. de Literes\, “Colpa\, pentimento e Grazia» de A. Scarlatti\, y canciones de compositores espanoles “Three portraits with shadow» junto a la OEX\, así como varios videos “Agua\, azucarillos y aguardiente»\, “El bateo»\, “Los diamantes de la corona“ y “El sobre verde». \nFRANCISCO J. SÁNCHEZ\nNacido en Madrid\, su repertorio de roles debutados cuenta con titulos de opera como La Traviata\, Bastian y Bastiana\, La Opera de Cuatro Notas\, I Pagliacci\, Pinocho\, Don Pasquale\, Cosi fan Tutte\, El Murcie’lago\, La Dolores\, Jazz Bodas de Figaro)\, musicales (El Fantasma de la Opera\, El Hombre de La Mancha\, El Médico\, Germinal\, Wonderful Town\, Mi Princesa Roja)\, sinfonica (Novena Sinfonia de Beethoven\, Elias de Mendelssohn\, Requiem y Kronungsmesse de Mozart\, Misa Nelson de Haydn\, Mesias de Haendel\, la Petite Messe Solennelle de Rossini)\, zarzuela (MUsica Clasica\, Las de Cain\, El terrible Perez\, Dona Francisquita\, Maharaja\, La Tabernera del puerto\, El D110 de La Africana\, La Verbena de la Paloma\, La Marsellesa) bajo la batuta de maestros como Luis Remartinez\, José Ramon Encinar\, M. Angel Gomez Martinez\, Guillermo Gi‘ Calvo\, Marzio Conti\, Miguel Roa\, Lorenzo Ramos\, Cristobal Soler\, Alberto Cubero\, y dirigido esce’nicamente por Graham Vick\, Paco Mir\, Angel Fernandez Montesinos\, Gustavo Tambascio\, Maxi Rodriguez… En el campo del cine\, la locucion y el doblaje\, ha trabajado para directores como Carlos Saura\, Alfonso Laguna\, Francisco Hernandez\, José Antonio Ceinos\, Gloria Cémara\, Carlos Revilla y Antonio Galvez. \nRUBÉN SÁNCHEZ-VIECO\nObtiene el título superior de piano en el Conservatorio Superior de Música de Valencia\, obteniendo las máximas calificaciones en interpretación\, música de cámara e improvisación. En Madrid estudia piano y fenomenología musical con José Cruzado. Primer premio del X Concurso nacional de piano “Maestro Serrano». En 2009 se especializa en repertorio lírico tras obtener una beca en el Centre de Perfeccionament Placido Domingo del Palau de les Arts Reina Sofia de Valencia. \nEn 2010 se siente atraído por la dirección de orquesta tras recibir lecciones en “El Centre“. Ha sido maestro collaboratore y asistente de Alberto Zedda desde 2010. Ha actuado en el Auditorio Nacional de Música\, Palau de la Música de Valencia\, entre otros. \nHa dirigido las siguientes orquestas: Orquesta Sinfonica de Tenerife\, Lithuanian State Symphony Orchestra\, London Classical Soloist\, Sibiu Philarmonic Orchestra\, Barbieri Symphony Orquestra and Westsächsisches Symphonieorchester\, interpretando repertorio lírico y sinfónico. Actualmente es el principal pianista y coordinador musical de la Accademia Rossiniana Alberto Zedda (Pesaro) y director asistente en Opera de Tenerife. También colabora frecuentemente con el Festival Puccini y el programa Opera Studio de la FGUA (Alcalá de Henares\, Madrid). \nAsimismo\, compagina su actividad artística con la docente en la Escuela Superior de Música Katarina Gurska de Madrid. \nPROGRAMA\nPRIMERA PARTE\n“Le Violette“ A. Scarlatti\n“Lascia ch‘io pianga“ Armida (G.E Handel)\n“Vaga luna che inargenti“ (V Bellini)\n“Si mes vers avaient des ailes“ (R. Hahn)\n“Mi batte il cor… O Paradiso“ L‘Africana (G. Meyerbeer)\n“Pres de remparts de Seville“ Seguidilla Carmen (G. Bizet)\n“C’est toi… c’est moi“ Carmen (G. Bizet) \n\nSEGUNDA PARTE\n“Jota” (Manuel de Falla)\n“Cantares” (J.Turina) \n(E A. Barbieri)\n(P. Sorozabal)\n(G.Giménez)\n(A. Vives) \n“Una mujer que quiere ver a un barbero» El Barberillo de Lavapiés\n“No puede ser» La Tabernera del Puerto\n“Zapateado” La tempranica \n“Escúchame” Doria Francisquita \n 
URL:https://fundacioncajaruraldelsur.com/evento/concierto-lirico-caja-rural-del-sur/
LOCATION:Fundación Caja Rural del Sur Huelva\, C/ Alcalde Mora Claros 6-8\, Huelva\, Huelva\, 21001\, España
CATEGORIES:Conciertos
ATTACH;FMTTYPE=image/jpeg:https://fundacioncajaruraldelsur.com/wp-content/uploads/2018/10/Concierto_Lirico.jpg
GEO:37.2583599;-6.9535303
X-APPLE-STRUCTURED-LOCATION;VALUE=URI;X-ADDRESS=Fundación Caja Rural del Sur Huelva C/ Alcalde Mora Claros 6-8 Huelva Huelva 21001 España;X-APPLE-RADIUS=500;X-TITLE=C/ Alcalde Mora Claros 6-8:geo:-6.9535303,37.2583599
END:VEVENT
END:VCALENDAR