BEGIN:VCALENDAR
VERSION:2.0
PRODID:-//Fundación Caja Rural del Sur - ECPv6.15.17//NONSGML v1.0//EN
CALSCALE:GREGORIAN
METHOD:PUBLISH
X-WR-CALNAME:Fundación Caja Rural del Sur
X-ORIGINAL-URL:https://fundacioncajaruraldelsur.com
X-WR-CALDESC:Eventos para Fundación Caja Rural del Sur
REFRESH-INTERVAL;VALUE=DURATION:PT1H
X-Robots-Tag:noindex
X-PUBLISHED-TTL:PT1H
BEGIN:VTIMEZONE
TZID:Europe/Helsinki
BEGIN:DAYLIGHT
TZOFFSETFROM:+0200
TZOFFSETTO:+0300
TZNAME:EEST
DTSTART:20170326T010000
END:DAYLIGHT
BEGIN:STANDARD
TZOFFSETFROM:+0300
TZOFFSETTO:+0200
TZNAME:EET
DTSTART:20171029T010000
END:STANDARD
BEGIN:DAYLIGHT
TZOFFSETFROM:+0200
TZOFFSETTO:+0300
TZNAME:EEST
DTSTART:20180325T010000
END:DAYLIGHT
BEGIN:STANDARD
TZOFFSETFROM:+0300
TZOFFSETTO:+0200
TZNAME:EET
DTSTART:20181028T010000
END:STANDARD
BEGIN:DAYLIGHT
TZOFFSETFROM:+0200
TZOFFSETTO:+0300
TZNAME:EEST
DTSTART:20190331T010000
END:DAYLIGHT
BEGIN:STANDARD
TZOFFSETFROM:+0300
TZOFFSETTO:+0200
TZNAME:EET
DTSTART:20191027T010000
END:STANDARD
END:VTIMEZONE
BEGIN:VEVENT
DTSTART;TZID=Europe/Helsinki:20181023T100000
DTEND;TZID=Europe/Helsinki:20181109T210000
DTSTAMP:20260419T180544
CREATED:20181015T213637Z
LAST-MODIFIED:20181015T215619Z
UID:10000448-1540288800-1541797200@fundacioncajaruraldelsur.com
SUMMARY:'Mirada Urbana'\, exposición de José Antonio Guerrero
DESCRIPTION:Inauguramos el próximo día 23 de octubre la exposición del pintor José Antonio Guerrero García\, Mirada Urbana en la sala de exposiciones de la Fundación Caja Rural del Sur en la calle Murillo de Sevilla. La muestra\, abierta al público de forma gratuita\, estará abierta hasta el día 9 de noviembre. \nHorario:\nL-V: 10:00 horas- 14:00 horas / 19:00 horas- 21:00 horas \n 
URL:https://fundacioncajaruraldelsur.com/evento/mirada-urbana-exposicion-de-jose-antonio-guerrero/
LOCATION:Fundación Caja Rural del Sur Sevilla\, C/ Murillo\, 2\, Sevilla\, Sevilla\, 41001\, España
CATEGORIES:Exposiciones
ATTACH;FMTTYPE=image/jpeg:https://fundacioncajaruraldelsur.com/wp-content/uploads/2018/10/Exposicion_Miraba_Urbana.jpg
GEO:37.2583599;-6.9535303
X-APPLE-STRUCTURED-LOCATION;VALUE=URI;X-ADDRESS=Fundación Caja Rural del Sur Sevilla C/ Murillo 2 Sevilla Sevilla 41001 España;X-APPLE-RADIUS=500;X-TITLE=C/ Murillo\, 2:geo:-6.9535303,37.2583599
END:VEVENT
BEGIN:VEVENT
DTSTART;TZID=Europe/Helsinki:20181031T200000
DTEND;TZID=Europe/Helsinki:20181114T210000
DTSTAMP:20260419T180544
CREATED:20181025T173641Z
LAST-MODIFIED:20181025T173641Z
UID:10000457-1541016000-1542229200@fundacioncajaruraldelsur.com
SUMMARY:Exposición: 'La Rosa Blanca. La resistencia estudiantil al nazismo. Múnich 1942-43'
DESCRIPTION:El próximo 31 de octubre acogemos la exposición La Rosa Blanca. La resistencia estudiantil al nazismo. Múnich 1942-43. La conferencia corre a cargo del profesor de Historia Contemporánea y doctor Alberto Carrillo Linares\, y organiza Encarnación Lemus\, de la Facultad de Humanidades. \nInauguración\n 20 horas en la Sala de Exposiciones de la Fundación Caja Rural del Sur  Mora Claros\, 6. \nHorario visitas\nLa muestra estará del 31 octubre al 14 noviembre\, con un horario de lunes a viernes de 18 a 21 horas.
URL:https://fundacioncajaruraldelsur.com/evento/exposicion-la-rosa-blanca-la-resistencia-estudiantil-al-nazismo-munich-1942-43/
LOCATION:Fundación Caja Rural del Sur Huelva\, C/ Alcalde Mora Claros 6-8\, Huelva\, Huelva\, 21001\, España
CATEGORIES:Exposiciones
ATTACH;FMTTYPE=image/jpeg:https://fundacioncajaruraldelsur.com/wp-content/uploads/2018/10/Rosa_Blanca.jpg
GEO:37.2583599;-6.9535303
X-APPLE-STRUCTURED-LOCATION;VALUE=URI;X-ADDRESS=Fundación Caja Rural del Sur Huelva C/ Alcalde Mora Claros 6-8 Huelva Huelva 21001 España;X-APPLE-RADIUS=500;X-TITLE=C/ Alcalde Mora Claros 6-8:geo:-6.9535303,37.2583599
END:VEVENT
BEGIN:VEVENT
DTSTART;TZID=Europe/Helsinki:20181105T200000
DTEND;TZID=Europe/Helsinki:20181105T200000
DTSTAMP:20260419T180544
CREATED:20181030T183844Z
LAST-MODIFIED:20181030T183844Z
UID:10000464-1541448000-1541448000@fundacioncajaruraldelsur.com
SUMMARY:Presentación del libro: 'Rocío. Reina de la Paz'\, de Santiago Padilla
DESCRIPTION:El próximo 5 de noviembre presentamos en Huelva la obra Rocío. Reina de la Paz. Historia de la Coronación Canónica de la Blanca Paloma (1918/1919)\, de Santiago Padilla. En el acto estarán presentes José Luis García Palacios\, Presidente de Fundación Caja Rural del Sur\, Juan Moreno Tocino\, Presidente de Inés Rosales S.A.U.\, Eduardo Sugrañes Gómez\, Periodista y Jefe de Sección del diario Huelva Información\, Rafael Pérez Fuentes\, Editor de Niebla Editorial y por supuesto\, el autor Santiago Padilla Díaz de la Serna.  \nSINOPSIS\n¿Era el momento de abordar la Coronación Canónica de la Virgen del Rocío? ¿Estaba El Rocío preparado para acometer tamaña empresa\, de proyección universal? ¿Hay alguna relación entre la iniciativa de Jurado Carrillo en octubre de 1915 y el proyecto definitivo que arranca en mayo de 1918\, de la mano del canónigo Juan Francisco Muñoz y Pabón? ¿Con qué objeto asistió la hermana del Cardenal de Sevilla\, Mª Magdalena Almaraz y Santos\, a la Romería de 1918? Y\, ¿por qué esa invocación a la Virgen del Rocío\, como Reina de la Paz? \nTodas las claves de este gran acontecimiento de principios del siglo XX están en este estudio de Santiago Padilla Díaz de la Serna\, uno de los mayores especialistas de esta centuria tan importante en el devenir histórico de la devoción a la Blanca Paloma. En un tono divulgativo\, cuando se está celebrando el Centenario de aquella efeméride\, nos adentra en todos los entresijos\, circunstancias y personajes que la hicieron posible\, en medio de algunas discrepancias e inevitables tensiones.
URL:https://fundacioncajaruraldelsur.com/evento/presentacion-del-libro-rocio-reina-de-la-paz-de-santiago-padilla/
LOCATION:Fundación Caja Rural del Sur Huelva\, C/ Alcalde Mora Claros 6-8\, Huelva\, Huelva\, 21001\, España
CATEGORIES:Presentaciones
ATTACH;FMTTYPE=image/jpeg:https://fundacioncajaruraldelsur.com/wp-content/uploads/2018/10/Presentacion_Libro.jpg
GEO:37.2583599;-6.9535303
X-APPLE-STRUCTURED-LOCATION;VALUE=URI;X-ADDRESS=Fundación Caja Rural del Sur Huelva C/ Alcalde Mora Claros 6-8 Huelva Huelva 21001 España;X-APPLE-RADIUS=500;X-TITLE=C/ Alcalde Mora Claros 6-8:geo:-6.9535303,37.2583599
END:VEVENT
BEGIN:VEVENT
DTSTART;TZID=Europe/Helsinki:20181107T190000
DTEND;TZID=Europe/Helsinki:20181107T190000
DTSTAMP:20260419T180544
CREATED:20181025T175528Z
LAST-MODIFIED:20181105T163633Z
UID:10000460-1541617200-1541617200@fundacioncajaruraldelsur.com
SUMMARY:Reflexiones sobre Huelva: 'La fiebre minera del XIX: Las fuerzas de la revolución industrial\, en la franja pirítica onubense'
DESCRIPTION:Dentro del segundo ciclo de conferencias acogemos un nuevo capítulo de las Reflexiones sobre Huelva\, bajo el titulo La fiebre minera del XIX: Las fuerzas de la revolución industrial\, en la franja pirítica onubense\, que impartirá el Dr. D.Manuel Flores Caballero\, catedrático de Universidad y Presidente del Patronato de la Fundación Juan Manuel Flores Jimeno. \n\n\nSegún palabras del propio Flores Caballero\, el título ha sido elegido dada la apuesta que en el siglo XIX convulsionó tanto la provincia como la configuración de la ciudad de Huelva\, cuyos efectos permanecen en gran parte en la actualidad.  Ejemplos de esta apuesta del puerto de Huelva para la exportación de los minerales son la introducción de los ferrocarriles\, los muelles de descarga\, el telégrafo\, el teléfono\, la industrialización en bocamina\, la minería a cielo abierto (por cortas). \n\n\nEl acto tendrá lugar el próximo día 7 de noviembre de 2018\, a las 19 horas\, en salón de actos de la Caja Rural del Sur\, en la calle Mora Claros nº 6 – 8 de Huelva. Organiza: Fundación Juan Manuel Flores Jimeno.
URL:https://fundacioncajaruraldelsur.com/evento/reflexiones-sobre-huelva-fiebre-minera/
LOCATION:Fundación Caja Rural del Sur Huelva\, C/ Alcalde Mora Claros 6-8\, Huelva\, Huelva\, 21001\, España
CATEGORIES:conferencias
ATTACH;FMTTYPE=image/jpeg:https://fundacioncajaruraldelsur.com/wp-content/uploads/2018/10/Puente_Huelva.jpg
GEO:37.2583599;-6.9535303
X-APPLE-STRUCTURED-LOCATION;VALUE=URI;X-ADDRESS=Fundación Caja Rural del Sur Huelva C/ Alcalde Mora Claros 6-8 Huelva Huelva 21001 España;X-APPLE-RADIUS=500;X-TITLE=C/ Alcalde Mora Claros 6-8:geo:-6.9535303,37.2583599
END:VEVENT
BEGIN:VEVENT
DTSTART;TZID=Europe/Helsinki:20181108T200000
DTEND;TZID=Europe/Helsinki:20181108T200000
DTSTAMP:20260419T180544
CREATED:20181023T171127Z
LAST-MODIFIED:20181023T171127Z
UID:10000453-1541707200-1541707200@fundacioncajaruraldelsur.com
SUMMARY:Concierto Lírico a beneficio de 'Comedor Virgen de Belén'
DESCRIPTION:El próximo 8 de noviembre celebramos el Concierto Lírico de Caja Rural del Sur en beneficio de ‘Comedor Virgen de Belén’ . La maravillosa voz de la Soprano Ana Troncoso acompañará al impresionante barítono Guillermo Orozco\, con Jaime Malma al piano. \nLas entradas estarán a disposición del público a partir del 29 de octubre en la Sala de Exposiciones del Centro Cultural de Caja Rural del Sur\, c/Mora Claros\, en horario de 11\,00 a 13\,00 horas. La recaudación de este concierto será a beneficio de: “COMEDOR VIRGEN DE BELÉN». \nAna Troncoso (Soprano)\nEstudia canto en el Real Conservatorio Manuel de Falla de Cádiz. Recibe clases magistrales de la soprano Montserrat Caballé\, el tenor Jaume Aragall\, la mezzosoprano Francesca Roig y la maestra Valle Duque; clases magistrales de interpretación para cantantes líricos\, con maestros como Manuel Burgueras o Miquel Ortega. Ha recibido los consejos del grandísimo barítono malagueño Carlos Álvarez. Asimismo\, estudia danza clásica en el Conservatorio de Sevilla a la vez que trabaja con grupos de danza y teatro amateurs\, cuyos skechts de expresión corporal en solitario fueron incorporados al catálogo del Centro de Documentación de las Artes Escénicas de Andalucía. Calificada por la crítica por la calidad de su voz\, como voz de gran belleza\, viene de cantar el rol de  Cio-Cio-San en Madama Butterfly (Puccini) por segunda vez en junio con gran éxito de crítica y público. Ha cantado el rol de Tosca (Puccini) por segunda vez también en el Festival del Castillo de la Monclova (Sevilla) junto a la Orquesta Sinfónica del Aljarafe bajo la dirección del maestro Pedro Vázquez. \nEn escena\, colabora con la compañía Staff Opera Club en la creación de espectáculos líricos\, de los que cabe destacar DESTINO VERDI\, en el que encarna a Violetta Valery y Gilda\, roles protagonistas de “La Traviata” y “Rigoletto” (G. Verdi)\, respectivamente\, en escenarios como el Salón de Embajadores del Palacio Medina Sidonia o el Teatro Villamarta (Jerez); y Gianneta en “Elisir d´amore” de G. Donizetti\, en el Gran Teatro Falla (Cádiz). Interpreta durante dos temporadas en el Teatro Villamarta (Jerez de la Frontera) el rol de Sem en “El Diluvio de Noé” de Benjamin Britten; Annina\, en “La Traviata” de G. Verdi; Suor Genovieffa\, en “Suor Angelica”\, de G. Puccini; Sacerdotessa\, en “Aida” (G. Verdi)\, y es solista en el programa “O Welt ich muss dichLassen” sobre obras de J. Brahms\, en el Teatro Villamarta. \n \nProtagoniza diversos recitales orientados a la difusión de la música española en ciudades como Londres\, Dublín\, Barcelona\, Madrid\, Sevilla y Cádiz\, interpretando obras de Joaquín Turina\, Enrique Granados\, Manuel de Falla y Julio Osma. Ha cantado bajo la batuta de directores de la talla de David Levi\, Vladimir Chernov\, Elena Herrera\, Juan Luis Pérez\, Enrique Patrón de Rueda\, David Jiménez Carreras\, o Pedro Vázquez entre otros. \n  \n  \nGuillermo Orozco (Barítono)\nNace en Huelva. Comienza sus estudios musicales en su ciudad natal\, posteriormente se traslada a Madrid a la Escuela Superior de Canto\, estudia canto y repertorio con el maestro Pedro Lavirgen. Ha obtenido numerosos premios internacionales de canto: Logroño (1995 y 1997)\, Francisco Alonso (1995)\, J.Guerrero (1996)\, J.Gayarre de Pamplona (1996)\, Real Villa de Arganda (1997)\, Luís Mariano (Irún\, 1997)\, Acisclo Fernández (Madrid\, 1998)\, Pedro Lavirgen (Córdoba\,1998)\, etc. Otras distinciones: Onubense del año y Juan Pedro Mayor 2007. \nProfesionalmente ha abarcado todos los géneros líricos en los principales teatros españoles y extranjeros: Teatro Real y de la Zarzuela (Madrid)\, Liceo de (Barcelona)\, Maestranza (Sevilla)\, etc.\, así como en Europa\, Asia\, América. En Zarzuela: La del Manojo de Rosas\, La Tabernera del Puerto y Katiuska (P. Sorozábal)\, La del Soto del Parral (Soutullo y Vert)\, Gigantes y Cabezudos (F. Caballero)\, Luisa Fernanda (M. Torroba)\, La Leyenda del Beso (Soutullo y Vert)\, La Rosa del Azafrán (J. Guerrero)\, entre otras muchas. Actualmente director del Coro Teatro Lírico de Huelva. \nJaime Malma (Pianista)\nNació en Medellín (Colombia). Inició sus estudios superiores de piano con las maestras Teresita Gómez y Blanca Uribe. En octubre de 2008 obtuvo las máximas calificaciones en su recital de grado\, siendo laureado con la mención de grado honorífico “CUM LAUDE” por la Universidad de Antioquia. En agosto de 2009 fue becado por el prestigioso X GIJON INTERNATIONAL PIANO FESTIVAL de Asturias\, participando activamente en diferentes talleres y clases magistrales dictadas\, entre otros\, por Julián Martin\, Marc Durand\, Robert McDonald y Dominique Weber. En 2010- 2011 realizó el curso de perfeccionamiento y postgrado musical en el Conservatorio del Liceo de Barcelona\, a cargo del maestro Albert Atenelle. \nEn agosto del 2012\, dentro del festival de verano de la Fundación Pianísimo\, participó en el curso para repertoristas y cantantes con Mark Hastings\, Jefe de pianistas del Gran Teatro del Liceo de Barcelona. En el 2012 y 2013 ha sido el pianista acompañante de la segunda y tercera edición del Barcelona Opera Studio\, dirigido por los maestros Ricardo Estrada y Jaume Aragall. Como recitalista y pianista acompañante se ha presentado en numerosos escenarios de su país y en distintas ciudades de España. Actualmente reside en Sevilla y colabora con distintas de la compañía líricas de Andalucía. \n  \n 
URL:https://fundacioncajaruraldelsur.com/evento/concierto-lirico-a-beneficio-de-comedor-virgen-de-belen/
LOCATION:Fundación Caja Rural del Sur Huelva\, C/ Alcalde Mora Claros 6-8\, Huelva\, Huelva\, 21001\, España
CATEGORIES:Conciertos
ATTACH;FMTTYPE=image/jpeg:https://fundacioncajaruraldelsur.com/wp-content/uploads/2018/10/Concierto_Lirico.jpg
GEO:37.2583599;-6.9535303
X-APPLE-STRUCTURED-LOCATION;VALUE=URI;X-ADDRESS=Fundación Caja Rural del Sur Huelva C/ Alcalde Mora Claros 6-8 Huelva Huelva 21001 España;X-APPLE-RADIUS=500;X-TITLE=C/ Alcalde Mora Claros 6-8:geo:-6.9535303,37.2583599
END:VEVENT
END:VCALENDAR