BEGIN:VCALENDAR
VERSION:2.0
PRODID:-//Fundación Caja Rural del Sur - ECPv6.15.17//NONSGML v1.0//EN
CALSCALE:GREGORIAN
METHOD:PUBLISH
X-WR-CALNAME:Fundación Caja Rural del Sur
X-ORIGINAL-URL:https://fundacioncajaruraldelsur.com
X-WR-CALDESC:Eventos para Fundación Caja Rural del Sur
REFRESH-INTERVAL;VALUE=DURATION:PT1H
X-Robots-Tag:noindex
X-PUBLISHED-TTL:PT1H
BEGIN:VTIMEZONE
TZID:Europe/Helsinki
BEGIN:DAYLIGHT
TZOFFSETFROM:+0200
TZOFFSETTO:+0300
TZNAME:EEST
DTSTART:20190331T010000
END:DAYLIGHT
BEGIN:STANDARD
TZOFFSETFROM:+0300
TZOFFSETTO:+0200
TZNAME:EET
DTSTART:20191027T010000
END:STANDARD
BEGIN:DAYLIGHT
TZOFFSETFROM:+0200
TZOFFSETTO:+0300
TZNAME:EEST
DTSTART:20200329T010000
END:DAYLIGHT
BEGIN:STANDARD
TZOFFSETFROM:+0300
TZOFFSETTO:+0200
TZNAME:EET
DTSTART:20201025T010000
END:STANDARD
BEGIN:DAYLIGHT
TZOFFSETFROM:+0200
TZOFFSETTO:+0300
TZNAME:EEST
DTSTART:20210328T010000
END:DAYLIGHT
BEGIN:STANDARD
TZOFFSETFROM:+0300
TZOFFSETTO:+0200
TZNAME:EET
DTSTART:20211031T010000
END:STANDARD
END:VTIMEZONE
BEGIN:VEVENT
DTSTART;TZID=Europe/Helsinki:20201008T193000
DTEND;TZID=Europe/Helsinki:20201008T193000
DTSTAMP:20260423T201251
CREATED:20200928T183758Z
LAST-MODIFIED:20200928T184154Z
UID:10000685-1602185400-1602185400@fundacioncajaruraldelsur.com
SUMMARY:Presentación del libro: "El Manifiesto"
DESCRIPTION:El próximo 8 de octubre acogemos en nuestra sede de Sevilla la presentación de la obra de Margarita Bustamante: «El Manifiesto». \n \n\nSIPNOSIS \nVioleta Baena nunca imaginó\, al ojear aquella mañana la prensa\, que su perfecta vida de esposa\, madre y empresaria ejemplar\, se derrumbaría como un castillo de naipes.  \nAlgo se removió dentro de ella cuando leyó el manifiesto del que se hacían eco los medios de comunicación. Sabía a ciencia cierta que lo que publicaban era verdadero.  \nUn polvorín estalló en la ordenada sociedad sevillana alcanzando salpicando a todas direcciones.    \nLA AUTORA\nMargarita Bustamante Sainz nació en Sevilla\, en 1962. Fue representante de los agricultores de riego durante veinte años y tiene publicadas tres novelas. Actualmente comparte la actividad agraria\, a la que se dedica\, con la literatura y la familia. Autora de las novelas Dulce y Salado\, Una casa en la Palmera y El Manifiesto. \n 
URL:https://fundacioncajaruraldelsur.com/evento/presentacion-del-libro-el-manifiesto/
LOCATION:Fundación Caja Rural del Sur Sevilla\, C/ Murillo\, 2\, Sevilla\, Sevilla\, 41001\, España
CATEGORIES:Presentaciones
ATTACH;FMTTYPE=image/jpeg:https://fundacioncajaruraldelsur.com/wp-content/uploads/2020/09/libro_ella.jpg
GEO:37.2583599;-6.9535303
X-APPLE-STRUCTURED-LOCATION;VALUE=URI;X-ADDRESS=Fundación Caja Rural del Sur Sevilla C/ Murillo 2 Sevilla Sevilla 41001 España;X-APPLE-RADIUS=500;X-TITLE=C/ Murillo\, 2:geo:-6.9535303,37.2583599
END:VEVENT
END:VCALENDAR