BEGIN:VCALENDAR
VERSION:2.0
PRODID:-//Fundación Caja Rural del Sur - ECPv6.15.17//NONSGML v1.0//EN
CALSCALE:GREGORIAN
METHOD:PUBLISH
X-WR-CALNAME:Fundación Caja Rural del Sur
X-ORIGINAL-URL:https://fundacioncajaruraldelsur.com
X-WR-CALDESC:Eventos para Fundación Caja Rural del Sur
REFRESH-INTERVAL;VALUE=DURATION:PT1H
X-Robots-Tag:noindex
X-PUBLISHED-TTL:PT1H
BEGIN:VTIMEZONE
TZID:Europe/Helsinki
BEGIN:DAYLIGHT
TZOFFSETFROM:+0200
TZOFFSETTO:+0300
TZNAME:EEST
DTSTART:20190331T010000
END:DAYLIGHT
BEGIN:STANDARD
TZOFFSETFROM:+0300
TZOFFSETTO:+0200
TZNAME:EET
DTSTART:20191027T010000
END:STANDARD
BEGIN:DAYLIGHT
TZOFFSETFROM:+0200
TZOFFSETTO:+0300
TZNAME:EEST
DTSTART:20200329T010000
END:DAYLIGHT
BEGIN:STANDARD
TZOFFSETFROM:+0300
TZOFFSETTO:+0200
TZNAME:EET
DTSTART:20201025T010000
END:STANDARD
BEGIN:DAYLIGHT
TZOFFSETFROM:+0200
TZOFFSETTO:+0300
TZNAME:EEST
DTSTART:20210328T010000
END:DAYLIGHT
BEGIN:STANDARD
TZOFFSETFROM:+0300
TZOFFSETTO:+0200
TZNAME:EET
DTSTART:20211031T010000
END:STANDARD
END:VTIMEZONE
BEGIN:VEVENT
DTSTART;TZID=Europe/Helsinki:20201001T190000
DTEND;TZID=Europe/Helsinki:20201001T190000
DTSTAMP:20260423T025020
CREATED:20200921T141924Z
LAST-MODIFIED:20200921T141924Z
UID:10000683-1601578800-1601578800@fundacioncajaruraldelsur.com
SUMMARY:Presentación del libro: 'Completa'\, de Eva Rodríguez
DESCRIPTION:El próximo jueves presentamos en Huelva la obra de Eva Rodríguez: ‘Completa’. La encargada de presentar el acto es María Gómez\, e interviene Joaquín Cabanillas\, Director de Pábilo editorial. \nBIOGRAFÍA\nEva Rodríguez nació en Huelva en 1969. Comenzó a interesarse por la literatura y a escribir textos propios -en prosa y en verso- a muy temprana edad. \nEs una activista reconocida en diversos ámbitos\, sobre todo en la defensa del medioambiente\, y en lo relativo a los Derechos Humanos. Crítica y reivindicativa\, son actitudes siempre presente en sus escritos. Entre sus aficiones se encuentran la fotografía y el teatro. Actualmente estudia Lengua y Literatura por la UNED y Filología Hispánica en la Universidad de Huelva. Completa es su primer libro editado. \n \nSINOPSIS\nValiente\, provocador\, sensual y poético. Un libro que es un canto al optimismo\, a la vida (pese a sus golpes). Una experiencia personal que se hace universal\, un ejemplo de superación de una mujer Completa después de la dura experiencia de sufrir un cáncer de mama.
URL:https://fundacioncajaruraldelsur.com/evento/presentacion-del-libro-completa-de-eva-rodriguez/
LOCATION:Fundación Caja Rural del Sur Huelva\, C/ Alcalde Mora Claros 6-8\, Huelva\, Huelva\, 21001\, España
CATEGORIES:Presentaciones
ATTACH;FMTTYPE=image/jpeg:https://fundacioncajaruraldelsur.com/wp-content/uploads/2020/09/presentacion_libro.jpg
GEO:37.2583599;-6.9535303
X-APPLE-STRUCTURED-LOCATION;VALUE=URI;X-ADDRESS=Fundación Caja Rural del Sur Huelva C/ Alcalde Mora Claros 6-8 Huelva Huelva 21001 España;X-APPLE-RADIUS=500;X-TITLE=C/ Alcalde Mora Claros 6-8:geo:-6.9535303,37.2583599
END:VEVENT
END:VCALENDAR