BEGIN:VCALENDAR
VERSION:2.0
PRODID:-//Fundación Caja Rural del Sur - ECPv6.15.17//NONSGML v1.0//EN
CALSCALE:GREGORIAN
METHOD:PUBLISH
X-WR-CALNAME:Fundación Caja Rural del Sur
X-ORIGINAL-URL:https://fundacioncajaruraldelsur.com
X-WR-CALDESC:Eventos para Fundación Caja Rural del Sur
REFRESH-INTERVAL;VALUE=DURATION:PT1H
X-Robots-Tag:noindex
X-PUBLISHED-TTL:PT1H
BEGIN:VTIMEZONE
TZID:Europe/Helsinki
BEGIN:DAYLIGHT
TZOFFSETFROM:+0200
TZOFFSETTO:+0300
TZNAME:EEST
DTSTART:20180325T010000
END:DAYLIGHT
BEGIN:STANDARD
TZOFFSETFROM:+0300
TZOFFSETTO:+0200
TZNAME:EET
DTSTART:20181028T010000
END:STANDARD
BEGIN:DAYLIGHT
TZOFFSETFROM:+0200
TZOFFSETTO:+0300
TZNAME:EEST
DTSTART:20190331T010000
END:DAYLIGHT
BEGIN:STANDARD
TZOFFSETFROM:+0300
TZOFFSETTO:+0200
TZNAME:EET
DTSTART:20191027T010000
END:STANDARD
BEGIN:DAYLIGHT
TZOFFSETFROM:+0200
TZOFFSETTO:+0300
TZNAME:EEST
DTSTART:20200329T010000
END:DAYLIGHT
BEGIN:STANDARD
TZOFFSETFROM:+0300
TZOFFSETTO:+0200
TZNAME:EET
DTSTART:20201025T010000
END:STANDARD
END:VTIMEZONE
BEGIN:VEVENT
DTSTART;TZID=Europe/Helsinki:20191220T200000
DTEND;TZID=Europe/Helsinki:20191220T200000
DTSTAMP:20260425T232343
CREATED:20191111T205530Z
LAST-MODIFIED:20191119T181916Z
UID:10000629-1576872000-1576872000@fundacioncajaruraldelsur.com
SUMMARY:Presentación de libro encadenado: '7: La odisea de los títeres'
DESCRIPTION:El próximo viernes 20 de diciembre acogemos la presentación de la original obra 7:La odisea de los títeres. Un pionero experimento literario construido\, de manera encadenada\, por 15 autores y 15 autoras que han logrado aunar sus mentes creativas para crear la apasionante y angustiante historia de 7:La odisea de los títeres. \nSINOPSIS\nSiete personas con características muy especiales aparecen en una misteriosa sala. Ninguno de ellos sabe cómo ha llegado hasta allí. Es el inicio de una trama cargada de incógnitas que esconde todo un movimiento conspirativo: robos de obra de arte\, experimentos científicos con el cerebro humano\, investigación periodística y policial\, cloacas del sistema… Misterio\, acción y juego continuo con el lector para una novela que reflexiona sobre la estrecha línea que separa lo real de lo ficticio\, sobre los límites de la razón\, sobre las patológicas relaciones de poder y sobre el simbolismo que da forma a nuestra manera de entender y relacionarnos con el mundo. \n 
URL:https://fundacioncajaruraldelsur.com/evento/presentacion-de-libro-encadenado-7-la-odisea-de-los-titeres/
LOCATION:Fundación Caja Rural del Sur Huelva\, C/ Alcalde Mora Claros 6-8\, Huelva\, Huelva\, 21001\, España
CATEGORIES:Presentaciones
ATTACH;FMTTYPE=image/jpeg:https://fundacioncajaruraldelsur.com/wp-content/uploads/2018/10/Presentacion_Libro.jpg
GEO:37.2583599;-6.9535303
X-APPLE-STRUCTURED-LOCATION;VALUE=URI;X-ADDRESS=Fundación Caja Rural del Sur Huelva C/ Alcalde Mora Claros 6-8 Huelva Huelva 21001 España;X-APPLE-RADIUS=500;X-TITLE=C/ Alcalde Mora Claros 6-8:geo:-6.9535303,37.2583599
END:VEVENT
END:VCALENDAR