BEGIN:VCALENDAR
VERSION:2.0
PRODID:-//Fundación Caja Rural del Sur - ECPv6.15.17//NONSGML v1.0//EN
CALSCALE:GREGORIAN
METHOD:PUBLISH
X-WR-CALNAME:Fundación Caja Rural del Sur
X-ORIGINAL-URL:https://fundacioncajaruraldelsur.com
X-WR-CALDESC:Eventos para Fundación Caja Rural del Sur
REFRESH-INTERVAL;VALUE=DURATION:PT1H
X-Robots-Tag:noindex
X-PUBLISHED-TTL:PT1H
BEGIN:VTIMEZONE
TZID:Europe/Helsinki
BEGIN:DAYLIGHT
TZOFFSETFROM:+0200
TZOFFSETTO:+0300
TZNAME:EEST
DTSTART:20180325T010000
END:DAYLIGHT
BEGIN:STANDARD
TZOFFSETFROM:+0300
TZOFFSETTO:+0200
TZNAME:EET
DTSTART:20181028T010000
END:STANDARD
BEGIN:DAYLIGHT
TZOFFSETFROM:+0200
TZOFFSETTO:+0300
TZNAME:EEST
DTSTART:20190331T010000
END:DAYLIGHT
BEGIN:STANDARD
TZOFFSETFROM:+0300
TZOFFSETTO:+0200
TZNAME:EET
DTSTART:20191027T010000
END:STANDARD
BEGIN:DAYLIGHT
TZOFFSETFROM:+0200
TZOFFSETTO:+0300
TZNAME:EEST
DTSTART:20200329T010000
END:DAYLIGHT
BEGIN:STANDARD
TZOFFSETFROM:+0300
TZOFFSETTO:+0200
TZNAME:EET
DTSTART:20201025T010000
END:STANDARD
END:VTIMEZONE
BEGIN:VEVENT
DTSTART;TZID=Europe/Helsinki:20191118T183000
DTEND;TZID=Europe/Helsinki:20191118T183000
DTSTAMP:20260425T232339
CREATED:20191107T195032Z
LAST-MODIFIED:20191107T195049Z
UID:10000622-1574101800-1574101800@fundacioncajaruraldelsur.com
SUMMARY:Presentación del libro: 'La mirada compasiva'\, de Javier Rubio
DESCRIPTION:El próximo lunes 18 acogemos en nuestro salón de actos de Sevilla\, la presentación de la obra La mirada compasiva\, de Javier Rubio\, un itinerario espiritual con Murillo por la iglesia de la Santa Caridad de Sevilla.\n\nEL AUTOR\n\n«Javier Rubio\, (Sevilla\, 1966)\, ejerzo el periodismo desde hace más de treinta años\, actualmente como redactor jefe de ABC. Pero este libro tiene poco que ver con mi quehacer cotidiano. Surgió como un ciclo de meditaciones –los miércoles por la noche después de la misa de 19.30– en la parroquia de San Juan Pablo II en Montequinto (Dos Hermanas) para reforzar la proclamación del primer anuncio –Jesús ha traído la salvación a tu vida– a un grupo de catecúmenos de un retiro parroquial de evangelización. Semana a semana\, a partir del 28 de febrero de 2018\, con el apoyo de diapositivas\, el autor iba desgranando sus reflexiones a media voz y a media luz (como recoge la fotografía tomada en la primera de esas sesiones). La sesión terminaba invariablemente con el rezo de Completas de la Liturgia de las Horas\, la oración universal de la Iglesia.\n\nSalvo indicaciones de tiempo o de lugar que se han suprimido\, el presente volumen recoge fielmente las meditaciones de aquellas semanas de Cuaresma. Se inician con una cita bíblica alusiva\, bajo la que se propone la lectura del pasaje evangélico que el artista plasmó en sus cuadros como primera aproximación a los lienzos. Todas se cierran con una oración\, que no es original del autor\, sino de la propia hermandad de la Santa Caridad para acompañar el ejercicio de las obras corporales de misericordia que inspiraron el programa iconográfico del templo de San Jorge. \nMurillo y la Caridad\n¿Por qué Murillo? ¿Y por qué los cuadros de la Caridad? En el marco del cuarto centenario del nacimiento del genial pintor sevillano se ha vuelto la vista sobre esta impresionante colección de la iglesia de la hermandad de la Santa Caridad. Pero los caminos del Señor no son tan directos como los nuestros. El párroco de San Juan Pablo II me pidió que le sugiriera una reproducción para vestir las paredes desnudas de un despacho del recién inaugurado complejo parroquial. Sólo puso una condición: debía mover a la conversión del penitente\, puesto que el cuarto en cuestión iba a usarse como capilla penitencial. \nEn seguida\, un cuadro se me vino a la mente: «El retorno del hijo pródigo» de Rembrandt\, glosado en un maravilloso libro\, El regreso del hijo pródigo\, del sacerdote holandés Henri Nouwen\, que había leído poco después de mi propia vuelta a la Iglesia. Esa escena llevó a la de Murillo y a la página de internet del museo de Ottawa donde está el original para adquirir la lámina que\, convenientemente enmarcada\, recibe ahora a quienes quieren ser oídos en confesión. \nAficionado al arte y a las palabras que lo explican\, sin saber muy bien por qué\, escribí una meditación que explicara el cuadro resaltando lo que Murillo habría querido expresar. Y de ahí nació este libro. A menudo contemplamos el arte religioso descorazonado\, vacío de la fe con que\, en la mayoría de los casos\, se encargó y se ejecutó. Nos basta con un sentido utilitarista –una obra de arte para el estudioso\, un objeto de devoción para el predicador– que amputa terriblemente toda la riqueza contenida en su génesis. Murillo pintó esos cuadros para que quienes los admiraran\, los hermanos de la Santa Caridad\, se vieran impelidos a poner por obra la misericordia divina. Y esa es su razón de ser. Me pareció la hora de rescatar ese mensaje primordial.»
URL:https://fundacioncajaruraldelsur.com/evento/presentacion-del-libro-la-mirada-compasiva-de-javier-rubio/
LOCATION:Fundación Caja Rural del Sur Sevilla\, C/ Murillo\, 2\, Sevilla\, Sevilla\, 41001\, España
CATEGORIES:Presentaciones
ATTACH;FMTTYPE=image/jpeg:https://fundacioncajaruraldelsur.com/wp-content/uploads/2019/11/Murillo.jpg
GEO:37.2583599;-6.9535303
X-APPLE-STRUCTURED-LOCATION;VALUE=URI;X-ADDRESS=Fundación Caja Rural del Sur Sevilla C/ Murillo 2 Sevilla Sevilla 41001 España;X-APPLE-RADIUS=500;X-TITLE=C/ Murillo\, 2:geo:-6.9535303,37.2583599
END:VEVENT
END:VCALENDAR