BEGIN:VCALENDAR
VERSION:2.0
PRODID:-//Fundación Caja Rural del Sur - ECPv6.15.17//NONSGML v1.0//EN
CALSCALE:GREGORIAN
METHOD:PUBLISH
X-WR-CALNAME:Fundación Caja Rural del Sur
X-ORIGINAL-URL:https://fundacioncajaruraldelsur.com
X-WR-CALDESC:Eventos para Fundación Caja Rural del Sur
REFRESH-INTERVAL;VALUE=DURATION:PT1H
X-Robots-Tag:noindex
X-PUBLISHED-TTL:PT1H
BEGIN:VTIMEZONE
TZID:Europe/Helsinki
BEGIN:DAYLIGHT
TZOFFSETFROM:+0200
TZOFFSETTO:+0300
TZNAME:EEST
DTSTART:20190331T010000
END:DAYLIGHT
BEGIN:STANDARD
TZOFFSETFROM:+0300
TZOFFSETTO:+0200
TZNAME:EET
DTSTART:20191027T010000
END:STANDARD
BEGIN:DAYLIGHT
TZOFFSETFROM:+0200
TZOFFSETTO:+0300
TZNAME:EEST
DTSTART:20200329T010000
END:DAYLIGHT
BEGIN:STANDARD
TZOFFSETFROM:+0300
TZOFFSETTO:+0200
TZNAME:EET
DTSTART:20201025T010000
END:STANDARD
BEGIN:DAYLIGHT
TZOFFSETFROM:+0200
TZOFFSETTO:+0300
TZNAME:EEST
DTSTART:20210328T010000
END:DAYLIGHT
BEGIN:STANDARD
TZOFFSETFROM:+0300
TZOFFSETTO:+0200
TZNAME:EET
DTSTART:20211031T010000
END:STANDARD
END:VTIMEZONE
BEGIN:VEVENT
DTSTART;TZID=Europe/Helsinki:20201120T120000
DTEND;TZID=Europe/Helsinki:20201120T120000
DTSTAMP:20260423T065728
CREATED:20201118T170511Z
LAST-MODIFIED:20201118T170511Z
UID:10000538-1605873600-1605873600@fundacioncajaruraldelsur.com
SUMMARY:Presentación de los libros 'Fuegos y pecados'\, de Lola Artacho\, y 'La princesa inca' de Antonio Campos Bernal
DESCRIPTION:El próximo 20 de noviembre\, en el marco del Otoño Cultural Iberoamericano (OCIB 2020) se presentarán en el Centro Cultural José Luis García Palacios\, de Huelva\, los libros Fuegos y pecados\, de Lola Artacho\, y La princesa Inca\, adaptación teatral de Antonio Campos Bernal\, editado por Retama producciones. El acto tendrá lugar a las 12 horas. \n \n\n\nTanto la novela como la adaptación teatral relatan las vicisitudes de La princesa Inca\, Isabel Chimpu Ocllo. De su unión con el capitán Sebastián Garcilaso de la Vega nació el Inca Garcilaso de la Vega\, considerado como el primer y gran escritor mestizo de Iberoamérica. Las obras narran el episodio en que la princesa\, con su criada castellana Tocta\, se encuentra atrapada en Cuzco en medio de una guerra civil entre los partidarios de Francisco Pizarro y los de Diego de Almagro. \n\n\nA la presentación de los libros se suma una breve escenificación de los personajes femeninos antes mencionados; a cargo de Maribel Alarcón e Inmaculada Palomar. Maribel Alarcón Canchai\, nacida en  Ayacucho\, Perú\, productora de Retama desde hace veinte años\, es licenciada por la Escuela Nacional de Arte Dramático de Lima; doctora en ciencias del espectáculo por la Universidad de Sevilla; máster en gestión\, arte\, museo y patrimonio por la Universidad Pablo Olavide. \n\n\nEl acto estará presentado por Agustín Medina\, director del Muelle de las Carabelas\, de La Rábida. \n\n\n 
URL:https://fundacioncajaruraldelsur.com/evento/presentacion-de-los-libros-fuegos-y-pecados-de-lola-artacho-y-la-princesa-inca-de-antonio-campos-bernal/
LOCATION:Fundación Caja Rural del Sur Huelva\, C/ Alcalde Mora Claros 6-8\, Huelva\, Huelva\, 21001\, España
CATEGORIES:Presentaciones
ATTACH;FMTTYPE=image/jpeg:https://fundacioncajaruraldelsur.com/wp-content/uploads/2020/09/presentacion_libro.jpg
GEO:37.2583599;-6.9535303
X-APPLE-STRUCTURED-LOCATION;VALUE=URI;X-ADDRESS=Fundación Caja Rural del Sur Huelva C/ Alcalde Mora Claros 6-8 Huelva Huelva 21001 España;X-APPLE-RADIUS=500;X-TITLE=C/ Alcalde Mora Claros 6-8:geo:-6.9535303,37.2583599
END:VEVENT
END:VCALENDAR