BEGIN:VCALENDAR
VERSION:2.0
PRODID:-//Fundación Caja Rural del Sur - ECPv6.15.17//NONSGML v1.0//EN
CALSCALE:GREGORIAN
METHOD:PUBLISH
X-WR-CALNAME:Fundación Caja Rural del Sur
X-ORIGINAL-URL:https://fundacioncajaruraldelsur.com
X-WR-CALDESC:Eventos para Fundación Caja Rural del Sur
REFRESH-INTERVAL;VALUE=DURATION:PT1H
X-Robots-Tag:noindex
X-PUBLISHED-TTL:PT1H
BEGIN:VTIMEZONE
TZID:Europe/Helsinki
BEGIN:DAYLIGHT
TZOFFSETFROM:+0200
TZOFFSETTO:+0300
TZNAME:EEST
DTSTART:20180325T010000
END:DAYLIGHT
BEGIN:STANDARD
TZOFFSETFROM:+0300
TZOFFSETTO:+0200
TZNAME:EET
DTSTART:20181028T010000
END:STANDARD
BEGIN:DAYLIGHT
TZOFFSETFROM:+0200
TZOFFSETTO:+0300
TZNAME:EEST
DTSTART:20190331T010000
END:DAYLIGHT
BEGIN:STANDARD
TZOFFSETFROM:+0300
TZOFFSETTO:+0200
TZNAME:EET
DTSTART:20191027T010000
END:STANDARD
BEGIN:DAYLIGHT
TZOFFSETFROM:+0200
TZOFFSETTO:+0300
TZNAME:EEST
DTSTART:20200329T010000
END:DAYLIGHT
BEGIN:STANDARD
TZOFFSETFROM:+0300
TZOFFSETTO:+0200
TZNAME:EET
DTSTART:20201025T010000
END:STANDARD
END:VTIMEZONE
BEGIN:VEVENT
DTSTART;TZID=Europe/Helsinki:20190219T190000
DTEND;TZID=Europe/Helsinki:20190219T190000
DTSTAMP:20260425T125512
CREATED:20190204T150812Z
LAST-MODIFIED:20190204T150812Z
UID:10000418-1550602800-1550602800@fundacioncajaruraldelsur.com
SUMMARY:Charla sobre seguridad para mayores: 'Protégete'
DESCRIPTION:  \nEl próximo 19 de febrero acogemos una charla sobre seguridad para mayores bajo el título Protégete\, destinada a la prevención y mejora de la seguridad de un colectivo vulnerable en los tiempos que corren\, los más mayores. Organizada por el Cuerpo Nacional de Policía\, se tratarán entre otros aspectos los consejos principales que deben tener en cuenta en el día a día. \n\n\nCONSEJOS PRINCIPALES\n\nCuando estés a solas\, no hables con desconocidos\nNo hacer ostentación de joyas o artículos de valor\nLos chollos no existen\, siempre son una estafa\nNo facilitar datos personales o bancarios por teléfono
URL:https://fundacioncajaruraldelsur.com/evento/charla-sobre-seguridad-para-mayores-protegete/
LOCATION:Fundación Caja Rural del Sur Huelva\, C/ Alcalde Mora Claros 6-8\, Huelva\, Huelva\, 21001\, España
CATEGORIES:conferencias
ATTACH;FMTTYPE=image/jpeg:https://fundacioncajaruraldelsur.com/wp-content/uploads/2019/02/Protegete.jpg
GEO:37.2583599;-6.9535303
X-APPLE-STRUCTURED-LOCATION;VALUE=URI;X-ADDRESS=Fundación Caja Rural del Sur Huelva C/ Alcalde Mora Claros 6-8 Huelva Huelva 21001 España;X-APPLE-RADIUS=500;X-TITLE=C/ Alcalde Mora Claros 6-8:geo:-6.9535303,37.2583599
END:VEVENT
END:VCALENDAR