BEGIN:VCALENDAR
VERSION:2.0
PRODID:-//Fundación Caja Rural del Sur - ECPv6.15.17//NONSGML v1.0//EN
CALSCALE:GREGORIAN
METHOD:PUBLISH
X-ORIGINAL-URL:https://fundacioncajaruraldelsur.com
X-WR-CALDESC:Eventos para Fundación Caja Rural del Sur
REFRESH-INTERVAL;VALUE=DURATION:PT1H
X-Robots-Tag:noindex
X-PUBLISHED-TTL:PT1H
BEGIN:VTIMEZONE
TZID:Europe/Helsinki
BEGIN:DAYLIGHT
TZOFFSETFROM:+0200
TZOFFSETTO:+0300
TZNAME:EEST
DTSTART:20180325T010000
END:DAYLIGHT
BEGIN:STANDARD
TZOFFSETFROM:+0300
TZOFFSETTO:+0200
TZNAME:EET
DTSTART:20181028T010000
END:STANDARD
BEGIN:DAYLIGHT
TZOFFSETFROM:+0200
TZOFFSETTO:+0300
TZNAME:EEST
DTSTART:20190331T010000
END:DAYLIGHT
BEGIN:STANDARD
TZOFFSETFROM:+0300
TZOFFSETTO:+0200
TZNAME:EET
DTSTART:20191027T010000
END:STANDARD
BEGIN:DAYLIGHT
TZOFFSETFROM:+0200
TZOFFSETTO:+0300
TZNAME:EEST
DTSTART:20200329T010000
END:DAYLIGHT
BEGIN:STANDARD
TZOFFSETFROM:+0300
TZOFFSETTO:+0200
TZNAME:EET
DTSTART:20201025T010000
END:STANDARD
END:VTIMEZONE
BEGIN:VEVENT
DTSTART;TZID=Europe/Helsinki:20190130T190000
DTEND;TZID=Europe/Helsinki:20190130T210000
DTSTAMP:20260425T181025
CREATED:20190129T192715Z
LAST-MODIFIED:20190129T193333Z
UID:10000493-1548874800-1548882000@fundacioncajaruraldelsur.com
SUMMARY:Reflexiones sobre Huelva: "La Universidad de Huelva. Su evolución y proyección de futuro"
DESCRIPTION:El próximo día 30 acogemos\, dentro del segundo ciclo de conferencias: “Reflexiones sobre Huelva”\, la charla bajo el titulo “La Universidad de Huelva. Su evolución y proyección de futuro”\, que impartirá la Excma. Sra. Dra. Dña. María Antonia Peña Guerrero\, Rectora de la Universidad de Huelva. \n\n\n\n\n\n\n\n\n\n\n\n\n\n\n\n\n\n\n\n\n\n\n\n\n\n\n\n\nTras tres decadas desde su creación\, la Universidad de Huelva es un ente vivo\, al que hay que querer\, mimar y potenciar. Es nuestra rectora la que nos informara de sus eventualidades y sus proyecciones. \n\n\n\n\n\n\n\n\n\n\n\n\n\n\n\n\n\n\n\n\n\n\n\n\n\n\n\n\nEl acto tendrá lugar el próximo miércoles\, día 30 de enero de 2019\, a las 19 horas\, en salón de actos de la Fundación Caja Rural del Sur\, en la c/ Alcalde Mora Claros no 6–8 de Huelva. Organiza la Fundación Juan Manuel Flores Jimeno\, de Huelva.
URL:https://fundacioncajaruraldelsur.com/evento/reflexiones-sobre-huelva-la-universidad-de-huelva-su-evolucion-y-proyeccion-de-futuro/
LOCATION:Fundación Caja Rural del Sur Huelva\, C/ Alcalde Mora Claros 6-8\, Huelva\, Huelva\, 21001\, España
CATEGORIES:conferencias
ATTACH;FMTTYPE=image/jpeg:https://fundacioncajaruraldelsur.com/wp-content/uploads/2018/10/Puente_Huelva.jpg
GEO:37.2583599;-6.9535303
X-APPLE-STRUCTURED-LOCATION;VALUE=URI;X-ADDRESS=Fundación Caja Rural del Sur Huelva C/ Alcalde Mora Claros 6-8 Huelva Huelva 21001 España;X-APPLE-RADIUS=500;X-TITLE=C/ Alcalde Mora Claros 6-8:geo:-6.9535303,37.2583599
END:VEVENT
END:VCALENDAR