BEGIN:VCALENDAR
VERSION:2.0
PRODID:-//Fundación Caja Rural del Sur - ECPv6.15.17//NONSGML v1.0//EN
CALSCALE:GREGORIAN
METHOD:PUBLISH
X-WR-CALNAME:Fundación Caja Rural del Sur
X-ORIGINAL-URL:https://fundacioncajaruraldelsur.com
X-WR-CALDESC:Eventos para Fundación Caja Rural del Sur
REFRESH-INTERVAL;VALUE=DURATION:PT1H
X-Robots-Tag:noindex
X-PUBLISHED-TTL:PT1H
BEGIN:VTIMEZONE
TZID:Europe/Helsinki
BEGIN:DAYLIGHT
TZOFFSETFROM:+0200
TZOFFSETTO:+0300
TZNAME:EEST
DTSTART:20170326T010000
END:DAYLIGHT
BEGIN:STANDARD
TZOFFSETFROM:+0300
TZOFFSETTO:+0200
TZNAME:EET
DTSTART:20171029T010000
END:STANDARD
BEGIN:DAYLIGHT
TZOFFSETFROM:+0200
TZOFFSETTO:+0300
TZNAME:EEST
DTSTART:20180325T010000
END:DAYLIGHT
BEGIN:STANDARD
TZOFFSETFROM:+0300
TZOFFSETTO:+0200
TZNAME:EET
DTSTART:20181028T010000
END:STANDARD
BEGIN:DAYLIGHT
TZOFFSETFROM:+0200
TZOFFSETTO:+0300
TZNAME:EEST
DTSTART:20190331T010000
END:DAYLIGHT
BEGIN:STANDARD
TZOFFSETFROM:+0300
TZOFFSETTO:+0200
TZNAME:EET
DTSTART:20191027T010000
END:STANDARD
END:VTIMEZONE
BEGIN:VEVENT
DTSTART;TZID=Europe/Helsinki:20181128T190000
DTEND;TZID=Europe/Helsinki:20181128T190000
DTSTAMP:20260425T154003
CREATED:20181127T174915Z
LAST-MODIFIED:20181127T174953Z
UID:10000479-1543431600-1543431600@fundacioncajaruraldelsur.com
SUMMARY:Conferencia: Evolución Social de la Semana Santa onubense
DESCRIPTION:Acogemos el próximo miércoles 28 de noviembre\, un nuevo capítulo dentro del segundo ciclo de conferencias: Reflexiones sobre Huelva\, bajo el título Evolución social de la Semana Santa onubense\, que impartirá D. Fernando Vergel Araujo\, abogado\, Vicedecano del Iltre. Colegio de Abogados de Huelva. Todas las charlas son retransmitidas por televisión Canal Luz – Palos RTV y una vez celebrada\, cada una de ellas\, se colocan en la página web de la Fundación Juan Manuel Flores Jimeno. \nFecha y hora:     28 de noviembre\, a las 19 horas. \nLugar:                Salón de actos de la de la Fundación Caja Rural del Sur\, en la calle Alcalde Mora Claros nº 6 – 8\, Huelva. \nCICLO DE CONFERENCIAS COMPLETO\nhttp://fundacionjmfj.com/conferencias \n  \n 
URL:https://fundacioncajaruraldelsur.com/evento/conferencia-evolucion-social-de-la-semana-santa-onubense/
LOCATION:Fundación Caja Rural del Sur Huelva\, C/ Alcalde Mora Claros 6-8\, Huelva\, Huelva\, 21001\, España
CATEGORIES:conferencias
ATTACH;FMTTYPE=image/jpeg:https://fundacioncajaruraldelsur.com/wp-content/uploads/2018/10/Puente_Huelva.jpg
GEO:37.2583599;-6.9535303
X-APPLE-STRUCTURED-LOCATION;VALUE=URI;X-ADDRESS=Fundación Caja Rural del Sur Huelva C/ Alcalde Mora Claros 6-8 Huelva Huelva 21001 España;X-APPLE-RADIUS=500;X-TITLE=C/ Alcalde Mora Claros 6-8:geo:-6.9535303,37.2583599
END:VEVENT
END:VCALENDAR