BEGIN:VCALENDAR
VERSION:2.0
PRODID:-//Fundación Caja Rural del Sur - ECPv6.15.17//NONSGML v1.0//EN
CALSCALE:GREGORIAN
METHOD:PUBLISH
X-WR-CALNAME:Fundación Caja Rural del Sur
X-ORIGINAL-URL:https://fundacioncajaruraldelsur.com
X-WR-CALDESC:Eventos para Fundación Caja Rural del Sur
REFRESH-INTERVAL;VALUE=DURATION:PT1H
X-Robots-Tag:noindex
X-PUBLISHED-TTL:PT1H
BEGIN:VTIMEZONE
TZID:Europe/Helsinki
BEGIN:DAYLIGHT
TZOFFSETFROM:+0200
TZOFFSETTO:+0300
TZNAME:EEST
DTSTART:20190331T010000
END:DAYLIGHT
BEGIN:STANDARD
TZOFFSETFROM:+0300
TZOFFSETTO:+0200
TZNAME:EET
DTSTART:20191027T010000
END:STANDARD
BEGIN:DAYLIGHT
TZOFFSETFROM:+0200
TZOFFSETTO:+0300
TZNAME:EEST
DTSTART:20200329T010000
END:DAYLIGHT
BEGIN:STANDARD
TZOFFSETFROM:+0300
TZOFFSETTO:+0200
TZNAME:EET
DTSTART:20201025T010000
END:STANDARD
BEGIN:DAYLIGHT
TZOFFSETFROM:+0200
TZOFFSETTO:+0300
TZNAME:EEST
DTSTART:20210328T010000
END:DAYLIGHT
BEGIN:STANDARD
TZOFFSETFROM:+0300
TZOFFSETTO:+0200
TZNAME:EET
DTSTART:20211031T010000
END:STANDARD
END:VTIMEZONE
BEGIN:VEVENT
DTSTART;TZID=Europe/Helsinki:20200213T190000
DTEND;TZID=Europe/Helsinki:20200213T190000
DTSTAMP:20260422T075234
CREATED:20200108T190905Z
LAST-MODIFIED:20200108T191019Z
UID:10000649-1581620400-1581620400@fundacioncajaruraldelsur.com
SUMMARY:CONFERENCIA: "MARTÍNEZ MONTAÑÉS Y SU OBRA SEVILLANA"
DESCRIPTION:El próximo 13 de febrero acogemos en nuestro Centro Cultural de Sevilla la conferencia del Doctor en Historia del arte\, Fernando Gabardón de la Banda\, bajo el título Martínez Montañés y su obra sevillana. \nFERNANDO  GABARDÓN  DE LA BANDA:\n        Títulos y actividad profesional \n\nDoctor en Historia del Arte y en Derecho. Universidad de Sevilla\nMaster en Archivística y Diplomática por la Universidad de Sevilla\nPremio de investigación Ateneo de Sevilla 2.009\nProfesor del CES Cardenal Spínola CEU. Fundación San Pablo CEU\nProfesor de la Fundación Cajasol. Sevilla.\nEs miembro del Cabildo Alfonso X el Sabio\, al que pronunció el “Elogio de la Fiesta del Corpus Christi de Sevilla”\, en junio de 2017\, y varias conferencias\, entre ellas: “Murillo y San Fernando (mayo de 2018)\n\n  \nHa sido comisario de las exposiciones: \n“Servitas” Caja de San Fernando. Sevilla\, 1996. \n“La Realeza de María”. Hermandad de la Sagrada Cena. Iglesia de los Terceros de Sevilla. Sevilla\, 2003. \n“La Hermandad de las Tres Caídas de Sevilla”. Círculo Mercantil de Sevilla\, 2013. \n“El orfebre Juan Borrero”. Castillo de San Jorge\, Sevilla. Distrito de Triana\, Ayuntamiento de Sevilla. \n  \nAutor de varios libros\, entre ellos:  \n\nEl Convento de los Terceros Franciscanos de Sevilla.\nEl tema de la piedad en las artes plásticas del territorio diocesano hispalense. 2005.\nEl conjunto monumental del Palacio de los Ponce de León y el convento de los Padres Terceros de Sevilla.\nEl colegio de los agentes comerciales de Sevilla. 2009.\nLos Pasos de Palios de Sevilla. Tomo 1 y 2. 2009.\nGuía de los Belenes. Cadena Cope\, Sevilla\, 2012\, 2013\, 2014.\nEl Cristo de Montesión: Arte e iconografía.\nLos opúsculos de Francisco Mateos Gago.\n\n 
URL:https://fundacioncajaruraldelsur.com/evento/conferencia-martinez-montanes-y-su-obra-sevillana/
LOCATION:Fundación Caja Rural del Sur Sevilla\, C/ Murillo\, 2\, Sevilla\, Sevilla\, 41001\, España
CATEGORIES:conferencias
ATTACH;FMTTYPE=image/jpeg:https://fundacioncajaruraldelsur.com/wp-content/uploads/2020/01/Martinez_Montañes.jpg
GEO:37.2583599;-6.9535303
X-APPLE-STRUCTURED-LOCATION;VALUE=URI;X-ADDRESS=Fundación Caja Rural del Sur Sevilla C/ Murillo 2 Sevilla Sevilla 41001 España;X-APPLE-RADIUS=500;X-TITLE=C/ Murillo\, 2:geo:-6.9535303,37.2583599
END:VEVENT
END:VCALENDAR