BEGIN:VCALENDAR
VERSION:2.0
PRODID:-//Fundación Caja Rural del Sur - ECPv6.15.17//NONSGML v1.0//EN
CALSCALE:GREGORIAN
METHOD:PUBLISH
X-WR-CALNAME:Fundación Caja Rural del Sur
X-ORIGINAL-URL:https://fundacioncajaruraldelsur.com
X-WR-CALDESC:Eventos para Fundación Caja Rural del Sur
REFRESH-INTERVAL;VALUE=DURATION:PT1H
X-Robots-Tag:noindex
X-PUBLISHED-TTL:PT1H
BEGIN:VTIMEZONE
TZID:Europe/Helsinki
BEGIN:DAYLIGHT
TZOFFSETFROM:+0200
TZOFFSETTO:+0300
TZNAME:EEST
DTSTART:20180325T010000
END:DAYLIGHT
BEGIN:STANDARD
TZOFFSETFROM:+0300
TZOFFSETTO:+0200
TZNAME:EET
DTSTART:20181028T010000
END:STANDARD
BEGIN:DAYLIGHT
TZOFFSETFROM:+0200
TZOFFSETTO:+0300
TZNAME:EEST
DTSTART:20190331T010000
END:DAYLIGHT
BEGIN:STANDARD
TZOFFSETFROM:+0300
TZOFFSETTO:+0200
TZNAME:EET
DTSTART:20191027T010000
END:STANDARD
BEGIN:DAYLIGHT
TZOFFSETFROM:+0200
TZOFFSETTO:+0300
TZNAME:EEST
DTSTART:20200329T010000
END:DAYLIGHT
BEGIN:STANDARD
TZOFFSETFROM:+0300
TZOFFSETTO:+0200
TZNAME:EET
DTSTART:20201025T010000
END:STANDARD
END:VTIMEZONE
BEGIN:VEVENT
DTSTART;TZID=Europe/Helsinki:20190402T190000
DTEND;TZID=Europe/Helsinki:20190402T190000
DTSTAMP:20260424T072346
CREATED:20190329T132149Z
LAST-MODIFIED:20190329T132149Z
UID:10000507-1554231600-1554231600@fundacioncajaruraldelsur.com
SUMMARY:Ciclo de conferencias: 'Cera y Cruz'
DESCRIPTION:El próximo martes 2 de abril a las 19 horas\, iniciamos un ciclo de conferencias en nuestro salón de actos de Huelva dedicado a la Semana Santa. \nDurante toda la semana\, diversas figuras llevarán a cabo varias mesas redondas y coloquios en los que pondrán de relieve aspectos fundamentales en uno de los eventos más importantes que se celebran en toda la geografía española. \n‘LA SEMANA SANTA EN EL SIGLO XXI’\nLa charla inaugural correrá a cargo de Alberto García Reyes\, periodista\, subdirector de ABC Sevilla\, y pregonero de la Semana Santa de Sevilla año 2017. \nEl periodista y escritor y colaborador en Herrera en COPE\, Paco Robles es el encargado de la presentación. \n‘LITURGIA Y MANIFESTACIÓN POPULAR EN LA SEMANA SANTA DE HUELVA’\nMiércoles\, 3 de abril: participan en la siguiente mesa redonda-coloquio: \nEmilio Rodríguez (Vicario Episcopal)\, José Manuel Barral (Director Espiritual Consejo de HH y CC)\, Mariola Luengo (Pregonera San Sebastián 2019) y Manuel Jesús Rodríguez (Pregonero Semana Santa 2019). \nPASADO\, PRESENTE Y FUTURO DE LA MÚSICA DE LA SEMANA SANTA’\nJueves\, 4 de abril: participan en la siguiente mesa redonda-coloquio: \nIván Macías (Director Liceo de Moguer)\, Manuel Marvizón (Compositor)\, Joaquín González Badillo (Director B.C.T La Merced) y Antonio Gómez Muñoz.
URL:https://fundacioncajaruraldelsur.com/evento/ciclo-de-conferencias-cera-y-cruz/2019-04-02/
LOCATION:Fundación Caja Rural del Sur Huelva\, C/ Alcalde Mora Claros 6-8\, Huelva\, Huelva\, 21001\, España
CATEGORIES:conferencias
ATTACH;FMTTYPE=image/jpeg:https://fundacioncajaruraldelsur.com/wp-content/uploads/2019/01/Semana-Santa.jpg
GEO:37.2583599;-6.9535303
X-APPLE-STRUCTURED-LOCATION;VALUE=URI;X-ADDRESS=Fundación Caja Rural del Sur Huelva C/ Alcalde Mora Claros 6-8 Huelva Huelva 21001 España;X-APPLE-RADIUS=500;X-TITLE=C/ Alcalde Mora Claros 6-8:geo:-6.9535303,37.2583599
END:VEVENT
END:VCALENDAR