BEGIN:VCALENDAR
VERSION:2.0
PRODID:-//Fundación Caja Rural del Sur - ECPv6.15.17//NONSGML v1.0//EN
CALSCALE:GREGORIAN
METHOD:PUBLISH
X-ORIGINAL-URL:https://fundacioncajaruraldelsur.com
X-WR-CALDESC:Eventos para Fundación Caja Rural del Sur
REFRESH-INTERVAL;VALUE=DURATION:PT1H
X-Robots-Tag:noindex
X-PUBLISHED-TTL:PT1H
BEGIN:VTIMEZONE
TZID:Europe/Helsinki
BEGIN:DAYLIGHT
TZOFFSETFROM:+0200
TZOFFSETTO:+0300
TZNAME:EEST
DTSTART:20170326T010000
END:DAYLIGHT
BEGIN:STANDARD
TZOFFSETFROM:+0300
TZOFFSETTO:+0200
TZNAME:EET
DTSTART:20171029T010000
END:STANDARD
BEGIN:DAYLIGHT
TZOFFSETFROM:+0200
TZOFFSETTO:+0300
TZNAME:EEST
DTSTART:20180325T010000
END:DAYLIGHT
BEGIN:STANDARD
TZOFFSETFROM:+0300
TZOFFSETTO:+0200
TZNAME:EET
DTSTART:20181028T010000
END:STANDARD
BEGIN:DAYLIGHT
TZOFFSETFROM:+0200
TZOFFSETTO:+0300
TZNAME:EEST
DTSTART:20190331T010000
END:DAYLIGHT
BEGIN:STANDARD
TZOFFSETFROM:+0300
TZOFFSETTO:+0200
TZNAME:EET
DTSTART:20191027T010000
END:STANDARD
END:VTIMEZONE
BEGIN:VEVENT
DTSTART;TZID=Europe/Helsinki:20181211T173000
DTEND;TZID=Europe/Helsinki:20181211T173000
DTSTAMP:20260425T003040
CREATED:20181121T182741Z
LAST-MODIFIED:20181123T195746Z
UID:10000474-1544549400-1544549400@fundacioncajaruraldelsur.com
SUMMARY:Seminario: 'Observatorio de las crisis económicas'
DESCRIPTION:El próximo día martes 11 de diciembre\, a partir de las 17:30 horas acogemos el seminario Observatorio de las crisis económicas en nuestro salón de actos de Huelva. Los profesores Juan José García Machado y Diego Barbadilla Mesa son los directores del seminario. \nSe desarrollarán cuatro ponencias: \nPRIMERA SESIÓN (17:30)\nEl observatorio de las crisis: \n\nD. Diego Barbadilla Mesa (Profesor de la Universidad de Sevilla).\nD. Juan Torres López (Profesor de la Universidad de Sevilla).\n\nSEGUNDA SESIÓN (18:15)\nSentimiento del mercado: \n\nD. Andrés Jiménez Rodríguez\nJosé Luis García López\nwww.enbolsa.net \n\nTERCERA SESIÓN (18:45)\nIndicadores adelantados USA: \n\nD. Alejandro Coll \nwww.bolsaconcabeza.com \n\nCUARTA SESIÓN (19:15)\nAmplitud del mercado: \n\nD. Javier Alfayate Gallardo \nhttp://accionesdebolsa.com\n\nPLAZAS LIMITADAS (INSCRIPCIÓN)\nhttp://personal.us.es/diegobarbadilla \nMÁS INFORMACIÓN\nwww.enbolsa.net \nwww.uhu.es/machado \nwww.economistashuelva.com \nhttp://cotmehuelva.org/ \n 
URL:https://fundacioncajaruraldelsur.com/evento/seminario-observatorio-de-las-crisis-economicas/
LOCATION:Fundación Caja Rural del Sur Huelva\, C/ Alcalde Mora Claros 6-8\, Huelva\, Huelva\, 21001\, España
CATEGORIES:conferencias
ATTACH;FMTTYPE=image/jpeg:https://fundacioncajaruraldelsur.com/wp-content/uploads/2018/11/OBSERVATORIO_CRISIS.jpg
GEO:37.2583599;-6.9535303
X-APPLE-STRUCTURED-LOCATION;VALUE=URI;X-ADDRESS=Fundación Caja Rural del Sur Huelva C/ Alcalde Mora Claros 6-8 Huelva Huelva 21001 España;X-APPLE-RADIUS=500;X-TITLE=C/ Alcalde Mora Claros 6-8:geo:-6.9535303,37.2583599
END:VEVENT
END:VCALENDAR