BEGIN:VCALENDAR
VERSION:2.0
PRODID:-//Fundación Caja Rural del Sur - ECPv6.15.17//NONSGML v1.0//EN
CALSCALE:GREGORIAN
METHOD:PUBLISH
X-WR-CALNAME:Fundación Caja Rural del Sur
X-ORIGINAL-URL:https://fundacioncajaruraldelsur.com
X-WR-CALDESC:Eventos para Fundación Caja Rural del Sur
REFRESH-INTERVAL;VALUE=DURATION:PT1H
X-Robots-Tag:noindex
X-PUBLISHED-TTL:PT1H
BEGIN:VTIMEZONE
TZID:Europe/Paris
BEGIN:DAYLIGHT
TZOFFSETFROM:+0100
TZOFFSETTO:+0200
TZNAME:CEST
DTSTART:20230326T010000
END:DAYLIGHT
BEGIN:STANDARD
TZOFFSETFROM:+0200
TZOFFSETTO:+0100
TZNAME:CET
DTSTART:20231029T010000
END:STANDARD
BEGIN:DAYLIGHT
TZOFFSETFROM:+0100
TZOFFSETTO:+0200
TZNAME:CEST
DTSTART:20240331T010000
END:DAYLIGHT
BEGIN:STANDARD
TZOFFSETFROM:+0200
TZOFFSETTO:+0100
TZNAME:CET
DTSTART:20241027T010000
END:STANDARD
BEGIN:DAYLIGHT
TZOFFSETFROM:+0100
TZOFFSETTO:+0200
TZNAME:CEST
DTSTART:20250330T010000
END:DAYLIGHT
BEGIN:STANDARD
TZOFFSETFROM:+0200
TZOFFSETTO:+0100
TZNAME:CET
DTSTART:20251026T010000
END:STANDARD
END:VTIMEZONE
BEGIN:VEVENT
DTSTART;TZID=Europe/Paris:20240203T190000
DTEND;TZID=Europe/Paris:20240203T190000
DTSTAMP:20260422T124649
CREATED:20240129T114857Z
LAST-MODIFIED:20240129T114857Z
UID:10000936-1706986800-1706986800@fundacioncajaruraldelsur.com
SUMMARY:Conferencia: "Adolescencia - Historias de gusanos\, capullos y mariposas"
DESCRIPTION:
URL:https://fundacioncajaruraldelsur.com/evento/conferencia-adolescencia-historias-de-gusanos-capullos-y-mariposas/
LOCATION:Fundación Caja Rural del Sur Córdoba\, calle de la Radio 1\, Córdoba\, Córdoba\, 14006\, España
CATEGORIES:conferencias
ATTACH;FMTTYPE=image/png:https://fundacioncajaruraldelsur.com/wp-content/uploads/2023/10/Diseno-sin-titulo-26.png
END:VEVENT
BEGIN:VEVENT
DTSTART;TZID=Europe/Paris:20240215T200000
DTEND;TZID=Europe/Paris:20240215T200000
DTSTAMP:20260422T124649
CREATED:20240129T114625Z
LAST-MODIFIED:20240129T114625Z
UID:10000935-1708027200-1708027200@fundacioncajaruraldelsur.com
SUMMARY:Conferencia: "El cambio de paradigma en los medios de comunicación"
DESCRIPTION:
URL:https://fundacioncajaruraldelsur.com/evento/conferencia-el-cambio-de-paradigma-en-los-medios-de-comunicacion/
LOCATION:Sevilla
CATEGORIES:conferencias
ATTACH;FMTTYPE=image/png:https://fundacioncajaruraldelsur.com/wp-content/uploads/2023/10/Diseno-sin-titulo-27.png
END:VEVENT
BEGIN:VEVENT
DTSTART;TZID=Europe/Paris:20240220T190000
DTEND;TZID=Europe/Paris:20240220T190000
DTSTAMP:20260422T124649
CREATED:20240129T113424Z
LAST-MODIFIED:20240129T113424Z
UID:10000932-1708455600-1708455600@fundacioncajaruraldelsur.com
SUMMARY:Ciclo de conferencias: "775 aniversario de la conquista y recuperación del culto cristiano en Sevilla por Fernando III El Santo"
DESCRIPTION:
URL:https://fundacioncajaruraldelsur.com/evento/ciclo-de-conferencias-775-aniversario-de-la-conquista-y-recuperacion-del-culto-cristiano-en-sevilla-por-fernando-iii-el-santo/
LOCATION:Sevilla
CATEGORIES:conferencias
ATTACH;FMTTYPE=image/jpeg:https://fundacioncajaruraldelsur.com/wp-content/uploads/2015/03/conferencias.jpg
END:VEVENT
END:VCALENDAR