BEGIN:VCALENDAR
VERSION:2.0
PRODID:-//Fundación Caja Rural del Sur - ECPv6.15.17//NONSGML v1.0//EN
CALSCALE:GREGORIAN
METHOD:PUBLISH
X-ORIGINAL-URL:https://fundacioncajaruraldelsur.com
X-WR-CALDESC:Eventos para Fundación Caja Rural del Sur
REFRESH-INTERVAL;VALUE=DURATION:PT1H
X-Robots-Tag:noindex
X-PUBLISHED-TTL:PT1H
BEGIN:VTIMEZONE
TZID:Europe/Helsinki
BEGIN:DAYLIGHT
TZOFFSETFROM:+0200
TZOFFSETTO:+0300
TZNAME:EEST
DTSTART:20180325T010000
END:DAYLIGHT
BEGIN:STANDARD
TZOFFSETFROM:+0300
TZOFFSETTO:+0200
TZNAME:EET
DTSTART:20181028T010000
END:STANDARD
BEGIN:DAYLIGHT
TZOFFSETFROM:+0200
TZOFFSETTO:+0300
TZNAME:EEST
DTSTART:20190331T010000
END:DAYLIGHT
BEGIN:STANDARD
TZOFFSETFROM:+0300
TZOFFSETTO:+0200
TZNAME:EET
DTSTART:20191027T010000
END:STANDARD
BEGIN:DAYLIGHT
TZOFFSETFROM:+0200
TZOFFSETTO:+0300
TZNAME:EEST
DTSTART:20200329T010000
END:DAYLIGHT
BEGIN:STANDARD
TZOFFSETFROM:+0300
TZOFFSETTO:+0200
TZNAME:EET
DTSTART:20201025T010000
END:STANDARD
END:VTIMEZONE
BEGIN:VEVENT
DTSTART;TZID=Europe/Helsinki:20190930T110000
DTEND;TZID=Europe/Helsinki:20191007T203000
DTSTAMP:20260422T224944
CREATED:20190925T190031Z
LAST-MODIFIED:20190925T190213Z
UID:10000470-1569841200-1570480200@fundacioncajaruraldelsur.com
SUMMARY:VIII Semana de la Arquitectura de la provincia de Huelva
DESCRIPTION:Esta semana inauguramos la VIII Semana de la Arquitectura de la provincia de Huelva\, organizada por El Colegio Oficial de Arquitectos de Huelva en colaboración con numerosas instituciones y empresas en la provincia onubense\, cuyo tema es la Arquitectura vinculada a las Artes Escénicas. Se celebrará del 3 al 10 de octubre de 2019 \nEl COAH ha programado conferencias y actividades abiertas al público en general con el objetivo de poner en valor y dar a conocer nuestro patrimonio arquitectónico. \n\n\nPROGRAMA\n\n\n\n\n\n1. LUNES 30 DE SEPTIEMBRE. HUELVA.\n\n\n\n\n\n\n\n\n\n11:00 H. Presentación de la VIII Semana de la Arquitectura. Sede del COAH\, calle Puerto\, 37.\n\n2. JUEVES 3 OCTUBRE. HUELVA.\n\n\n\n\n\n\n\n\n\n\n\n\n\n\n\n\n\n\n\n\n\n20:00 H. Conferencia de Arquitectura. Estudio Sol89. Salón de Actos Fundación Caja Rural\, calle Mora Claros\n\n3. LUNES 7 OCTUBRE. DÍA MUNDIAL DE LA ARQUITECTURA. AYAMONTE.\n\n\n\n\n\n\n\n\n\n\n\n\n\n\n\n\n\n19:00 H. Visita Guiada de edificio La Casa Grande de Ayamonte. Calle Huelva 37\, Ayamonte.\n\n\n\n\n\n4. LUNES 7 OCTUBRE. DÍA MUNDIAL DE LA ARQUITECTURA. AYAMONTE.\n\n\n\n\n\n\n\n\n\n\n\n\n\n\n\n\n20:00H. Declaración institucional de Miriam Dabrio\, Decana del COAH y Recital llevado a cabo por el grupo “Los Poetas del Guadiana». Calle Huelva 37\, Ayamonte.\n\n5. MARTES 8 OCTUBRE. HUELVA\n\n\n\n\n\n\n\n\n\n\n\n\n\n\n\n20:00 H. Gala de la Arquitectura. Entrega del XXVI Premio de Arquitectura y Premios Especiales COAH a la Sociedad Onubense 2019. Con la colaboración musical del Maestro Navarro Lara y Hollywood Sinfónico. Gran Teatro\, calle Vázquez López 13.\n\n\n\n\n\n\n\n\n\n\n\n\n\n6. JUEVES 10 DE OCTUBRE. GIBRALEÓN.\n\n\n\n\n\n\n\n\n\n16:45 H. Colocación Placa Docomomo al Chalet Plus Ultra. Ctra. A-495\, km. 1\,75. Gibraleón.\n\n\n\n\n\n\n\n\n\n\n\n\n\n7. JUEVES 10 DE OCTUBRE. HUELVA.\n\n\n\n\n\n\n\n\n\n18:30 H Colocación Placa Docomomo. Pabellón Control de Aguas. C.T. Cristóbal Colón. Avda. Francisco Montenegro s/n. Huelva.\n\n\n\n\n\n\n\n\n\nLa participación en estas actividades será gratuita\, debiendo inscribirse previamente en el enlace que aparece más abajo. \nINSCRIPCIÓN
URL:https://fundacioncajaruraldelsur.com/evento/viii-semana-de-la-arquitectura-de-la-provincia-de-huelva/
LOCATION:Colegio Oficial de Arquitectos de Huelva\, Calle Puerto\, 37\,\, Huelva\, Huelva\, 21001
CATEGORIES:conferencias
ATTACH;FMTTYPE=image/jpeg:https://fundacioncajaruraldelsur.com/wp-content/uploads/2019/09/Arquitectura.jpg
END:VEVENT
BEGIN:VEVENT
DTSTART;TZID=Europe/Helsinki:20191018T210000
DTEND;TZID=Europe/Helsinki:20191018T210000
DTSTAMP:20260422T224945
CREATED:20191010T135811Z
LAST-MODIFIED:20191010T135811Z
UID:10000596-1571432400-1571432400@fundacioncajaruraldelsur.com
SUMMARY:Celebración de la festividad de San Lucas
DESCRIPTION:El Ilustre Colegio Oficial de Médicos de Huelva\, como ya es tradición en sus más de cien años de historia\, con motivo de la Festividad de San Lucas (Patrón del colectivo médico)\, organiza diversos Actos Académicos de contenido médico (Jornadas\, conferencias\, etc…)\, así como las entregas de medallas de Colegiados Honoríficos\, que se impone a aquellos facultativos que estatutariamente cumplen los requisitos establecidos. \nEl Viernes 18 de Octubre\, a las 21 horas\, en el Centro Cultural José Luis García Palacios\, Salón de Actos de la Fundación Caja Rural del Sur\, dentro del programa de Actos de la Festividad de San Lucas\, se va a celebrar un emotivo evento por el que el Colegio de Médicos concede la medalla de la Corporación a todos aquellos médicos que se jubilan en el presente ejercicio\, en reconocimiento a su trayectoria profesional y vocación de servicio para la Sociedad Onubense. \nEl Acto comenzará con unas breves palabras de presentación del Presidente del Colegio\, Dr. Don Antonio Aguado Núñez-Cornejo\, en la que agradecerá a los homenajeados sus años de servicios y dedicación al cuidado de los onubenses\, para a continuación\, ir solicitando la presencia de cada uno de ellos con objeto de imponerles la medalla honorifica del Colegio. A la finalización del acto institucional\, se dará a los médicos asistentes y a sus familiares una copa de confraternización.
URL:https://fundacioncajaruraldelsur.com/evento/celebracion-de-la-festividad-de-san-lucas/
LOCATION:Fundación Caja Rural del Sur Huelva\, C/ Alcalde Mora Claros 6-8\, Huelva\, Huelva\, 21001\, España
CATEGORIES:conferencias
ATTACH;FMTTYPE=image/jpeg:https://fundacioncajaruraldelsur.com/wp-content/uploads/2019/06/Donar_organos.jpg
GEO:37.2583599;-6.9535303
X-APPLE-STRUCTURED-LOCATION;VALUE=URI;X-ADDRESS=Fundación Caja Rural del Sur Huelva C/ Alcalde Mora Claros 6-8 Huelva Huelva 21001 España;X-APPLE-RADIUS=500;X-TITLE=C/ Alcalde Mora Claros 6-8:geo:-6.9535303,37.2583599
END:VEVENT
BEGIN:VEVENT
DTSTART;TZID=Europe/Helsinki:20191023T183000
DTEND;TZID=Europe/Helsinki:20191023T183000
DTSTAMP:20260422T224945
CREATED:20191010T180421Z
LAST-MODIFIED:20191014T185047Z
UID:10000598-1571855400-1571855400@fundacioncajaruraldelsur.com
SUMMARY:Conferencia: Mujer\, Madre\, Líder
DESCRIPTION:El próximo 23 de octubre acogemos en nuestro Centro Cultural de Sevilla el acto homenaje a la mujer organizado por la Fundación Ginemed. \nIntervinientes\n\nIrene Gallardo (Periodista y Escritora) Llevará las riendas de la Charla y Presentación de las asistentes.\nTeresa Jiménez Becerril (Congreso Diputados Madrid).\nNuria del Saz (Periodista y Escritora).\nSol Cruz Guzmán (Congreso Diputados Madrid).\nPilar Villaescusa (Directora Ejecutiva de Finanzas. Grupo Sanitas España).\nLola Rodriguez Álvarez  (Directora Territorial de Particulares de La Caixa.\n\nFundación Ginemed\nInstitución que desarrolla su actividad sin ánimo de lucro\, desde hace más de 10 años\, con total autonomía y con unos objetivos generales enmarcados en tres principios básicos: \nFomento del Estudio y la Investigación Médica\, con especial dedicación en el campo de la medicina reproductiva y de la salud de la mujer\, siempre con sentido de aplicación práctica y dentro del marco legislativo actuante en cada momento. \nCompromiso Social\, promoviendo acciones directas para favorecer la Maternidad\, mediante programas específicos\, facilitando información\, formación y procesos de cambios de actitud ante nuestra realidad social en el ámbito de la reproducción humana y de la salud de la mujer. \nDifusión de Avances Científicos y Docencia\, estableciendo programas de formación continuada de profesionales sobre fertilidad\, reproducción humana y salud de la mujer y difundiendo estos avances a la población general.
URL:https://fundacioncajaruraldelsur.com/evento/conferencia-mujer-madre-lider/
LOCATION:Fundación Caja Rural del Sur Sevilla\, C/ Murillo\, 2\, Sevilla\, Sevilla\, 41001\, España
CATEGORIES:conferencias
ATTACH;FMTTYPE=image/jpeg:https://fundacioncajaruraldelsur.com/wp-content/uploads/2019/10/babys.jpg
GEO:37.2583599;-6.9535303
X-APPLE-STRUCTURED-LOCATION;VALUE=URI;X-ADDRESS=Fundación Caja Rural del Sur Sevilla C/ Murillo 2 Sevilla Sevilla 41001 España;X-APPLE-RADIUS=500;X-TITLE=C/ Murillo\, 2:geo:-6.9535303,37.2583599
END:VEVENT
END:VCALENDAR