BEGIN:VCALENDAR
VERSION:2.0
PRODID:-//Fundación Caja Rural del Sur - ECPv6.15.17//NONSGML v1.0//EN
CALSCALE:GREGORIAN
METHOD:PUBLISH
X-ORIGINAL-URL:https://fundacioncajaruraldelsur.com
X-WR-CALDESC:Eventos para Fundación Caja Rural del Sur
REFRESH-INTERVAL;VALUE=DURATION:PT1H
X-Robots-Tag:noindex
X-PUBLISHED-TTL:PT1H
BEGIN:VTIMEZONE
TZID:Europe/Helsinki
BEGIN:DAYLIGHT
TZOFFSETFROM:+0200
TZOFFSETTO:+0300
TZNAME:EEST
DTSTART:20180325T010000
END:DAYLIGHT
BEGIN:STANDARD
TZOFFSETFROM:+0300
TZOFFSETTO:+0200
TZNAME:EET
DTSTART:20181028T010000
END:STANDARD
BEGIN:DAYLIGHT
TZOFFSETFROM:+0200
TZOFFSETTO:+0300
TZNAME:EEST
DTSTART:20190331T010000
END:DAYLIGHT
BEGIN:STANDARD
TZOFFSETFROM:+0300
TZOFFSETTO:+0200
TZNAME:EET
DTSTART:20191027T010000
END:STANDARD
BEGIN:DAYLIGHT
TZOFFSETFROM:+0200
TZOFFSETTO:+0300
TZNAME:EEST
DTSTART:20200329T010000
END:DAYLIGHT
BEGIN:STANDARD
TZOFFSETFROM:+0300
TZOFFSETTO:+0200
TZNAME:EET
DTSTART:20201025T010000
END:STANDARD
END:VTIMEZONE
BEGIN:VEVENT
DTSTART;TZID=Europe/Helsinki:20190611T200000
DTEND;TZID=Europe/Helsinki:20190611T200000
DTSTAMP:20260423T213756
CREATED:20190607T184751Z
LAST-MODIFIED:20190607T184751Z
UID:10000572-1560283200-1560283200@fundacioncajaruraldelsur.com
SUMMARY:Conferencia: "El sector inmobiliario y los nuevos modelos residenciales turísticos"
DESCRIPTION:El próximo martes en Córdoba Antonio Catalán hablará sobre «El sector inmobiliario y los nuevos usos residenciales turísticos». Construcor organiza la conferencia del empresario navarro\, presidente de AC By Marriot\, con el patrocinio de Grupo Caja Rural del Sur y Grupo Barea. \nAntonio Catalán hablará en una conferencia coloquio que tendrá lugar el próximo martes en el Salón Liceo del Real Círculo de la Amistad de Córdoba. \nEl acto\, que organiza Construcor anualmente\, cuenta con el patrocinio y la intervención del Grupo Caja Rural del Sur y Grupo Barea\, este último en el ámbito del 50 aniversario de su fundación. \nEl empresario navarro\, fundador de las cadenas NH Hoteles y AC\, es actualmente presidente de AC By Marriot y trabaja en diversos proyectos de innovación turística y nuevas fórmulas de relación con el sector inmobiliario. \nInmobiliario y Turismo \nLos nuevos edificios para uso turístico y las innovaciones en los modelos urbanos que están provocando será el tema central de la conferencia coloquio. En la actualidad\, Antonio Catalán a través de sus proyectos en AC By Marriot tiene intención de invertir y ampliar sus productos con la apuesta de apartamentos en edificios para dirigirse a un nuevo público joven y parejas que demanden alojamiento en pisos enteros. \nEl acto contará también con la intervención de José Luis García Palacios\, presidente de Grupo Caja Rural del Sur y la distinción a Antonio Barea por su trayectoria empresarial de cinco décadas. \n  \n 
URL:https://fundacioncajaruraldelsur.com/evento/conferencia-el-sector-inmobiliario-y-los-nuevos-modelos-residenciales-turisticos/
LOCATION:Circulo de la Amistad de Córdoba\, calle Alfonso XIII\, 14\, Córdoba\, Sevilla\, 14001\, España
CATEGORIES:conferencias
ATTACH;FMTTYPE=image/jpeg:https://fundacioncajaruraldelsur.com/wp-content/uploads/2019/06/Turismo.jpg
END:VEVENT
BEGIN:VEVENT
DTSTART;TZID=Europe/Helsinki:20190617T193000
DTEND;TZID=Europe/Helsinki:20190617T193000
DTSTAMP:20260423T213756
CREATED:20190612T160224Z
LAST-MODIFIED:20190612T160224Z
UID:10000576-1560799800-1560799800@fundacioncajaruraldelsur.com
SUMMARY:Exposición: 'Donar para emprender vida'
DESCRIPTION:El próximo lunes 17 de junio inauguramos la magnífica exposición fotográfica Donar para emprender vida en nuestro Centro Cultural José Luis García Palacios a las 19:30 horas. \nEl acto de inauguración irá de la mano de José Luis Garcia-Palacios\, José Luis Bonilla Romero\, gerente Hospital U. Juan Ramón Jiménez\, y Julia Paloma Hergueta Sánchez\, gerente Hospital Infanta Elena. \nA continuación\, se ofrecerá una conferencia a cargo de la coordinadora de Trasplantes del HU Juan Ramón Jiménez\, Francisca Isabel Cabeza\, bajo el título ‘Donación de Órganos y tejidos: fuente de vida y esperanza’. \nAdemás\, contaremos con la experiencia personal de Manuela Rey Márquez\, con la intervención del autor de la exposición Francisco Fernández Gómez. \nComo broche de oro\, Emilio Ponce\, Director de la Fundación Caja Rural del Sur protagonizará el acto de clausura. \nUna iniciativa que se desarrolla en colaboración con el HU Juan Ramón Jiménez\, la Coordinadora de Trasplantes Huelva-Sevilla y la Federación Onubenses de Empresarios\, entre otras entidades.
URL:https://fundacioncajaruraldelsur.com/evento/exposicion-donar-para-emprender-vida/
LOCATION:Fundación Caja Rural del Sur Huelva\, C/ Alcalde Mora Claros 6-8\, Huelva\, Huelva\, 21001\, España
CATEGORIES:conferencias
ATTACH;FMTTYPE=image/jpeg:https://fundacioncajaruraldelsur.com/wp-content/uploads/2019/06/Donar_organos.jpg
GEO:37.2583599;-6.9535303
X-APPLE-STRUCTURED-LOCATION;VALUE=URI;X-ADDRESS=Fundación Caja Rural del Sur Huelva C/ Alcalde Mora Claros 6-8 Huelva Huelva 21001 España;X-APPLE-RADIUS=500;X-TITLE=C/ Alcalde Mora Claros 6-8:geo:-6.9535303,37.2583599
END:VEVENT
END:VCALENDAR