BEGIN:VCALENDAR
VERSION:2.0
PRODID:-//Fundación Caja Rural del Sur - ECPv6.15.17//NONSGML v1.0//EN
CALSCALE:GREGORIAN
METHOD:PUBLISH
X-WR-CALNAME:Fundación Caja Rural del Sur
X-ORIGINAL-URL:https://fundacioncajaruraldelsur.com
X-WR-CALDESC:Eventos para Fundación Caja Rural del Sur
REFRESH-INTERVAL;VALUE=DURATION:PT1H
X-Robots-Tag:noindex
X-PUBLISHED-TTL:PT1H
BEGIN:VTIMEZONE
TZID:Europe/Helsinki
BEGIN:DAYLIGHT
TZOFFSETFROM:+0200
TZOFFSETTO:+0300
TZNAME:EEST
DTSTART:20200329T010000
END:DAYLIGHT
BEGIN:STANDARD
TZOFFSETFROM:+0300
TZOFFSETTO:+0200
TZNAME:EET
DTSTART:20201025T010000
END:STANDARD
BEGIN:DAYLIGHT
TZOFFSETFROM:+0200
TZOFFSETTO:+0300
TZNAME:EEST
DTSTART:20210328T010000
END:DAYLIGHT
BEGIN:STANDARD
TZOFFSETFROM:+0300
TZOFFSETTO:+0200
TZNAME:EET
DTSTART:20211031T010000
END:STANDARD
BEGIN:DAYLIGHT
TZOFFSETFROM:+0200
TZOFFSETTO:+0300
TZNAME:EEST
DTSTART:20220327T010000
END:DAYLIGHT
BEGIN:STANDARD
TZOFFSETFROM:+0300
TZOFFSETTO:+0200
TZNAME:EET
DTSTART:20221030T010000
END:STANDARD
END:VTIMEZONE
BEGIN:VEVENT
DTSTART;TZID=Europe/Helsinki:20211216T200000
DTEND;TZID=Europe/Helsinki:20211216T213000
DTSTAMP:20260422T013440
CREATED:20211125T161158Z
LAST-MODIFIED:20211129T135714Z
UID:10000715-1639684800-1639690200@fundacioncajaruraldelsur.com
SUMMARY:Concierto de Navidad con el Coro Teatro Lírico de Huelva
DESCRIPTION:El día 16 de diciembre la Fundación Caja Rural del Sur en Huelva celebra un concierto lírico interpretado por el CORO TEATRO LÍRICO DE HUELVA junto con MARIDELI RODRÍGUEZ al piano dirigidos por GUILLERMO OROZCO. \nEl concierto se celebra a las 20:00 h en el Centro Cultural José Luis García Palacios de Caja Rural del Sur.\n(Calle Alcalde Mora Claros\, Nº 6-8\, Huelva). \nLos tiquets de entrada (5€) estarán a disposición del público a partir del 9 de diciembre en la Sala de Exposiciones\ndel Centro Cultural de Caja Rural del Sur\, c/. Alcalde Mora Claros\, en horario de 11\,00 a 13\,00 horas. \nLa recaudación de este concierto será a beneficio de: “RED MADRE” \n \nConsulte aquí el Programa de mano del concierto del CORO TEATRO LÍRICO DE HUELVA \nCartel del Concierto. 
URL:https://fundacioncajaruraldelsur.com/evento/concierto-de-navidad-con-el-coro-teatro-lirico-de-huelva/
LOCATION:Fundación Caja Rural del Sur Huelva\, C/ Alcalde Mora Claros 6-8\, Huelva\, Huelva\, 21001\, España
CATEGORIES:Conciertos
ATTACH;FMTTYPE=image/jpeg:https://fundacioncajaruraldelsur.com/wp-content/uploads/2018/11/Concierto_Orquesta_Bormujos.jpg
GEO:37.2583599;-6.9535303
X-APPLE-STRUCTURED-LOCATION;VALUE=URI;X-ADDRESS=Fundación Caja Rural del Sur Huelva C/ Alcalde Mora Claros 6-8 Huelva Huelva 21001 España;X-APPLE-RADIUS=500;X-TITLE=C/ Alcalde Mora Claros 6-8:geo:-6.9535303,37.2583599
END:VEVENT
END:VCALENDAR