BEGIN:VCALENDAR
VERSION:2.0
PRODID:-//Fundación Caja Rural del Sur - ECPv6.15.17//NONSGML v1.0//EN
CALSCALE:GREGORIAN
METHOD:PUBLISH
X-WR-CALNAME:Fundación Caja Rural del Sur
X-ORIGINAL-URL:https://fundacioncajaruraldelsur.com
X-WR-CALDESC:Eventos para Fundación Caja Rural del Sur
REFRESH-INTERVAL;VALUE=DURATION:PT1H
X-Robots-Tag:noindex
X-PUBLISHED-TTL:PT1H
BEGIN:VTIMEZONE
TZID:Europe/Helsinki
BEGIN:DAYLIGHT
TZOFFSETFROM:+0200
TZOFFSETTO:+0300
TZNAME:EEST
DTSTART:20190331T010000
END:DAYLIGHT
BEGIN:STANDARD
TZOFFSETFROM:+0300
TZOFFSETTO:+0200
TZNAME:EET
DTSTART:20191027T010000
END:STANDARD
BEGIN:DAYLIGHT
TZOFFSETFROM:+0200
TZOFFSETTO:+0300
TZNAME:EEST
DTSTART:20200329T010000
END:DAYLIGHT
BEGIN:STANDARD
TZOFFSETFROM:+0300
TZOFFSETTO:+0200
TZNAME:EET
DTSTART:20201025T010000
END:STANDARD
BEGIN:DAYLIGHT
TZOFFSETFROM:+0200
TZOFFSETTO:+0300
TZNAME:EEST
DTSTART:20210328T010000
END:DAYLIGHT
BEGIN:STANDARD
TZOFFSETFROM:+0300
TZOFFSETTO:+0200
TZNAME:EET
DTSTART:20211031T010000
END:STANDARD
END:VTIMEZONE
BEGIN:VEVENT
DTSTART;TZID=Europe/Helsinki:20200130T200000
DTEND;TZID=Europe/Helsinki:20200130T200000
DTSTAMP:20260426T062524
CREATED:20200117T132923Z
LAST-MODIFIED:20200117T132923Z
UID:10000501-1580414400-1580414400@fundacioncajaruraldelsur.com
SUMMARY:Concierto lírico Caja Rural del Sur
DESCRIPTION:El próximo 30 de enero celebramos en nuestro salón de actos de Huelva el tradicional Concierto Lírico de la Caja Rural del Sur. Se trata de un concierto benéfico cuya recaudación irá a Manos Unidas Huelva. Disfrutaremos de la maravillosa voz de Eva Tenorio como soprano\, Guillermo Orozco como barítono\, y Borja Otero al piano.  \nEva Tenorio (Soprano)\nEva Tenorio nace en Sevilla\, “Titulada en Canto” por el Conservatorio de Música Manuel Castillo\, de Sevilla. Cursando además los estudios de piano. Recibe clases magistrales de importantes profesionales de la Lírica como: Plácido Domingo\, Teresa Berganza\, Renata Scotto\, Carlos Álvarez\, Juan Diego Flórez\, Mirella Freni en la CUBEC\, Ileana Cotrubas\, Ana Luisa Chova\, Rubén Fernández Aguirre\, Miguel Zanetti\,… Galardonada en diferentes concursos Internacionales tanto en España como en Italia\, debuta con “Le nozze di Figaro” en el Teatro de la Maestranza de Sevilla\, bajo la batuta de Alain Lombard. Ha cantado numeros títulos de ópera como “Acis y Galatea”\, “L’elisir d’amor”\, “Rigoletto”\, “La Bohème”\, “Amahl and the night visitors”\, “ Carmen”\, “Traviata”\, “Sonnambula”… Zazuelas como “La Canción del Olvido”\, “La Tabernera del Puerto”\, “El Barbero de Sevilla”\, “Marina”\, “Música Clásica”\, “ El dúo de la Africana”… Interpretando además un amplio repertorio Sinfónico: “Exultate Jubilate” de Mozart\, “Requiem” de Mozart\, “Misa de la Coronación” de Mozart\, “Requiem” de Fauré\, “Mesias” de Haendel\, “Misa Tango Argentina” de Palmeri\, “Carmina Burana” de Orff\, “Segunda Sinfonía de G. Malher”… \nHa cantado en Teatro “Mancinelli” de Orvieto ( Italia)\, Teatro de la Maestranza de Sevilla\, Teatro Real de Madrid\, Teatro Cervantes de Málaga\, Gran Teatro de Huelva\, Teatro Romea de Murcia\, Teatro Vico de Jumilla\, Teatro Monumental de Madrid\, Auditorio de Teulada de Alicante\, Auditorio Rocío Jurado de Sevilla\, Teatro Quijano de Ciudad Real\, Auditorio de Guadalajara\, Auditorio el Greco de Toledo\, Teatro Circo de Albacete\, Teatro Palacio Valdés de Avilés\, Teatro Palenque de Talavera de la Reina\, Teatro Auditorio de Valdepeñas\, Teatro Afundación de Vigo\, Teatro Bellini de Catania\, Auditorio de la Universidad de Verona\, Auditorio de Catelvecchio Verona\, … Bajo las batutas de Alain Lombard\, Maurizio Arena\, Cristobal Soler\, Arturo Díez Boscovich\, Borja Quintas\, Nicolás Galves\, Nicola Guerini\, Fabio Fapanni\, principalmente. \nGuillermo Orozco (Barítono)\nNace en Huelva. Comienza sus estudios musicales en su ciudad natal\, posteriormente se traslada a Madrid a la Escuela Superior de Canto\, después estudia técnica de canto y repertorio con el maestro Pedro Lavirgen. Ha obtenido numerosos premios internacionales de canto: Logroño (1995 y 1997)\, Francisco Alonso (1995)\, J.Guerrero (1996)\, J.Gayarre de Pamplona (1996)\, Real Villa de Arganda (1997)\, Luís Mariano (Irún\, 1997)\, Acisclo Fernández (Madrid\, 1998)\, Pedro Lavirgen (Córdoba\,1998)\, etc. Otras distinciones: Onubense del año y Juan Pedro Mayor 2007. Profesionalmente ha abarcado todos los géneros líricos en los principales teatros españoles y extranjeros: Teatro Real y de la Zarzuela (Madrid)\, Liceo de (Barcelona)\, Maestranza (Sevilla)\, Palacio de Festivales (Santander)\, Pérez Galdós (Las Palmas)\, etc.\, así como en Italia\, Francia\, Portugal\, Polonia\, Ucrania\, Georgia\, El Líbano\, América del Sur\, Canadá\, Japón\, China\, India. En Oratorio y conciertos sinfónicos ha interpretado: la Misa Solemne de Santa Cecilia (Gounod)\, la Misa de la Coronación (Mozart)\, Misa de Gloria (Verdi)\, Stabat Mater de Dvorac\, y la Novena Sinfonía (Beethoven). En Zarzuela ha participado en las siguientes obras: La del Manojo de Rosas\, La Tabernera del Puerto y Katiuska (P. Sorozábal)\, Los Gavilanes (J.Guerrero)\, Me llaman la Presumida (F. Alonso)\, La Dolorosa y Los Claveles (Serrano)\, La del Soto del Parral (Soutullo y Vert)\, Gigantes y Cabezudos (F. Caballero)\, El Cantar del Arriero (Díaz Giles)\, Luisa Fernanda (M. Torroba)\, El Caserío (Guridi)\, Bohemios (A. Vives)\, El Huésped del Sevillano (J. Guerrero)\, La Leyenda del Beso (Soutullo y Vert)\, La Rosa del Azafrán (J. Guerrero)\, El Canastillo de Fresas (J.Guerrero). \nEn Ópera : Lucía di Lammermoor (G.Donizetti)\, Madama Butterfly (G.Puccini)\, Macbeth (Verdi)\, El Gato Montés (Penella)\, Traviata (Verdi)\, La Vida Breve (Falla). Carmen (Bizet)\, La Bohème (Puccini)\, Nabucco (Verdi). Discografía: El Gato Montés (M. Penella)\, Director: Enrique García Asensio\, DVD de «El dúo de la africana» y CD con Deutsche Gramophon de la misma grabado en el Teatro Real de Madrid\, dirigido por Jesús López Cobos. DVD del espectáculo “la Fiesta nacional en la Zarzuela”\, dirigido por Pascual Osa. DVD de «La Dolorosa\, Los Claveles y El Caserio»\, grabados en Las Palmas de Gran Canaria\, Dirigidos por JM Damunt\, CD titulado «Salve Maria» de Aves Marías producido por la editorial San Pablo\, CD del 150 aniversario del Teatro Nacional de la Zarzuela. \nBorja Otero (pianista)\nBorja Otero es pianista acompañante del Conservatorio Profesional de Música de Huelva donde compagina su labor docente con la actuación en conciertos tanto de solista como de música de cámara. Tras sus estudios en los Conservatorios de Sevilla y Madrid ( con los profesores José Antonio Coso\, Pilar Bilbao y Manuel Carra) amplía estudios becado por la Junta de Andalucía en Estados Unidos\, donde trabaja con Phillip Lorenz\, (asistente de Claudio Arrau) y Eduardo Delgado. Durante su estancia en Estados Unidos ofrece recitales y conciertos en ciudades de California como Pasadena\, Santa Cruz\, Los Angeles etc. y obtiene el ingreso en la Universidad de Sur de California en el programa de composición “Scoring for Motion Pictures”. \nFue premiado en diversos concursos como el Ciudad de Melilla\, Gregorio Baudot\, J.J.M.M. de Albacete y “The Solist competition” de Marina del rey (California). Ha participado como solista con la Orquesta do Algarve en Portugal y ofrecido conciertos a dos pianos con los pianistas Armando Mota y Marideli Rodríguez\, con quién ofreció la integral para dos pianos del compositor Portugués Antonio Vitorino D´Almeida en Viana do Castelo. Participa asiduamente en conciertos de música de cámara y recitales. \nPrograma\nPRIMERA PARTE \nCanción Ópera/Zarzuela Autor Musical \n“Après un rêve” Gabriel Fauré. \n“Non t´amo piú” Paolo Tosti. \n“Occhi di fata” Luigi Denza. \n“Parlami d´amore” C. Bixio. \n“Donde lieta uscì” Bohéme Giacomo Puccini. \n“Minni\, dalla mia casa son partito” La Fanciulla del West Giacomo Puccini. \n“Dúo Luisa y Vidal” Luisa Fernanda Moreno Torroba. \nSEGUNDA PARTE \nCanción Ópera/Zarzuela Autor Musical \n“Canción del Jinete”. Miquel Ortega. \n“La Maja y el Ruiseñor”. Ópera Goyescas Enric Granados. \n“Mi aldea”. Los Gavilanes J. Guerrero. \n“No por amor\, No por tristeza”. Antonio Gala Antonio Garcia Abril. \n“Ya mis horas felices” La del Soto del Parral Sautullo y Vert. \n“Carceleras”. Las hijas del Zebedeo Ruperto Chapi. \n“Dúo J. Pedro y Sagrario”. L. Rosa del Azafrán J. Guerrero. \n 
URL:https://fundacioncajaruraldelsur.com/evento/concierto-lirico-caja-rural-del-sur-3/
LOCATION:Fundación Caja Rural del Sur Huelva\, C/ Alcalde Mora Claros 6-8\, Huelva\, Huelva\, 21001\, España
CATEGORIES:Conciertos
ATTACH;FMTTYPE=image/jpeg:https://fundacioncajaruraldelsur.com/wp-content/uploads/2019/10/PIANO.jpg
GEO:37.2583599;-6.9535303
X-APPLE-STRUCTURED-LOCATION;VALUE=URI;X-ADDRESS=Fundación Caja Rural del Sur Huelva C/ Alcalde Mora Claros 6-8 Huelva Huelva 21001 España;X-APPLE-RADIUS=500;X-TITLE=C/ Alcalde Mora Claros 6-8:geo:-6.9535303,37.2583599
END:VEVENT
END:VCALENDAR