BEGIN:VCALENDAR
VERSION:2.0
PRODID:-//Fundación Caja Rural del Sur - ECPv6.15.17//NONSGML v1.0//EN
CALSCALE:GREGORIAN
METHOD:PUBLISH
X-ORIGINAL-URL:https://fundacioncajaruraldelsur.com
X-WR-CALDESC:Eventos para Fundación Caja Rural del Sur
REFRESH-INTERVAL;VALUE=DURATION:PT1H
X-Robots-Tag:noindex
X-PUBLISHED-TTL:PT1H
BEGIN:VTIMEZONE
TZID:Europe/Paris
BEGIN:DAYLIGHT
TZOFFSETFROM:+0100
TZOFFSETTO:+0200
TZNAME:CEST
DTSTART:20230326T010000
END:DAYLIGHT
BEGIN:STANDARD
TZOFFSETFROM:+0200
TZOFFSETTO:+0100
TZNAME:CET
DTSTART:20231029T010000
END:STANDARD
BEGIN:DAYLIGHT
TZOFFSETFROM:+0100
TZOFFSETTO:+0200
TZNAME:CEST
DTSTART:20240331T010000
END:DAYLIGHT
BEGIN:STANDARD
TZOFFSETFROM:+0200
TZOFFSETTO:+0100
TZNAME:CET
DTSTART:20241027T010000
END:STANDARD
BEGIN:DAYLIGHT
TZOFFSETFROM:+0100
TZOFFSETTO:+0200
TZNAME:CEST
DTSTART:20250330T010000
END:DAYLIGHT
BEGIN:STANDARD
TZOFFSETFROM:+0200
TZOFFSETTO:+0100
TZNAME:CET
DTSTART:20251026T010000
END:STANDARD
END:VTIMEZONE
BEGIN:VEVENT
DTSTART;TZID=Europe/Paris:20240115T190000
DTEND;TZID=Europe/Paris:20240115T190000
DTSTAMP:20260420T021153
CREATED:20240110T110049Z
LAST-MODIFIED:20240110T110049Z
UID:10000923-1705345200-1705345200@fundacioncajaruraldelsur.com
SUMMARY:PRESENTACIÓN DEL LIBRO “BUSCANDO LIBERTAD SIN PERDER LA CARA AL VIENTO” DE AQUILINO MORENO DOMÍNGUEZ
DESCRIPTION:  \nSÍNTESIS DEL LIBRO “BUSCANDO LIBERTAD SIN PERDER LA CARA AL VIENTO” DE AQUILINO MORENO DOMÍNGUEZ \nSe trata de las vivencias cinegéticas del autor\, experimentado naturalista y empedernido cazador\, en las estribaciones de la Cordillera Mariánica y más concretamente en el término municipal de Berrocal (Huelva)\, describiéndose las generalidades identificativas de la comarca del Ándevalo Oriental y Minero\, con un curso fluvial de singular prestancia; el río Tinto. \nNos describe este río como el más apetitoso para esos seres extremófilo\, habitantes de planetas que aún no hemos sabido encontrar\, ya que convierten los metales en su alimento físico. Nos cuenta como la concentración del ácido sulfúrico de las aguas del Tinto es detectada por el instinto animal y como los jabalíes las aprovechan para el cuidado dermatológico de sus escudos costales. \nInterpreta la belleza natural de esos intrincados y quebrados parajes\, ecosistema donde el autor se mueve\, como el resultado de la armonía entre un todo y las partes singulares que lo componen\, en el cual todas las partes\, hasta las menos relevantes en apariencia\, interactúan creando complejos lazos y conexiones tan necesarias para mantener la armonía del conjunto. Y en ese conjunto permanecen en los relatos del libro tanto los jabalíes como el autor; quién ha recolectado un conjunto de trofeos -colmillos y amoladeras- que constituyen un extraordinario panel\, merecedor del máximo reconocimiento\, tanto por su calidad como por su silvestre autenticidad. \nTambién nos narra en este libro sus cacerías en las Reservas Regionales de Caza en todo el territorio nacional\, sus expediciones a la ubérrima floresta del Este de Europa\, a la sabana boscosa del África austral y a las inmensas llanuras de la Pampa argentina.
URL:https://fundacioncajaruraldelsur.com/evento/presentacion-del-libro-buscando-libertad-sin-perder-la-cara-al-viento-de-aquilino-moreno-dominguez/
LOCATION:Fundación Caja Rural del Sur Huelva\, C/ Alcalde Mora Claros 6-8\, Huelva\, Huelva\, 21001\, España
ATTACH;FMTTYPE=image/png:https://fundacioncajaruraldelsur.com/wp-content/uploads/2023/02/libro.png
GEO:37.2583599;-6.9535303
X-APPLE-STRUCTURED-LOCATION;VALUE=URI;X-ADDRESS=Fundación Caja Rural del Sur Huelva C/ Alcalde Mora Claros 6-8 Huelva Huelva 21001 España;X-APPLE-RADIUS=500;X-TITLE=C/ Alcalde Mora Claros 6-8:geo:-6.9535303,37.2583599
END:VEVENT
END:VCALENDAR