BEGIN:VCALENDAR
VERSION:2.0
PRODID:-//Fundación Caja Rural del Sur - ECPv6.15.17//NONSGML v1.0//EN
CALSCALE:GREGORIAN
METHOD:PUBLISH
X-WR-CALNAME:Fundación Caja Rural del Sur
X-ORIGINAL-URL:https://fundacioncajaruraldelsur.com
X-WR-CALDESC:Eventos para Fundación Caja Rural del Sur
REFRESH-INTERVAL;VALUE=DURATION:PT1H
X-Robots-Tag:noindex
X-PUBLISHED-TTL:PT1H
BEGIN:VTIMEZONE
TZID:Europe/Helsinki
BEGIN:DAYLIGHT
TZOFFSETFROM:+0200
TZOFFSETTO:+0300
TZNAME:EEST
DTSTART:20210328T010000
END:DAYLIGHT
BEGIN:STANDARD
TZOFFSETFROM:+0300
TZOFFSETTO:+0200
TZNAME:EET
DTSTART:20211031T010000
END:STANDARD
BEGIN:DAYLIGHT
TZOFFSETFROM:+0200
TZOFFSETTO:+0300
TZNAME:EEST
DTSTART:20220327T010000
END:DAYLIGHT
BEGIN:STANDARD
TZOFFSETFROM:+0300
TZOFFSETTO:+0200
TZNAME:EET
DTSTART:20221030T010000
END:STANDARD
BEGIN:DAYLIGHT
TZOFFSETFROM:+0200
TZOFFSETTO:+0300
TZNAME:EEST
DTSTART:20230326T010000
END:DAYLIGHT
BEGIN:STANDARD
TZOFFSETFROM:+0300
TZOFFSETTO:+0200
TZNAME:EET
DTSTART:20231029T010000
END:STANDARD
END:VTIMEZONE
BEGIN:VEVENT
DTSTART;TZID=Europe/Helsinki:20220929T163000
DTEND;TZID=Europe/Helsinki:20221030T193000
DTSTAMP:20260419T185426
CREATED:20220515T224110Z
LAST-MODIFIED:20220915T122310Z
UID:10000761-1664469000-1667158200@fundacioncajaruraldelsur.com
SUMMARY:VII FORO CONCURSAL SOCIETARIO CIUDAD DE CÓRDOBA
DESCRIPTION:
URL:https://fundacioncajaruraldelsur.com/evento/vii-foro-concursal-societario-ciudad-de-cordoba/2022-09-29/
LOCATION:Fundación Caja Rural del Sur Córdoba\, calle de la Radio 1\, Córdoba\, Córdoba\, 14006\, España
CATEGORIES:Jornadas
ATTACH;FMTTYPE=image/png:https://fundacioncajaruraldelsur.com/wp-content/uploads/2021/03/Copia-de-Copia-de-Sin-titulo.png
END:VEVENT
BEGIN:VEVENT
DTSTART;TZID=Europe/Helsinki:20221018T080000
DTEND;TZID=Europe/Helsinki:20221104T170000
DTSTAMP:20260419T185426
CREATED:20221017T225047Z
LAST-MODIFIED:20221017T225229Z
UID:10000771-1666080000-1667581200@fundacioncajaruraldelsur.com
SUMMARY:OCIB 2022: Exposición: "Parábola. Leer la vida\, vivir los libros"\, de Buly
DESCRIPTION:
URL:https://fundacioncajaruraldelsur.com/evento/ocib-2022-exposicion-parabola-leer-la-vida-vivir-los-libros-de-buly/
LOCATION:Fundación Caja Rural del Sur Huelva\, C/ Alcalde Mora Claros 6-8\, Huelva\, Huelva\, 21001\, España
CATEGORIES:Exposición
ATTACH;FMTTYPE=image/jpeg:https://fundacioncajaruraldelsur.com/wp-content/uploads/2022/10/OCIB.jpg
GEO:37.2583599;-6.9535303
X-APPLE-STRUCTURED-LOCATION;VALUE=URI;X-ADDRESS=Fundación Caja Rural del Sur Huelva C/ Alcalde Mora Claros 6-8 Huelva Huelva 21001 España;X-APPLE-RADIUS=500;X-TITLE=C/ Alcalde Mora Claros 6-8:geo:-6.9535303,37.2583599
END:VEVENT
BEGIN:VEVENT
DTSTART;TZID=Europe/Helsinki:20221020T080000
DTEND;TZID=Europe/Helsinki:20221201T170000
DTSTAMP:20260419T185426
CREATED:20221014T102219Z
LAST-MODIFIED:20221014T102219Z
UID:10000768-1666252800-1669914000@fundacioncajaruraldelsur.com
SUMMARY:Ciclo de Conferencias: La Economía De Francisco
DESCRIPTION:Salón de Grados de la Escuela Técnica Superior de Ingeniería (ETSI)\, Campus El CarmenEl próximo día 20 comienza el ciclo de conferencias «La Economía de Francisco: Principios y Prácticas Responsables para la Organización Industrial y la Gestión Empresarial». \nEste ciclo en el que participarán expertos del mundo universitario y empresarial\, se estructura en tres sesiones distintas que tendrán lugar el 20 de octubre\, 10 de noviembre y 1 de diciembre y en el que se analizarán cuestiones como la Economía Circular\, la conversión ecológica y el cuidado de la «Madre Tierra» y la Economía del Bien Común. Las sesiones tendrán lugar en el salón de grados de la Escuela Técnica Superior de Ingeniería (ETSI). \nEste Ciclo cuenta con el patrocinio de la Cátedra de la Provincia\, la Cátedra Caja Rural de Empresa Familiar y el Vicerrectorado de Innovación y Empleabilidad\, así como con el apoyo de la Unidad de Cultura Científica y de la Innovación (UCC+i) o el SARUH. \n \n 
URL:https://fundacioncajaruraldelsur.com/evento/ciclo-de-conferencias-la-economia-de-francisco/
LOCATION:Salón de Grados de la Escuela Técnica Superior de Ingeniería (ETSI)\, Campus El Carmen\, Huelva\, huelva\, 21007
CATEGORIES:Iniciativa empresarial
END:VEVENT
END:VCALENDAR