BEGIN:VCALENDAR
VERSION:2.0
PRODID:-//Fundación Caja Rural del Sur - ECPv6.15.17//NONSGML v1.0//EN
CALSCALE:GREGORIAN
METHOD:PUBLISH
X-ORIGINAL-URL:https://fundacioncajaruraldelsur.com
X-WR-CALDESC:Eventos para Fundación Caja Rural del Sur
REFRESH-INTERVAL;VALUE=DURATION:PT1H
X-Robots-Tag:noindex
X-PUBLISHED-TTL:PT1H
BEGIN:VTIMEZONE
TZID:Europe/Helsinki
BEGIN:DAYLIGHT
TZOFFSETFROM:+0200
TZOFFSETTO:+0300
TZNAME:EEST
DTSTART:20190331T010000
END:DAYLIGHT
BEGIN:STANDARD
TZOFFSETFROM:+0300
TZOFFSETTO:+0200
TZNAME:EET
DTSTART:20191027T010000
END:STANDARD
BEGIN:DAYLIGHT
TZOFFSETFROM:+0200
TZOFFSETTO:+0300
TZNAME:EEST
DTSTART:20200329T010000
END:DAYLIGHT
BEGIN:STANDARD
TZOFFSETFROM:+0300
TZOFFSETTO:+0200
TZNAME:EET
DTSTART:20201025T010000
END:STANDARD
BEGIN:DAYLIGHT
TZOFFSETFROM:+0200
TZOFFSETTO:+0300
TZNAME:EEST
DTSTART:20210328T010000
END:DAYLIGHT
BEGIN:STANDARD
TZOFFSETFROM:+0300
TZOFFSETTO:+0200
TZNAME:EET
DTSTART:20211031T010000
END:STANDARD
END:VTIMEZONE
BEGIN:VEVENT
DTSTART;TZID=Europe/Helsinki:20200210T110000
DTEND;TZID=Europe/Helsinki:20200328T210000
DTSTAMP:20260421T231338
CREATED:20200127T202446Z
LAST-MODIFIED:20200312T100914Z
UID:10000515-1581332400-1585429200@fundacioncajaruraldelsur.com
SUMMARY:Festival 'Latitudes': Exposición de Bruno Barbey (APLAZADO)
DESCRIPTION:Debido a los recientes acontecimientos y siguiendo las recomendaciones del Ministerio de Sanidad a modo preventivo\, se ha procedido a aplazar todos los conciertos\, presentaciones\, exposiciones e inauguraciones\, con la esperanza de poder reanudar todas las actividades lo antes posible\, señal del buen funcionamiento de las medidas adoptadas por las distintas entidades frente a la propagación del coronavirus. Os mantendremos informados a través de las diferentes vías sobre las novedades. Lamentamos las molestias causadas.  \n  \nEl próximo 10 de febrero al 18 de marzo acogemos en nuestra sede de Huelva la exposición de Bruno Barbey\, Passages\, en el marco del Festival Internacional de Fotografía de Huelva: Latitudes. \nBRUNO BARBEY PASSAGES\n(Marruecos 1941) Durante casi medio siglo Bruno Barbey ha viajado alrededor del mundo capturando momentos de la vida\, fascinado de la figura de Saint-Exupéry\, un explorador por entrenamiento y un esteta por instinto. Siempre supo poner su marca en la Agencia Magnum\, donde entró a los 25 años de edad. \n«Huye de la primicia y la violencia pero nunca te pierdas de una cita con la Historia» Su trabajo es un trabajo de la distancia correcta\, ni muy lejos ni muy cerca. Abraza estos eventos con una humanidad enrarecida\, pero con amabilidad e integridad. La agudeza de su mirada es también la del poeta\, que ama la vida\, el color y a los hombres. \n \nEste francés nació en Marruecos\, allí donde los olores son distintos\, y las olas se mezclan con los cantos del muecín. Esto marcará su visión allí donde viaje\, Camboya\, Jordania\, Egipto\, Irán\, Irlanda\, Bangladesh\, Emiratos Arabes\, India\, Argentina a la vuelta de Perón\, Chile con Allende \, Phnom Penh rodeada de los Jemeres Rojos\, China durante la Revolución Cultural\, Siria y campos de refugiados palestinos\, buscando esos matices y momentos únicos en los que hay que estar. Fotografió a anónimos y jefes de estado\, hambrunas y funerales\, guerras\, festivales y peregrinaciones\, torturadores y a sus víctimas. Sus fotografías muestran la fragilidad y la belleza de este mundo. \nVISITAS\n\nFundación Caja Rural del Sur- Centro Cultural J.L. García Palacios.\nDel 10 de febrero al 28 de marzo. \nL-V11-14h/18-21 h S 11-14h.
URL:https://fundacioncajaruraldelsur.com/evento/festival-latitudes-exposicion-de-bruno-barbey/
LOCATION:Fundación Caja Rural del Sur Huelva\, C/ Alcalde Mora Claros 6-8\, Huelva\, Huelva\, 21001\, España
CATEGORIES:Exposición
ATTACH;FMTTYPE=image/jpeg:https://fundacioncajaruraldelsur.com/wp-content/uploads/2019/01/Exposicion_Fotografia.jpg
GEO:37.2583599;-6.9535303
X-APPLE-STRUCTURED-LOCATION;VALUE=URI;X-ADDRESS=Fundación Caja Rural del Sur Huelva C/ Alcalde Mora Claros 6-8 Huelva Huelva 21001 España;X-APPLE-RADIUS=500;X-TITLE=C/ Alcalde Mora Claros 6-8:geo:-6.9535303,37.2583599
END:VEVENT
BEGIN:VEVENT
DTSTART;TZID=Europe/Helsinki:20200326T080000
DTEND;TZID=Europe/Helsinki:20200328T190000
DTSTAMP:20260421T231338
CREATED:20200303T205725Z
LAST-MODIFIED:20200312T101141Z
UID:10000673-1585209600-1585422000@fundacioncajaruraldelsur.com
SUMMARY:IV Edición de ExpoFARE (Aplazado)
DESCRIPTION:*NOTA INFORMATIVA \nDebido a los recientes acontecimientos y siguiendo las recomendaciones del Ministerio de Sanidad a modo preventivo\, se ha procedido a aplazar todos los conciertos\, presentaciones\, exposiciones e inauguraciones\, con la esperanza de poder reanudar todas las actividades lo antes posible\, señal del buen funcionamiento de las medidas adoptadas por las distintas entidades frente a la propagación del coronavirus. Os mantendremos informados a través de las diferentes vías sobre las novedades. Lamentamos las molestias causadas.  \n  \nLos próximos 26 al 28 de marzo tendrá lugar la nueva edición de ExpoFARE: Feria de la Agricultura de Regadío del Valle del Guadalquivir\, en el Bulevar de la Constitución de Fuente Palmera. ExpoFARE “es una apuesta por el desarrollo económico que permitirá mantener a nuestros municipios”. \n \nAdemás\, se trata de una feria que trabaja para convertirse en un referente regional y cuenta con un gran apoyo público y privado. “También tenemos que ver qué podemos ofrecer a los agricultores\, y para ello buscamos atraer una gran diversidad de productos que proceden seis comunidades autónomas diferentes”\, expone el Responsable del Área de Desarrollo Económico del Ayuntamiento\, José Luis Adame. \nPor último\, el Alcalde de Fuente Palmera\, Francisco Javier Ruiz ha agradecido “la apuesta decidida de las instituciones\, empresas y todos los colaboradores con este proyecto”. ExpoFARE es “un proyecto único especializado en lo que caracteriza al Valle del Guadalquivir: la agricultura de regadío”\, comentaba el Alcalde. \nPara esta IV Edición\, a raíz del acuerdo de colaboración con Ecovalia\, la feria contará con un país invitado que será Portugal\, representado por Agrobio\, la Asociación Portuguesa de Agricultura Ecológica con 7.000 socios y Alfredo Cunhal\, empresario de producción ecológica. De esta forma\, Ruiz ha resumido que  el evento “cumple objetivos para seguir creciendo”. \nDESCRIPCIÓN DEL EVENTO\n\n\n\nExpoFARE: Feria de la Agricultura de Regadío del Valle del Guadalquivir se celebra desde 2017 con carácter anual. El evento apuesta por una temática especializada que no se realiza en otra parte de Andalucía\, la agricultura de regadío. No obstante\, esto tiene unas motivaciones\, y es que Fuente Palmera\, lugar de celebración\, se encuentra ubicada en el centro del Valle del Guadalquivir\, zona de especial importancia en cuanto a agricultura. \nLa sostenibilidad ambiental de la agricultura de regadío es una de las facetas que ExpoFARE quiere poner de relieve en esta edición en la que la contribución a la lucha contra el cambio climático\, la agricultura sostenible\, la producción ecológica\, la biodiversidad\, las energías renovables\, la explotación de acuíferos o el agua como un recurso escaso serán elementos clave en la misma.
URL:https://fundacioncajaruraldelsur.com/evento/iv-edicion-de-expofare/
LOCATION:Bulevar de la Constitución de Fuente Palmera\, Avda. de la Constitución\, Córdoba\, Córdoba\, 14120\, España
CATEGORIES:Ferias
ATTACH;FMTTYPE=image/jpeg:https://fundacioncajaruraldelsur.com/wp-content/uploads/2018/11/historia_finca_2.jpg
END:VEVENT
END:VCALENDAR