BEGIN:VCALENDAR
VERSION:2.0
PRODID:-//Fundación Caja Rural del Sur - ECPv6.15.17//NONSGML v1.0//EN
CALSCALE:GREGORIAN
METHOD:PUBLISH
X-ORIGINAL-URL:https://fundacioncajaruraldelsur.com
X-WR-CALDESC:Eventos para Fundación Caja Rural del Sur
REFRESH-INTERVAL;VALUE=DURATION:PT1H
X-Robots-Tag:noindex
X-PUBLISHED-TTL:PT1H
BEGIN:VTIMEZONE
TZID:Europe/Helsinki
BEGIN:DAYLIGHT
TZOFFSETFROM:+0200
TZOFFSETTO:+0300
TZNAME:EEST
DTSTART:20180325T010000
END:DAYLIGHT
BEGIN:STANDARD
TZOFFSETFROM:+0300
TZOFFSETTO:+0200
TZNAME:EET
DTSTART:20181028T010000
END:STANDARD
BEGIN:DAYLIGHT
TZOFFSETFROM:+0200
TZOFFSETTO:+0300
TZNAME:EEST
DTSTART:20190331T010000
END:DAYLIGHT
BEGIN:STANDARD
TZOFFSETFROM:+0300
TZOFFSETTO:+0200
TZNAME:EET
DTSTART:20191027T010000
END:STANDARD
BEGIN:DAYLIGHT
TZOFFSETFROM:+0200
TZOFFSETTO:+0300
TZNAME:EEST
DTSTART:20200329T010000
END:DAYLIGHT
BEGIN:STANDARD
TZOFFSETFROM:+0300
TZOFFSETTO:+0200
TZNAME:EET
DTSTART:20201025T010000
END:STANDARD
END:VTIMEZONE
BEGIN:VEVENT
DTSTART;TZID=Europe/Helsinki:20190904T200000
DTEND;TZID=Europe/Helsinki:20190928T200000
DTSTAMP:20260419T180607
CREATED:20190904T173540Z
LAST-MODIFIED:20190904T173540Z
UID:10000594-1567627200-1569700800@fundacioncajaruraldelsur.com
SUMMARY:ConDados de Niebla: la aventura de imprimir la belleza
DESCRIPTION:La 12ª edición del Otoño Cultural Iberoamericano (OCIb) comienza esta semana con un amplio programa de actividades culturales que incluye más de 30 eventos entre exposiciones\, conciertos y citas literarias\, entre otros. \nUn evento cuya importancia crece año tras año desde que organizáramos su convocatoria en 2008 por primera vez. El director del OCIb\, Jaime de Vicente Núñez\, ha anunciado este martes la programación y el cartel de esta nueva edición\, obra del creativo publicitario onubense José Luis Macías. \nLa exposición arranca este miércoles 4 de septiembre con la inauguración bajo el título ‘ConDados de Niebla. La aventura de imprimir la belleza’\, a las 20.00 horas\, en la Sala de la Provincia de la Diputación de Huelva. Además\, se estrena este año la página web del Otoño Cultural Iberoamericano\, www.culturaiberoamericana.org\, donde se podrá encontrar toda la información del OCIb. \nEste año la Asociación Cultural Iberoamericana asume la gestión del OCIb\, con el objetivo de incrementar la presencia en los países americanos de la programación. \n  \n 
URL:https://fundacioncajaruraldelsur.com/evento/exposicion-condados-niebla/
LOCATION:Sala de la Provincia. Diputación Provincial de Huelva\, Av. Martín Alonso Pinzón\, 9\,\, Huelva\, Huelva\, 21003
CATEGORIES:Exposiciones
ATTACH;FMTTYPE=image/jpeg:https://fundacioncajaruraldelsur.com/wp-content/uploads/2019/09/Huelva.jpg
END:VEVENT
BEGIN:VEVENT
DTSTART;TZID=Europe/Helsinki:20190912T203000
DTEND;TZID=Europe/Helsinki:20190912T203000
DTSTAMP:20260419T180607
CREATED:20190826T174051Z
LAST-MODIFIED:20190826T174051Z
UID:10000593-1568320200-1568320200@fundacioncajaruraldelsur.com
SUMMARY:Presentación del libro “Memento Práctico Lefebvre de Impuestos Especiales y Medioambientales”
DESCRIPTION:El próximo jueves 12 de septiembre acogemos la presentación del libro “Memento Práctico Lefebvre de Impuestos Especiales y Medioambientales”\, de la editorial Lefebvre. En la presentación participan los autores y socios de EY Abogados D. Alberto García Valera y D. Pedro González-Gaggero y el presidente de Lefebvre D. Juan Pujol. \n\n\n\n\n\n\nA su vez\, durante el acto\, los autores pronunciarán una conferencia sobre “El futuro de la fiscalidad medioambiental y energética en España”\, en la que analizarán la situación actual y perspectivas de evolución de futuro de la fiscalidad sobre las actividades industriales\, el transporte o la generación eléctrica. \nPor su parte\, la clausura del acto estará a cargo del Consejero de Hacienda\, Industria y Energía de la Junta de Andalucía\, D. Juan Bravo y de la Consejera de Agricultura\, Ganadería\, Pesca y Desarrollo Sostenible de la Junta de Andalucía\, Dña. Carmen Crespo. Asimismo\, la presentación cuenta con la participación de D. José Luis García-Palacios Álvarez\, Presidente de Caja Rural del Sur . \nSINOPSIS\n«Memento Impuestos Especiales y Medioambientales» nace con el objeto de cubrir una laguna existente tanto en el ámbito académico como en el profesional respecto de unos impuestos con un enorme peso recaudatorio pero que hasta la fecha no han merecido la atención del mundo del derecho\, debido\, en su mayor parte\, al gran conocimiento práctico que exigen. \nJunto con los Impuestos Especiales\, que tradicionalmente han gravado el consumo de productos específicos (alcohol\, hidrocarburos\, tabaco\, electricidad\, carbón…) se incluyen también los llamados impuestos y tasas de carácter medioambiental que han surgido en los últimos años con el objeto de gravar determinados consumos o actividades que son potencialmente dañinas para el medioambiente. \nDesde esta perspectiva\, este Memento constituye la guía imprescindible para estar al día de todas las cuestiones prácticas relativas a estos impuestos\, incluyendo multitud de consultas y jurisprudencia que permiten resolver las dudas que pueden surgir tanto en las operativas diarias de las empresas como en el cumplimiento del gran número de obligaciones formales que la normativa exige. \nLa obra va dirigida tanto a profesionales del derecho como a empresas que sean titulares de establecimientos afectados por su normativa (fábricas\, depósitos fiscales\, usuarios de los productos afectos\, etc.) ofreciendo una visión eminentemente práctica sobre las diferentes materias\, aportando una gran variedad de ejemplos y comentarios de sus autores\, todos ellos con una amplia experiencia en estos impuestos. \nEl estudio es exhaustivo y abarca las siguientes materias: \n– Impuestos Especiales: alcohol\, bebidas alcohólicas\, hidrocarburos\, electricidad\, matriculación\, carbón. \n– Impuestos Medioambientales: gases fluorados de efectos invernadero\, valor de producción de energía eléctrica\, impuestos sobre el valor de extracción del gas\, petróleo y condensados\, impuestos sobre el almacenamiento y residuos radiactivos\, impuestos autonómicos de carácter medioambiental\, tasas del sector de la energía. \n  \nEn concreto\, el acto se celebrará en el Centro Cultural José Luis García Palacios (Salón de Actos de Fundación Caja Rural del Sur – C/ Murillo 2\, Sevilla). \n\n\n\n\n\n\nAdemás\, si lo desea\, puede reservar su plaza a través de este formulario de inscripción.
URL:https://fundacioncajaruraldelsur.com/evento/presentacion-del-libro-memento-practico-lefebvre-de-impuestos-especiales-y-medioambientales/
LOCATION:Fundación Caja Rural del Sur Sevilla\, C/ Murillo\, 2\, Sevilla\, Sevilla\, 41001\, España
CATEGORIES:conferencias,Presentaciones
ATTACH;FMTTYPE=image/jpeg:https://fundacioncajaruraldelsur.com/wp-content/uploads/2019/08/IMPUESTOS.jpg
GEO:37.2583599;-6.9535303
X-APPLE-STRUCTURED-LOCATION;VALUE=URI;X-ADDRESS=Fundación Caja Rural del Sur Sevilla C/ Murillo 2 Sevilla Sevilla 41001 España;X-APPLE-RADIUS=500;X-TITLE=C/ Murillo\, 2:geo:-6.9535303,37.2583599
END:VEVENT
END:VCALENDAR