BEGIN:VCALENDAR
VERSION:2.0
PRODID:-//Fundación Caja Rural del Sur - ECPv6.15.17//NONSGML v1.0//EN
CALSCALE:GREGORIAN
METHOD:PUBLISH
X-WR-CALNAME:Fundación Caja Rural del Sur
X-ORIGINAL-URL:https://fundacioncajaruraldelsur.com
X-WR-CALDESC:Eventos para Fundación Caja Rural del Sur
REFRESH-INTERVAL;VALUE=DURATION:PT1H
X-Robots-Tag:noindex
X-PUBLISHED-TTL:PT1H
BEGIN:VTIMEZONE
TZID:Europe/Helsinki
BEGIN:DAYLIGHT
TZOFFSETFROM:+0200
TZOFFSETTO:+0300
TZNAME:EEST
DTSTART:20180325T010000
END:DAYLIGHT
BEGIN:STANDARD
TZOFFSETFROM:+0300
TZOFFSETTO:+0200
TZNAME:EET
DTSTART:20181028T010000
END:STANDARD
BEGIN:DAYLIGHT
TZOFFSETFROM:+0200
TZOFFSETTO:+0300
TZNAME:EEST
DTSTART:20190331T010000
END:DAYLIGHT
BEGIN:STANDARD
TZOFFSETFROM:+0300
TZOFFSETTO:+0200
TZNAME:EET
DTSTART:20191027T010000
END:STANDARD
BEGIN:DAYLIGHT
TZOFFSETFROM:+0200
TZOFFSETTO:+0300
TZNAME:EEST
DTSTART:20200329T010000
END:DAYLIGHT
BEGIN:STANDARD
TZOFFSETFROM:+0300
TZOFFSETTO:+0200
TZNAME:EET
DTSTART:20201025T010000
END:STANDARD
END:VTIMEZONE
BEGIN:VEVENT
DTSTART;TZID=Europe/Helsinki:20190618T200000
DTEND;TZID=Europe/Helsinki:20190705T200000
DTSTAMP:20260420T125604
CREATED:20190617T104707Z
LAST-MODIFIED:20190617T104707Z
UID:10000580-1560888000-1562356800@fundacioncajaruraldelsur.com
SUMMARY:Exposición: 'Acuarelas'\, de Julio J. Galeote
DESCRIPTION:El próximo 18 de junio inauguramos la exposición en nuestra sala de exposiciones de Sevilla de Julio Galeote bajo el título: Acuarela. \nEL AUTOR\n \n  \nJ.J. Galeote (Julio José Galeote Dea) nace en Getafe (Madrid) en 1947\, estudia en la Escuela de Artes y Oficios como alumno de Juan Poza y Paco Perpillán y posteriormente con Charles Villeneuve. Más tarde estudia Bellas Artes en la Escuela de San Fernando de Madrid. Dirige su carrera como creativo hacia la publicidad\, trabájando como director de arte posteriormente funda su propio estudio de diseño y arquitectura. Ha compaginado siempre su vocación por la pintura con su trabajo profesional\, exponiendo su obra en distintas galerías e Instituciones. Ha recibido premios y menciones en diferentes concursos nacionales.
URL:https://fundacioncajaruraldelsur.com/evento/exposicion-acuarelas-de-julio-j-galeote/
LOCATION:Fundación Caja Rural del Sur Sevilla\, C/ Murillo\, 2\, Sevilla\, Sevilla\, 41001\, España
CATEGORIES:Exposición
ATTACH;FMTTYPE=image/jpeg:https://fundacioncajaruraldelsur.com/wp-content/uploads/2018/12/Exposicion_Solidaria.jpg
GEO:37.2583599;-6.9535303
X-APPLE-STRUCTURED-LOCATION;VALUE=URI;X-ADDRESS=Fundación Caja Rural del Sur Sevilla C/ Murillo 2 Sevilla Sevilla 41001 España;X-APPLE-RADIUS=500;X-TITLE=C/ Murillo\, 2:geo:-6.9535303,37.2583599
END:VEVENT
BEGIN:VEVENT
DTSTART;TZID=Europe/Helsinki:20190626T060000
DTEND;TZID=Europe/Helsinki:20190626T210000
DTSTAMP:20260420T125604
CREATED:20190621T194002Z
LAST-MODIFIED:20190621T194002Z
UID:10000588-1561528800-1561582800@fundacioncajaruraldelsur.com
SUMMARY:Concierto Audición de fin de curso
DESCRIPTION:El próximo 25 y 26 de junio en Huelva\, la Academia de Música Lydian Road celebra su concierto de final de curso. Tal y como definen en su página web: Es un arte que desarrolla y fomenta nuestras capacidades\, mejora la creatividad y aumenta el optimismo. Como decía Aristóteles: «La música es la forma universal del lenguaje y la lengua de los sentimientos y las emociones”. \n\n\n\nA su vez\, es un estudio de grabación en el centro de Huelva con múltiples salas para dar vida a tus ideas y proyectos musicales. En Lydian Road realizan trabajos que van desde la grabación de bandas sinfónicas en directo hasta pequeñas producciones de artistas noveles\, así que no dejes tu música guardada en un cajón.
URL:https://fundacioncajaruraldelsur.com/evento/concierto-audicion-de-fin-de-curso/2019-06-26/
LOCATION:Fundación Caja Rural del Sur Huelva\, C/ Alcalde Mora Claros 6-8\, Huelva\, Huelva\, 21001\, España
CATEGORIES:Conciertos
ATTACH;FMTTYPE=image/jpeg:https://fundacioncajaruraldelsur.com/wp-content/uploads/2018/10/Concierto_Lirico.jpg
GEO:37.2583599;-6.9535303
X-APPLE-STRUCTURED-LOCATION;VALUE=URI;X-ADDRESS=Fundación Caja Rural del Sur Huelva C/ Alcalde Mora Claros 6-8 Huelva Huelva 21001 España;X-APPLE-RADIUS=500;X-TITLE=C/ Alcalde Mora Claros 6-8:geo:-6.9535303,37.2583599
END:VEVENT
END:VCALENDAR