BEGIN:VCALENDAR
VERSION:2.0
PRODID:-//Fundación Caja Rural del Sur - ECPv6.15.17//NONSGML v1.0//EN
CALSCALE:GREGORIAN
METHOD:PUBLISH
X-ORIGINAL-URL:https://fundacioncajaruraldelsur.com
X-WR-CALDESC:Eventos para Fundación Caja Rural del Sur
REFRESH-INTERVAL;VALUE=DURATION:PT1H
X-Robots-Tag:noindex
X-PUBLISHED-TTL:PT1H
BEGIN:VTIMEZONE
TZID:Europe/Helsinki
BEGIN:DAYLIGHT
TZOFFSETFROM:+0200
TZOFFSETTO:+0300
TZNAME:EEST
DTSTART:20180325T010000
END:DAYLIGHT
BEGIN:STANDARD
TZOFFSETFROM:+0300
TZOFFSETTO:+0200
TZNAME:EET
DTSTART:20181028T010000
END:STANDARD
BEGIN:DAYLIGHT
TZOFFSETFROM:+0200
TZOFFSETTO:+0300
TZNAME:EEST
DTSTART:20190331T010000
END:DAYLIGHT
BEGIN:STANDARD
TZOFFSETFROM:+0300
TZOFFSETTO:+0200
TZNAME:EET
DTSTART:20191027T010000
END:STANDARD
BEGIN:DAYLIGHT
TZOFFSETFROM:+0200
TZOFFSETTO:+0300
TZNAME:EEST
DTSTART:20200329T010000
END:DAYLIGHT
BEGIN:STANDARD
TZOFFSETFROM:+0300
TZOFFSETTO:+0200
TZNAME:EET
DTSTART:20201025T010000
END:STANDARD
END:VTIMEZONE
BEGIN:VEVENT
DTSTART;TZID=Europe/Helsinki:20190112T120000
DTEND;TZID=Europe/Helsinki:20190112T140000
DTSTAMP:20260420T074344
CREATED:20190109T193931Z
LAST-MODIFIED:20190112T113814Z
UID:10000411-1547294400-1547301600@fundacioncajaruraldelsur.com
SUMMARY:Presentación del Cartel 'Semana Santa 2019'
DESCRIPTION:El próximo sábado\, 12 de enero\, a las 12:00 horas\, acogemos en nuestra sede en Sevilla la presentación del cartel de la Semana Santa 2019 del Consejo General de Hermandades y Cofradías de la Ciudad de Sevilla\, como tradicionalmente se viene realizando en los pasados años. Tendrá lugar  gracias a la colaboración que ambas instituciones mantienen y que han renovado con la firma del convenio entre ambas partes. \n\nAsí lo han ratificado este martes el presidente de Caja Rural del Sur y su Fundación\, José Luis García-Palacios Álvarez\, y el presidente del Consejo General de Hermandades y Cofradías de Sevilla\, Francisco Vélez de Luna\, en la firma del convenio de colaboración. \nEn el acto de firma del convenio ambos presidentes han estado acompañados de Emilio Ponce\, director de la Fundación Caja Rural del Sur y de Alejandro Marchena\, tesorero del Consejo de Hermandades. \nDe este modo\, Fundación Caja Rural del Sur continuará apoyando en este año 2019 al Consejo General de Hermandades y Cofradías de la Ciudad de Sevilla en las actividades sociales e institucionales que desarrolla la institución cofradiera. \n\nRETRANSMISIÓN EN DIRECTO\n \n\n 
URL:https://fundacioncajaruraldelsur.com/evento/presentacion-del-cartel-semana-santa-2019/
LOCATION:Fundación Caja Rural del Sur Sevilla\, C/ Murillo\, 2\, Sevilla\, Sevilla\, 41001\, España
CATEGORIES:Presentaciones
ATTACH;FMTTYPE=image/jpeg:https://fundacioncajaruraldelsur.com/wp-content/uploads/2019/01/Semana-Santa.jpg
GEO:37.2583599;-6.9535303
X-APPLE-STRUCTURED-LOCATION;VALUE=URI;X-ADDRESS=Fundación Caja Rural del Sur Sevilla C/ Murillo 2 Sevilla Sevilla 41001 España;X-APPLE-RADIUS=500;X-TITLE=C/ Murillo\, 2:geo:-6.9535303,37.2583599
END:VEVENT
END:VCALENDAR