BEGIN:VCALENDAR
VERSION:2.0
PRODID:-//Fundación Caja Rural del Sur - ECPv6.15.17//NONSGML v1.0//EN
CALSCALE:GREGORIAN
METHOD:PUBLISH
X-WR-CALNAME:Fundación Caja Rural del Sur
X-ORIGINAL-URL:https://fundacioncajaruraldelsur.com
X-WR-CALDESC:Eventos para Fundación Caja Rural del Sur
REFRESH-INTERVAL;VALUE=DURATION:PT1H
X-Robots-Tag:noindex
X-PUBLISHED-TTL:PT1H
BEGIN:VTIMEZONE
TZID:Europe/Helsinki
BEGIN:DAYLIGHT
TZOFFSETFROM:+0200
TZOFFSETTO:+0300
TZNAME:EEST
DTSTART:20170326T010000
END:DAYLIGHT
BEGIN:STANDARD
TZOFFSETFROM:+0300
TZOFFSETTO:+0200
TZNAME:EET
DTSTART:20171029T010000
END:STANDARD
BEGIN:DAYLIGHT
TZOFFSETFROM:+0200
TZOFFSETTO:+0300
TZNAME:EEST
DTSTART:20180325T010000
END:DAYLIGHT
BEGIN:STANDARD
TZOFFSETFROM:+0300
TZOFFSETTO:+0200
TZNAME:EET
DTSTART:20181028T010000
END:STANDARD
BEGIN:DAYLIGHT
TZOFFSETFROM:+0200
TZOFFSETTO:+0300
TZNAME:EEST
DTSTART:20190331T010000
END:DAYLIGHT
BEGIN:STANDARD
TZOFFSETFROM:+0300
TZOFFSETTO:+0200
TZNAME:EET
DTSTART:20191027T010000
END:STANDARD
END:VTIMEZONE
BEGIN:VEVENT
DTSTART;TZID=Europe/Helsinki:20181220T193000
DTEND;TZID=Europe/Helsinki:20181220T193000
DTSTAMP:20260420T125606
CREATED:20181123T174239Z
LAST-MODIFIED:20181217T121527Z
UID:10000476-1545334200-1545334200@fundacioncajaruraldelsur.com
SUMMARY:Presentación del libro: 'La Atlántida\, encontrada y demostrada'\, de Fernando F. Díaz
DESCRIPTION:El próximo 20 de diciembre acogemos en Huelva la presentación  del libro: La Atlántida\, encontrada y demostrada\, del experto docente e investigador onubense Fernando F. Díaz. Durante la presentación\, el autor expondrá unas impactantes y novedosas imágenes cuyo objetivo es fomentar la afluencia turística a la provincia\, dado el calado de su contenido\, así como su difusión a través de distintos canales como Youtube y demás redes sociales.  \n\n\n\n\n\n\nLA INVESTIGACIÓN\nFernando F. Díaz\, siendo además un  gran comunicador\, explicará sus conclusiones tras una investigación rigurosa\, contrastada y prudente sobre la Historia de Huelva y de Europa con una perspectiva fresca\, dinámica y como nunca antes se había contado. En palabras del propio autor: «Vamos a poner a Huelva en su sitio\, en el lugar que por derecho le corresponde».  \n\n\nEn un comunicado\, manifiesta el problema de la desvinculación de sus habitantes\, e insiste en que el conocimiento de su historia ayudará a respetarla\, protegerla y difundirla. Incluye además una guía de visita a la zona y a la capital\, siendo el resultado de años de documentación e investigaciones del Fernando F. Díaz.  \nEl origen de la investigación surgió en el momento en que pudo comprobar ciertas incoherencias en la historia náutica oficial.  En la presentación mencionará también aspectos que afectan a la ría de Huelva\, su evolución\, o el depósito votivo y el casco sacados por las dragas del Puerto. También hablará de los intercambios con Canarias en la antigüedad.  \nEsta guía se basa en hechos científicos e históricos contrastados y reconocidos\, aunque muchas veces poco divulgados o conocidos\, como los tesoros que encierran nuestros museos\, a los que había que dar visibilidad. Hablaremos de las navegaciones humanas y la relación de los guanches con Tartessos.  \nSu objetivo es divulgativo. El autor se compromete a que parte de los ingresos por la venta del libro irán destinados a su difusión\, traducción\, exposiciones y documentales sobre la cultura de Tartessos y la localización de su capital. \nEL AUTOR\nFernando F. Díaz es un pensador con un currículo transversal\, una persona del renacimiento. El conocer muchas áreas del saber le ha permitido interrelacionar conocimientos y asociar ideas\, que de otro modo hubieran permanecido inconexas.  Así\, además de haberse licenciado en una de ellas\, ha procurado leer y conocer de todas las demás. Si hubiese sido licenciado en arqueología\, jamás hubiese podido encontrar La Atlántida\, pues los preconceptos no se lo habrían permitido.  \nNacido en 1.966 e hijo de un Ingeniero del Puerto de Huelva\, se crió frente a su muelle\, viendo cada día cargar los barcos con planchas de cobre y fajos de pasta de papel…rumbo a Escandinavia. Patrón de vela\, navegó por la Bahía\, y es experto en náutica y navegaciones. Trabaja como economista y estudió la carrera de Ingeniería T. Industrial. De joven recorrió la provincia onubense como profesor de colectivos desfavorecidos\, lo que unido a la lectura y la curiosidad por saber le convirtió en un experto conocedor de la zona. Viajero incansable\, se ha documentado para el libro en numerosos museos de Grecia\,  Iberia\, Canarias\, Inglaterra\, Suecia y Noruega. \n– Facebook:\n \n\nFernando Fernandez\nBienvenidos a La Atlántida\nAtlántida encontrada y demostrada\n\n\n\n– Correo electrónico:  ffdiaz@yahoo.com.\n\n 
URL:https://fundacioncajaruraldelsur.com/evento/atlantida-encontrada-demostrada-fernando-f-diaz/
LOCATION:Fundación Caja Rural del Sur Huelva\, C/ Alcalde Mora Claros 6-8\, Huelva\, Huelva\, 21001\, España
CATEGORIES:Presentaciones
ATTACH;FMTTYPE=image/jpeg:https://fundacioncajaruraldelsur.com/wp-content/uploads/2018/11/Atlantida_Presentación_libro.jpg
GEO:37.2583599;-6.9535303
X-APPLE-STRUCTURED-LOCATION;VALUE=URI;X-ADDRESS=Fundación Caja Rural del Sur Huelva C/ Alcalde Mora Claros 6-8 Huelva Huelva 21001 España;X-APPLE-RADIUS=500;X-TITLE=C/ Alcalde Mora Claros 6-8:geo:-6.9535303,37.2583599
END:VEVENT
END:VCALENDAR