BEGIN:VCALENDAR
VERSION:2.0
PRODID:-//Fundación Caja Rural del Sur - ECPv6.15.17//NONSGML v1.0//EN
CALSCALE:GREGORIAN
METHOD:PUBLISH
X-ORIGINAL-URL:https://fundacioncajaruraldelsur.com
X-WR-CALDESC:Eventos para Fundación Caja Rural del Sur
REFRESH-INTERVAL;VALUE=DURATION:PT1H
X-Robots-Tag:noindex
X-PUBLISHED-TTL:PT1H
BEGIN:VTIMEZONE
TZID:Europe/Helsinki
BEGIN:DAYLIGHT
TZOFFSETFROM:+0200
TZOFFSETTO:+0300
TZNAME:EEST
DTSTART:20170326T010000
END:DAYLIGHT
BEGIN:STANDARD
TZOFFSETFROM:+0300
TZOFFSETTO:+0200
TZNAME:EET
DTSTART:20171029T010000
END:STANDARD
BEGIN:DAYLIGHT
TZOFFSETFROM:+0200
TZOFFSETTO:+0300
TZNAME:EEST
DTSTART:20180325T010000
END:DAYLIGHT
BEGIN:STANDARD
TZOFFSETFROM:+0300
TZOFFSETTO:+0200
TZNAME:EET
DTSTART:20181028T010000
END:STANDARD
BEGIN:DAYLIGHT
TZOFFSETFROM:+0200
TZOFFSETTO:+0300
TZNAME:EEST
DTSTART:20190331T010000
END:DAYLIGHT
BEGIN:STANDARD
TZOFFSETFROM:+0300
TZOFFSETTO:+0200
TZNAME:EET
DTSTART:20191027T010000
END:STANDARD
END:VTIMEZONE
BEGIN:VEVENT
DTSTART;TZID=Europe/Helsinki:20181019T200000
DTEND;TZID=Europe/Helsinki:20181019T200000
DTSTAMP:20260423T233747
CREATED:20181015T223729Z
LAST-MODIFIED:20181015T223729Z
UID:10000449-1539979200-1539979200@fundacioncajaruraldelsur.com
SUMMARY:Mesa Redonda entre el Excmo. Sr. D. Jaime Mayor Oreja y el Excmo. Sr. D. Francisco Vázquez Vázquez
DESCRIPTION:El próximo viernes acogemos en nuestro salón de actos la mesa redonda entre el Excmo. Sr. D. Jaime Mayor Oreja y el Excmo. Sr. D. Francisco Vázquez Vázquez. D. Francisco Robles será el encargado de moderar la mesa\, bajo el título «el compromiso del Cristiano en la Vida Pública». \nAdemás de otros cargos públicos el Excmo Sr. D. Jaime Mayor Oreja ha sido ministro de Interior y eurodiputado. Por su parte\, el Excmo. Sr. D. Francisco Vázquez Vázquez ha sido Alcalde de La Coruña y Embajador del Reino de España ante la Santa Sede. \nLa mesa redonda se enmarca dentro del ciclo de conferencias “el compromiso del cristiano en el siglo XXI”\, que se viene celebrando\, como programa formativo del sexto centenario fundacional\, durante el presente curso. \nEl próximo 19 de octubre\, a las 20h en el Salón de actos de la Fundación Caja Rural del Sur\, de Sevilla. \nLa entrada es LIBRE hasta completar el aforo.
URL:https://fundacioncajaruraldelsur.com/evento/mesa-redonda-jaime-mayor-oreja-francisco-vazquez-vazquez/
LOCATION:Fundación Caja Rural del Sur Sevilla\, C/ Murillo\, 2\, Sevilla\, Sevilla\, 41001\, España
CATEGORIES:conferencias
ATTACH;FMTTYPE=image/jpeg:https://fundacioncajaruraldelsur.com/wp-content/uploads/2018/10/Jaime_Mayor_Oreja.jpg
GEO:37.2583599;-6.9535303
X-APPLE-STRUCTURED-LOCATION;VALUE=URI;X-ADDRESS=Fundación Caja Rural del Sur Sevilla C/ Murillo 2 Sevilla Sevilla 41001 España;X-APPLE-RADIUS=500;X-TITLE=C/ Murillo\, 2:geo:-6.9535303,37.2583599
END:VEVENT
END:VCALENDAR